Workbook

Sheet Buscar
B1: Buscar produto — Preços da minha cidade | Z1: =TRIM(SUBSTITUTE(SUBSTITUTE(SUBSTITUTE(SUBSTITUTE(SUBSTITUTE(SUBSTITUTE(SUBSTITUTE(SUBSTITUTE(SUBSTITUTE(SUBSTITUTE(SUBSTITUTE(SUBSTITUTE(SUBSTITUTE(LOWER($C$4),"á","a"),"à","a"),"ã","a"),"â","a"),"é","e"),"ê","e"),"í","i"),"ó","o"),"ô","o"),"õ","o"),"ú","u"),"ç","c"),"-"," ")) -> refrigerante
B2: iSee Hub · iseehub.com.br · Digite na caixa dourada e os produtos aparecem logo abaixo. | Z2: =TRIM(MID(SUBSTITUTE($Z$1," ",REPT(" ",100)),1,100)) -> refrigerante
Z3: =TRIM(MID(SUBSTITUTE($Z$1," ",REPT(" ",100)),101,100))
B4: 🔍 DIGITE AQUI: | C4: refrigerante | Z4: =TRIM(MID(SUBSTITUTE($Z$1," ",REPT(" ",100)),201,100))
C5: =IF($Z$2="","Digite parte do nome, marca ou categoria. Pode usar mais de uma palavra, em qualquer ordem, com ou sem acento.",IF(MAX($Z$8:$Z$207)=0,"Nenhum produto encontrado. Tente só uma palavra, ou uma palavra menor.",MAX($Z$8:$Z$207)&IF(MAX($Z$8:$Z$207)=1," produto encontrado"," produtos encontrados")&IF(MAX($Z$8:$Z$207)>60," — mostrando os 60 primeiros, digite mais para filtrar",""))) -> 1 produto encontrado
B7: Produto | C7: Onde comprei | D7: Data | E7: Preço da caixa | F7: Custo por unidade | Z7: aux
B8: =IFERROR(IF(INDEX('Meus preços da cidade'!$A:$A,MATCH(1,$Z$8:$Z$207,0)+1)="","",INDEX('Meus preços da cidade'!$A:$A,MATCH(1,$Z$8:$Z$207,0)+1)),"") -> Refrigerante lata 350ml | C8: =IFERROR(IF(INDEX('Meus preços da cidade'!$B:$B,MATCH(1,$Z$8:$Z$207,0)+1)="","",INDEX('Meus preços da cidade'!$B:$B,MATCH(1,$Z$8:$Z$207,0)+1)),"") -> Atacado do centro | D8: =IFERROR(IF(INDEX('Meus preços da cidade'!$C:$C,MATCH(1,$Z$8:$Z$207,0)+1)="","",INDEX('Meus preços da cidade'!$C:$C,MATCH(1,$Z$8:$Z$207,0)+1)),"") -> 46266 | E8: =IFERROR(IF(INDEX('Meus preços da cidade'!$E:$E,MATCH(1,$Z$8:$Z$207,0)+1)="","",INDEX('Meus preços da cidade'!$E:$E,MATCH(1,$Z$8:$Z$207,0)+1)),"") -> 34.68 | F8: =IFERROR(IF(INDEX('Meus preços da cidade'!$G:$G,MATCH(1,$Z$8:$Z$207,0)+1)="","",INDEX('Meus preços da cidade'!$G:$G,MATCH(1,$Z$8:$Z$207,0)+1)),"") -> 2.89 | Y8: =SUBSTITUTE(SUBSTITUTE(SUBSTITUTE(SUBSTITUTE(SUBSTITUTE(SUBSTITUTE(SUBSTITUTE(SUBSTITUTE(SUBSTITUTE(SUBSTITUTE(SUBSTITUTE(SUBSTITUTE(SUBSTITUTE(SUBSTITUTE(LOWER('Meus preços da cidade'!A2&" "&'Meus preços da cidade'!B2&" "&'Meus preços da cidade'!H2),"á","a"),"à","a"),"ã","a"),"â","a"),"é","e"),"ê","e"),"í","i"),"ó","o"),"ô","o"),"õ","o"),"ú","u"),"ç","c"),"-"," ")," ","") -> refrigerantelata350mlatacadodocentroexemplo—apagueestalinha | Z8: =IF($Z$2="","",IF(AND(ISNUMBER(SEARCH($Z$2,Y8)),OR($Z$3="",ISNUMBER(SEARCH($Z$3,Y8))),OR($Z$4="",ISNUMBER(SEARCH($Z$4,Y8)))),MAX($Z$7:Z7)+1,"")) -> 1
B9: =IFERROR(IF(INDEX('Meus preços da cidade'!$A:$A,MATCH(2,$Z$8:$Z$207,0)+1)="","",INDEX('Meus preços da cidade'!$A:$A,MATCH(2,$Z$8:$Z$207,0)+1)),"") | C9: =IFERROR(IF(INDEX('Meus preços da cidade'!$B:$B,MATCH(2,$Z$8:$Z$207,0)+1)="","",INDEX('Meus preços da cidade'!$B:$B,MATCH(2,$Z$8:$Z$207,0)+1)),"") | D9: =IFERROR(IF(INDEX('Meus preços da cidade'!$C:$C,MATCH(2,$Z$8:$Z$207,0)+1)="","",INDEX('Meus preços da cidade'!$C:$C,MATCH(2,$Z$8:$Z$207,0)+1)),"") | E9: =IFERROR(IF(INDEX('Meus preços da cidade'!$E:$E,MATCH(2,$Z$8:$Z$207,0)+1)="","",INDEX('Meus preços da cidade'!$E:$E,MATCH(2,$Z$8:$Z$207,0)+1)),"") | F9: =IFERROR(IF(INDEX('Meus preços da cidade'!$G:$G,MATCH(2,$Z$8:$Z$207,0)+1)="","",INDEX('Meus preços da cidade'!$G:$G,MATCH(2,$Z$8:$Z$207,0)+1)),"") | Y9: =SUBSTITUTE(SUBSTITUTE(SUBSTITUTE(SUBSTITUTE(SUBSTITUTE(SUBSTITUTE(SUBSTITUTE(SUBSTITUTE(SUBSTITUTE(SUBSTITUTE(SUBSTITUTE(SUBSTITUTE(SUBSTITUTE(SUBSTITUTE(LOWER('Meus preços da cidade'!A3&" "&'Meus preços da cidade'!B3&" "&'Meus preços da cidade'!H3),"á","a"),"à","a"),"ã","a"),"â","a"),"é","e"),"ê","e"),"í","i"),"ó","o"),"ô","o"),"õ","o"),"ú","u"),"ç","c"),"-"," ")," ","") | Z9: =IF($Z$2="","",IF(AND(ISNUMBER(SEARCH($Z$2,Y9)),OR($Z$3="",ISNUMBER(SEARCH($Z$3,Y9))),OR($Z$4="",ISNUMBER(SEARCH($Z$4,Y9)))),MAX($Z$7:Z8)+1,""))
B10: =IFERROR(IF(INDEX('Meus preços da cidade'!$A:$A,MATCH(3,$Z$8:$Z$207,0)+1)="","",INDEX('Meus preços da cidade'!$A:$A,MATCH(3,$Z$8:$Z$207,0)+1)),"") | C10: =IFERROR(IF(INDEX('Meus preços da cidade'!$B:$B,MATCH(3,$Z$8:$Z$207,0)+1)="","",INDEX('Meus preços da cidade'!$B:$B,MATCH(3,$Z$8:$Z$207,0)+1)),"") | D10: =IFERROR(IF(INDEX('Meus preços da cidade'!$C:$C,MATCH(3,$Z$8:$Z$207,0)+1)="","",INDEX('Meus preços da cidade'!$C:$C,MATCH(3,$Z$8:$Z$207,0)+1)),"") | E10: =IFERROR(IF(INDEX('Meus preços da cidade'!$E:$E,MATCH(3,$Z$8:$Z$207,0)+1)="","",INDEX('Meus preços da cidade'!$E:$E,MATCH(3,$Z$8:$Z$207,0)+1)),"") | F10: =IFERROR(IF(INDEX('Meus preços da cidade'!$G:$G,MATCH(3,$Z$8:$Z$207,0)+1)="","",INDEX('Meus preços da cidade'!$G:$G,MATCH(3,$Z$8:$Z$207,0)+1)),"") | Y10: =SUBSTITUTE(SUBSTITUTE(SUBSTITUTE(SUBSTITUTE(SUBSTITUTE(SUBSTITUTE(SUBSTITUTE(SUBSTITUTE(SUBSTITUTE(SUBSTITUTE(SUBSTITUTE(SUBSTITUTE(SUBSTITUTE(SUBSTITUTE(LOWER('Meus preços da cidade'!A4&" "&'Meus preços da cidade'!B4&" "&'Meus preços da cidade'!H4),"á","a"),"à","a"),"ã","a"),"â","a"),"é","e"),"ê","e"),"í","i"),"ó","o"),"ô","o"),"õ","o"),"ú","u"),"ç","c"),"-"," ")," ","") | Z10: =IF($Z$2="","",IF(AND(ISNUMBER(SEARCH($Z$2,Y10)),OR($Z$3="",ISNUMBER(SEARCH($Z$3,Y10))),OR($Z$4="",ISNUMBER(SEARCH($Z$4,Y10)))),MAX($Z$7:Z9)+1,""))
B11: =IFERROR(IF(INDEX('Meus preços da cidade'!$A:$A,MATCH(4,$Z$8:$Z$207,0)+1)="","",INDEX('Meus preços da cidade'!$A:$A,MATCH(4,$Z$8:$Z$207,0)+1)),"") | C11: =IFERROR(IF(INDEX('Meus preços da cidade'!$B:$B,MATCH(4,$Z$8:$Z$207,0)+1)="","",INDEX('Meus preços da cidade'!$B:$B,MATCH(4,$Z$8:$Z$207,0)+1)),"") | D11: =IFERROR(IF(INDEX('Meus preços da cidade'!$C:$C,MATCH(4,$Z$8:$Z$207,0)+1)="","",INDEX('Meus preços da cidade'!$C:$C,MATCH(4,$Z$8:$Z$207,0)+1)),"") | E11: =IFERROR(IF(INDEX('Meus preços da cidade'!$E:$E,MATCH(4,$Z$8:$Z$207,0)+1)="","",INDEX('Meus preços da cidade'!$E:$E,MATCH(4,$Z$8:$Z$207,0)+1)),"") | F11: =IFERROR(IF(INDEX('Meus preços da cidade'!$G:$G,MATCH(4,$Z$8:$Z$207,0)+1)="","",INDEX('Meus preços da cidade'!$G:$G,MATCH(4,$Z$8:$Z$207,0)+1)),"") | Y11: =SUBSTITUTE(SUBSTITUTE(SUBSTITUTE(SUBSTITUTE(SUBSTITUTE(SUBSTITUTE(SUBSTITUTE(SUBSTITUTE(SUBSTITUTE(SUBSTITUTE(SUBSTITUTE(SUBSTITUTE(SUBSTITUTE(SUBSTITUTE(LOWER('Meus preços da cidade'!A5&" "&'Meus preços da cidade'!B5&" "&'Meus preços da cidade'!H5),"á","a"),"à","a"),"ã","a"),"â","a"),"é","e"),"ê","e"),"í","i"),"ó","o"),"ô","o"),"õ","o"),"ú","u"),"ç","c"),"-"," ")," ","") | Z11: =IF($Z$2="","",IF(AND(ISNUMBER(SEARCH($Z$2,Y11)),OR($Z$3="",ISNUMBER(SEARCH($Z$3,Y11))),OR($Z$4="",ISNUMBER(SEARCH($Z$4,Y11)))),MAX($Z$7:Z10)+1,""))
B12: =IFERROR(IF(INDEX('Meus preços da cidade'!$A:$A,MATCH(5,$Z$8:$Z$207,0)+1)="","",INDEX('Meus preços da cidade'!$A:$A,MATCH(5,$Z$8:$Z$207,0)+1)),"") | C12: =IFERROR(IF(INDEX('Meus preços da cidade'!$B:$B,MATCH(5,$Z$8:$Z$207,0)+1)="","",INDEX('Meus preços da cidade'!$B:$B,MATCH(5,$Z$8:$Z$207,0)+1)),"") | D12: =IFERROR(IF(INDEX('Meus preços da cidade'!$C:$C,MATCH(5,$Z$8:$Z$207,0)+1)="","",INDEX('Meus preços da cidade'!$C:$C,MATCH(5,$Z$8:$Z$207,0)+1)),"") | E12: =IFERROR(IF(INDEX('Meus preços da cidade'!$E:$E,MATCH(5,$Z$8:$Z$207,0)+1)="","",INDEX('Meus preços da cidade'!$E:$E,MATCH(5,$Z$8:$Z$207,0)+1)),"") | F12: =IFERROR(IF(INDEX('Meus preços da cidade'!$G:$G,MATCH(5,$Z$8:$Z$207,0)+1)="","",INDEX('Meus preços da cidade'!$G:$G,MATCH(5,$Z$8:$Z$207,0)+1)),"") | Y12: =SUBSTITUTE(SUBSTITUTE(SUBSTITUTE(SUBSTITUTE(SUBSTITUTE(SUBSTITUTE(SUBSTITUTE(SUBSTITUTE(SUBSTITUTE(SUBSTITUTE(SUBSTITUTE(SUBSTITUTE(SUBSTITUTE(SUBSTITUTE(LOWER('Meus preços da cidade'!A6&" "&'Meus preços da cidade'!B6&" "&'Meus preços da cidade'!H6),"á","a"),"à","a"),"ã","a"),"â","a"),"é","e"),"ê","e"),"í","i"),"ó","o"),"ô","o"),"õ","o"),"ú","u"),"ç","c"),"-"," ")," ","") | Z12: =IF($Z$2="","",IF(AND(ISNUMBER(SEARCH($Z$2,Y12)),OR($Z$3="",ISNUMBER(SEARCH($Z$3,Y12))),OR($Z$4="",ISNUMBER(SEARCH($Z$4,Y12)))),MAX($Z$7:Z11)+1,""))
B13: =IFERROR(IF(INDEX('Meus preços da cidade'!$A:$A,MATCH(6,$Z$8:$Z$207,0)+1)="","",INDEX('Meus preços da cidade'!$A:$A,MATCH(6,$Z$8:$Z$207,0)+1)),"") | C13: =IFERROR(IF(INDEX('Meus preços da cidade'!$B:$B,MATCH(6,$Z$8:$Z$207,0)+1)="","",INDEX('Meus preços da cidade'!$B:$B,MATCH(6,$Z$8:$Z$207,0)+1)),"") | D13: =IFERROR(IF(INDEX('Meus preços da cidade'!$C:$C,MATCH(6,$Z$8:$Z$207,0)+1)="","",INDEX('Meus preços da cidade'!$C:$C,MATCH(6,$Z$8:$Z$207,0)+1)),"") | E13: =IFERROR(IF(INDEX('Meus preços da cidade'!$E:$E,MATCH(6,$Z$8:$Z$207,0)+1)="","",INDEX('Meus preços da cidade'!$E:$E,MATCH(6,$Z$8:$Z$207,0)+1)),"") | F13: =IFERROR(IF(INDEX('Meus preços da cidade'!$G:$G,MATCH(6,$Z$8:$Z$207,0)+1)="","",INDEX('Meus preços da cidade'!$G:$G,MATCH(6,$Z$8:$Z$207,0)+1)),"") | Y13: =SUBSTITUTE(SUBSTITUTE(SUBSTITUTE(SUBSTITUTE(SUBSTITUTE(SUBSTITUTE(SUBSTITUTE(SUBSTITUTE(SUBSTITUTE(SUBSTITUTE(SUBSTITUTE(SUBSTITUTE(SUBSTITUTE(SUBSTITUTE(LOWER('Meus preços da cidade'!A7&" "&'Meus preços da cidade'!B7&" "&'Meus preços da cidade'!H7),"á","a"),"à","a"),"ã","a"),"â","a"),"é","e"),"ê","e"),"í","i"),"ó","o"),"ô","o"),"õ","o"),"ú","u"),"ç","c"),"-"," ")," ","") | Z13: =IF($Z$2="","",IF(AND(ISNUMBER(SEARCH($Z$2,Y13)),OR($Z$3="",ISNUMBER(SEARCH($Z$3,Y13))),OR($Z$4="",ISNUMBER(SEARCH($Z$4,Y13)))),MAX($Z$7:Z12)+1,""))
B14: =IFERROR(IF(INDEX('Meus preços da cidade'!$A:$A,MATCH(7,$Z$8:$Z$207,0)+1)="","",INDEX('Meus preços da cidade'!$A:$A,MATCH(7,$Z$8:$Z$207,0)+1)),"") | C14: =IFERROR(IF(INDEX('Meus preços da cidade'!$B:$B,MATCH(7,$Z$8:$Z$207,0)+1)="","",INDEX('Meus preços da cidade'!$B:$B,MATCH(7,$Z$8:$Z$207,0)+1)),"") | D14: =IFERROR(IF(INDEX('Meus preços da cidade'!$C:$C,MATCH(7,$Z$8:$Z$207,0)+1)="","",INDEX('Meus preços da cidade'!$C:$C,MATCH(7,$Z$8:$Z$207,0)+1)),"") | E14: =IFERROR(IF(INDEX('Meus preços da cidade'!$E:$E,MATCH(7,$Z$8:$Z$207,0)+1)="","",INDEX('Meus preços da cidade'!$E:$E,MATCH(7,$Z$8:$Z$207,0)+1)),"") | F14: =IFERROR(IF(INDEX('Meus preços da cidade'!$G:$G,MATCH(7,$Z$8:$Z$207,0)+1)="","",INDEX('Meus preços da cidade'!$G:$G,MATCH(7,$Z$8:$Z$207,0)+1)),"") | Y14: =SUBSTITUTE(SUBSTITUTE(SUBSTITUTE(SUBSTITUTE(SUBSTITUTE(SUBSTITUTE(SUBSTITUTE(SUBSTITUTE(SUBSTITUTE(SUBSTITUTE(SUBSTITUTE(SUBSTITUTE(SUBSTITUTE(SUBSTITUTE(LOWER('Meus preços da cidade'!A8&" "&'Meus preços da cidade'!B8&" "&'Meus preços da cidade'!H8),"á","a"),"à","a"),"ã","a"),"â","a"),"é","e"),"ê","e"),"í","i"),"ó","o"),"ô","o"),"õ","o"),"ú","u"),"ç","c"),"-"," ")," ","") | Z14: =IF($Z$2="","",IF(AND(ISNUMBER(SEARCH($Z$2,Y14)),OR($Z$3="",ISNUMBER(SEARCH($Z$3,Y14))),OR($Z$4="",ISNUMBER(SEARCH($Z$4,Y14)))),MAX($Z$7:Z13)+1,""))
B15: =IFERROR(IF(INDEX('Meus preços da cidade'!$A:$A,MATCH(8,$Z$8:$Z$207,0)+1)="","",INDEX('Meus preços da cidade'!$A:$A,MATCH(8,$Z$8:$Z$207,0)+1)),"") | C15: =IFERROR(IF(INDEX('Meus preços da cidade'!$B:$B,MATCH(8,$Z$8:$Z$207,0)+1)="","",INDEX('Meus preços da cidade'!$B:$B,MATCH(8,$Z$8:$Z$207,0)+1)),"") | D15: =IFERROR(IF(INDEX('Meus preços da cidade'!$C:$C,MATCH(8,$Z$8:$Z$207,0)+1)="","",INDEX('Meus preços da cidade'!$C:$C,MATCH(8,$Z$8:$Z$207,0)+1)),"") | E15: =IFERROR(IF(INDEX('Meus preços da cidade'!$E:$E,MATCH(8,$Z$8:$Z$207,0)+1)="","",INDEX('Meus preços da cidade'!$E:$E,MATCH(8,$Z$8:$Z$207,0)+1)),"") | F15: =IFERROR(IF(INDEX('Meus preços da cidade'!$G:$G,MATCH(8,$Z$8:$Z$207,0)+1)="","",INDEX('Meus preços da cidade'!$G:$G,MATCH(8,$Z$8:$Z$207,0)+1)),"") | Y15: =SUBSTITUTE(SUBSTITUTE(SUBSTITUTE(SUBSTITUTE(SUBSTITUTE(SUBSTITUTE(SUBSTITUTE(SUBSTITUTE(SUBSTITUTE(SUBSTITUTE(SUBSTITUTE(SUBSTITUTE(SUBSTITUTE(SUBSTITUTE(LOWER('Meus preços da cidade'!A9&" "&'Meus preços da cidade'!B9&" "&'Meus preços da cidade'!H9),"á","a"),"à","a"),"ã","a"),"â","a"),"é","e"),"ê","e"),"í","i"),"ó","o"),"ô","o"),"õ","o"),"ú","u"),"ç","c"),"-"," ")," ","") | Z15: =IF($Z$2="","",IF(AND(ISNUMBER(SEARCH($Z$2,Y15)),OR($Z$3="",ISNUMBER(SEARCH($Z$3,Y15))),OR($Z$4="",ISNUMBER(SEARCH($Z$4,Y15)))),MAX($Z$7:Z14)+1,""))
B16: =IFERROR(IF(INDEX('Meus preços da cidade'!$A:$A,MATCH(9,$Z$8:$Z$207,0)+1)="","",INDEX('Meus preços da cidade'!$A:$A,MATCH(9,$Z$8:$Z$207,0)+1)),"") | C16: =IFERROR(IF(INDEX('Meus preços da cidade'!$B:$B,MATCH(9,$Z$8:$Z$207,0)+1)="","",INDEX('Meus preços da cidade'!$B:$B,MATCH(9,$Z$8:$Z$207,0)+1)),"") | D16: =IFERROR(IF(INDEX('Meus preços da cidade'!$C:$C,MATCH(9,$Z$8:$Z$207,0)+1)="","",INDEX('Meus preços da cidade'!$C:$C,MATCH(9,$Z$8:$Z$207,0)+1)),"") | E16: =IFERROR(IF(INDEX('Meus preços da cidade'!$E:$E,MATCH(9,$Z$8:$Z$207,0)+1)="","",INDEX('Meus preços da cidade'!$E:$E,MATCH(9,$Z$8:$Z$207,0)+1)),"") | F16: =IFERROR(IF(INDEX('Meus preços da cidade'!$G:$G,MATCH(9,$Z$8:$Z$207,0)+1)="","",INDEX('Meus preços da cidade'!$G:$G,MATCH(9,$Z$8:$Z$207,0)+1)),"") | Y16: =SUBSTITUTE(SUBSTITUTE(SUBSTITUTE(SUBSTITUTE(SUBSTITUTE(SUBSTITUTE(SUBSTITUTE(SUBSTITUTE(SUBSTITUTE(SUBSTITUTE(SUBSTITUTE(SUBSTITUTE(SUBSTITUTE(SUBSTITUTE(LOWER('Meus preços da cidade'!A10&" "&'Meus preços da cidade'!B10&" "&'Meus preços da cidade'!H10),"á","a"),"à","a"),"ã","a"),"â","a"),"é","e"),"ê","e"),"í","i"),"ó","o"),"ô","o"),"õ","o"),"ú","u"),"ç","c"),"-"," ")," ","") | Z16: =IF($Z$2="","",IF(AND(ISNUMBER(SEARCH($Z$2,Y16)),OR($Z$3="",ISNUMBER(SEARCH($Z$3,Y16))),OR($Z$4="",ISNUMBER(SEARCH($Z$4,Y16)))),MAX($Z$7:Z15)+1,""))
B17: =IFERROR(IF(INDEX('Meus preços da cidade'!$A:$A,MATCH(10,$Z$8:$Z$207,0)+1)="","",INDEX('Meus preços da cidade'!$A:$A,MATCH(10,$Z$8:$Z$207,0)+1)),"") | C17: =IFERROR(IF(INDEX('Meus preços da cidade'!$B:$B,MATCH(10,$Z$8:$Z$207,0)+1)="","",INDEX('Meus preços da cidade'!$B:$B,MATCH(10,$Z$8:$Z$207,0)+1)),"") | D17: =IFERROR(IF(INDEX('Meus preços da cidade'!$C:$C,MATCH(10,$Z$8:$Z$207,0)+1)="","",INDEX('Meus preços da cidade'!$C:$C,MATCH(10,$Z$8:$Z$207,0)+1)),"") | E17: =IFERROR(IF(INDEX('Meus preços da cidade'!$E:$E,MATCH(10,$Z$8:$Z$207,0)+1)="","",INDEX('Meus preços da cidade'!$E:$E,MATCH(10,$Z$8:$Z$207,0)+1)),"") | F17: =IFERROR(IF(INDEX('Meus preços da cidade'!$G:$G,MATCH(10,$Z$8:$Z$207,0)+1)="","",INDEX('Meus preços da cidade'!$G:$G,MATCH(10,$Z$8:$Z$207,0)+1)),"") | Y17: =SUBSTITUTE(SUBSTITUTE(SUBSTITUTE(SUBSTITUTE(SUBSTITUTE(SUBSTITUTE(SUBSTITUTE(SUBSTITUTE(SUBSTITUTE(SUBSTITUTE(SUBSTITUTE(SUBSTITUTE(SUBSTITUTE(SUBSTITUTE(LOWER('Meus preços da cidade'!A11&" "&'Meus preços da cidade'!B11&" "&'Meus preços da cidade'!H11),"á","a"),"à","a"),"ã","a"),"â","a"),"é","e"),"ê","e"),"í","i"),"ó","o"),"ô","o"),"õ","o"),"ú","u"),"ç","c"),"-"," ")," ","") | Z17: =IF($Z$2="","",IF(AND(ISNUMBER(SEARCH($Z$2,Y17)),OR($Z$3="",ISNUMBER(SEARCH($Z$3,Y17))),OR($Z$4="",ISNUMBER(SEARCH($Z$4,Y17)))),MAX($Z$7:Z16)+1,""))
B18: =IFERROR(IF(INDEX('Meus preços da cidade'!$A:$A,MATCH(11,$Z$8:$Z$207,0)+1)="","",INDEX('Meus preços da cidade'!$A:$A,MATCH(11,$Z$8:$Z$207,0)+1)),"") | C18: =IFERROR(IF(INDEX('Meus preços da cidade'!$B:$B,MATCH(11,$Z$8:$Z$207,0)+1)="","",INDEX('Meus preços da cidade'!$B:$B,MATCH(11,$Z$8:$Z$207,0)+1)),"") | D18: =IFERROR(IF(INDEX('Meus preços da cidade'!$C:$C,MATCH(11,$Z$8:$Z$207,0)+1)="","",INDEX('Meus preços da cidade'!$C:$C,MATCH(11,$Z$8:$Z$207,0)+1)),"") | E18: =IFERROR(IF(INDEX('Meus preços da cidade'!$E:$E,MATCH(11,$Z$8:$Z$207,0)+1)="","",INDEX('Meus preços da cidade'!$E:$E,MATCH(11,$Z$8:$Z$207,0)+1)),"") | F18: =IFERROR(IF(INDEX('Meus preços da cidade'!$G:$G,MATCH(11,$Z$8:$Z$207,0)+1)="","",INDEX('Meus preços da cidade'!$G:$G,MATCH(11,$Z$8:$Z$207,0)+1)),"") | Y18: =SUBSTITUTE(SUBSTITUTE(SUBSTITUTE(SUBSTITUTE(SUBSTITUTE(SUBSTITUTE(SUBSTITUTE(SUBSTITUTE(SUBSTITUTE(SUBSTITUTE(SUBSTITUTE(SUBSTITUTE(SUBSTITUTE(SUBSTITUTE(LOWER('Meus preços da cidade'!A12&" "&'Meus preços da cidade'!B12&" "&'Meus preços da cidade'!H12),"á","a"),"à","a"),"ã","a"),"â","a"),"é","e"),"ê","e"),"í","i"),"ó","o"),"ô","o"),"õ","o"),"ú","u"),"ç","c"),"-"," ")," ","") | Z18: =IF($Z$2="","",IF(AND(ISNUMBER(SEARCH($Z$2,Y18)),OR($Z$3="",ISNUMBER(SEARCH($Z$3,Y18))),OR($Z$4="",ISNUMBER(SEARCH($Z$4,Y18)))),MAX($Z$7:Z17)+1,""))
B19: =IFERROR(IF(INDEX('Meus preços da cidade'!$A:$A,MATCH(12,$Z$8:$Z$207,0)+1)="","",INDEX('Meus preços da cidade'!$A:$A,MATCH(12,$Z$8:$Z$207,0)+1)),"") | C19: =IFERROR(IF(INDEX('Meus preços da cidade'!$B:$B,MATCH(12,$Z$8:$Z$207,0)+1)="","",INDEX('Meus preços da cidade'!$B:$B,MATCH(12,$Z$8:$Z$207,0)+1)),"") | D19: =IFERROR(IF(INDEX('Meus preços da cidade'!$C:$C,MATCH(12,$Z$8:$Z$207,0)+1)="","",INDEX('Meus preços da cidade'!$C:$C,MATCH(12,$Z$8:$Z$207,0)+1)),"") | E19: =IFERROR(IF(INDEX('Meus preços da cidade'!$E:$E,MATCH(12,$Z$8:$Z$207,0)+1)="","",INDEX('Meus preços da cidade'!$E:$E,MATCH(12,$Z$8:$Z$207,0)+1)),"") | F19: =IFERROR(IF(INDEX('Meus preços da cidade'!$G:$G,MATCH(12,$Z$8:$Z$207,0)+1)="","",INDEX('Meus preços da cidade'!$G:$G,MATCH(12,$Z$8:$Z$207,0)+1)),"") | Y19: =SUBSTITUTE(SUBSTITUTE(SUBSTITUTE(SUBSTITUTE(SUBSTITUTE(SUBSTITUTE(SUBSTITUTE(SUBSTITUTE(SUBSTITUTE(SUBSTITUTE(SUBSTITUTE(SUBSTITUTE(SUBSTITUTE(SUBSTITUTE(LOWER('Meus preços da cidade'!A13&" "&'Meus preços da cidade'!B13&" "&'Meus preços da cidade'!H13),"á","a"),"à","a"),"ã","a"),"â","a"),"é","e"),"ê","e"),"í","i"),"ó","o"),"ô","o"),"õ","o"),"ú","u"),"ç","c"),"-"," ")," ","") | Z19: =IF($Z$2="","",IF(AND(ISNUMBER(SEARCH($Z$2,Y19)),OR($Z$3="",ISNUMBER(SEARCH($Z$3,Y19))),OR($Z$4="",ISNUMBER(SEARCH($Z$4,Y19)))),MAX($Z$7:Z18)+1,""))
B20: =IFERROR(IF(INDEX('Meus preços da cidade'!$A:$A,MATCH(13,$Z$8:$Z$207,0)+1)="","",INDEX('Meus preços da cidade'!$A:$A,MATCH(13,$Z$8:$Z$207,0)+1)),"") | C20: =IFERROR(IF(INDEX('Meus preços da cidade'!$B:$B,MATCH(13,$Z$8:$Z$207,0)+1)="","",INDEX('Meus preços da cidade'!$B:$B,MATCH(13,$Z$8:$Z$207,0)+1)),"") | D20: =IFERROR(IF(INDEX('Meus preços da cidade'!$C:$C,MATCH(13,$Z$8:$Z$207,0)+1)="","",INDEX('Meus preços da cidade'!$C:$C,MATCH(13,$Z$8:$Z$207,0)+1)),"") | E20: =IFERROR(IF(INDEX('Meus preços da cidade'!$E:$E,MATCH(13,$Z$8:$Z$207,0)+1)="","",INDEX('Meus preços da cidade'!$E:$E,MATCH(13,$Z$8:$Z$207,0)+1)),"") | F20: =IFERROR(IF(INDEX('Meus preços da cidade'!$G:$G,MATCH(13,$Z$8:$Z$207,0)+1)="","",INDEX('Meus preços da cidade'!$G:$G,MATCH(13,$Z$8:$Z$207,0)+1)),"") | Y20: =SUBSTITUTE(SUBSTITUTE(SUBSTITUTE(SUBSTITUTE(SUBSTITUTE(SUBSTITUTE(SUBSTITUTE(SUBSTITUTE(SUBSTITUTE(SUBSTITUTE(SUBSTITUTE(SUBSTITUTE(SUBSTITUTE(SUBSTITUTE(LOWER('Meus preços da cidade'!A14&" "&'Meus preços da cidade'!B14&" "&'Meus preços da cidade'!H14),"á","a"),"à","a"),"ã","a"),"â","a"),"é","e"),"ê","e"),"í","i"),"ó","o"),"ô","o"),"õ","o"),"ú","u"),"ç","c"),"-"," ")," ","") | Z20: =IF($Z$2="","",IF(AND(ISNUMBER(SEARCH($Z$2,Y20)),OR($Z$3="",ISNUMBER(SEARCH($Z$3,Y20))),OR($Z$4="",ISNUMBER(SEARCH($Z$4,Y20)))),MAX($Z$7:Z19)+1,""))
B21: =IFERROR(IF(INDEX('Meus preços da cidade'!$A:$A,MATCH(14,$Z$8:$Z$207,0)+1)="","",INDEX('Meus preços da cidade'!$A:$A,MATCH(14,$Z$8:$Z$207,0)+1)),"") | C21: =IFERROR(IF(INDEX('Meus preços da cidade'!$B:$B,MATCH(14,$Z$8:$Z$207,0)+1)="","",INDEX('Meus preços da cidade'!$B:$B,MATCH(14,$Z$8:$Z$207,0)+1)),"") | D21: =IFERROR(IF(INDEX('Meus preços da cidade'!$C:$C,MATCH(14,$Z$8:$Z$207,0)+1)="","",INDEX('Meus preços da cidade'!$C:$C,MATCH(14,$Z$8:$Z$207,0)+1)),"") | E21: =IFERROR(IF(INDEX('Meus preços da cidade'!$E:$E,MATCH(14,$Z$8:$Z$207,0)+1)="","",INDEX('Meus preços da cidade'!$E:$E,MATCH(14,$Z$8:$Z$207,0)+1)),"") | F21: =IFERROR(IF(INDEX('Meus preços da cidade'!$G:$G,MATCH(14,$Z$8:$Z$207,0)+1)="","",INDEX('Meus preços da cidade'!$G:$G,MATCH(14,$Z$8:$Z$207,0)+1)),"") | Y21: =SUBSTITUTE(SUBSTITUTE(SUBSTITUTE(SUBSTITUTE(SUBSTITUTE(SUBSTITUTE(SUBSTITUTE(SUBSTITUTE(SUBSTITUTE(SUBSTITUTE(SUBSTITUTE(SUBSTITUTE(SUBSTITUTE(SUBSTITUTE(LOWER('Meus preços da cidade'!A15&" "&'Meus preços da cidade'!B15&" "&'Meus preços da cidade'!H15),"á","a"),"à","a"),"ã","a"),"â","a"),"é","e"),"ê","e"),"í","i"),"ó","o"),"ô","o"),"õ","o"),"ú","u"),"ç","c"),"-"," ")," ","") | Z21: =IF($Z$2="","",IF(AND(ISNUMBER(SEARCH($Z$2,Y21)),OR($Z$3="",ISNUMBER(SEARCH($Z$3,Y21))),OR($Z$4="",ISNUMBER(SEARCH($Z$4,Y21)))),MAX($Z$7:Z20)+1,""))
B22: =IFERROR(IF(INDEX('Meus preços da cidade'!$A:$A,MATCH(15,$Z$8:$Z$207,0)+1)="","",INDEX('Meus preços da cidade'!$A:$A,MATCH(15,$Z$8:$Z$207,0)+1)),"") | C22: =IFERROR(IF(INDEX('Meus preços da cidade'!$B:$B,MATCH(15,$Z$8:$Z$207,0)+1)="","",INDEX('Meus preços da cidade'!$B:$B,MATCH(15,$Z$8:$Z$207,0)+1)),"") | D22: =IFERROR(IF(INDEX('Meus preços da cidade'!$C:$C,MATCH(15,$Z$8:$Z$207,0)+1)="","",INDEX('Meus preços da cidade'!$C:$C,MATCH(15,$Z$8:$Z$207,0)+1)),"") | E22: =IFERROR(IF(INDEX('Meus preços da cidade'!$E:$E,MATCH(15,$Z$8:$Z$207,0)+1)="","",INDEX('Meus preços da cidade'!$E:$E,MATCH(15,$Z$8:$Z$207,0)+1)),"") | F22: =IFERROR(IF(INDEX('Meus preços da cidade'!$G:$G,MATCH(15,$Z$8:$Z$207,0)+1)="","",INDEX('Meus preços da cidade'!$G:$G,MATCH(15,$Z$8:$Z$207,0)+1)),"") | Y22: =SUBSTITUTE(SUBSTITUTE(SUBSTITUTE(SUBSTITUTE(SUBSTITUTE(SUBSTITUTE(SUBSTITUTE(SUBSTITUTE(SUBSTITUTE(SUBSTITUTE(SUBSTITUTE(SUBSTITUTE(SUBSTITUTE(SUBSTITUTE(LOWER('Meus preços da cidade'!A16&" "&'Meus preços da cidade'!B16&" "&'Meus preços da cidade'!H16),"á","a"),"à","a"),"ã","a"),"â","a"),"é","e"),"ê","e"),"í","i"),"ó","o"),"ô","o"),"õ","o"),"ú","u"),"ç","c"),"-"," ")," ","") | Z22: =IF($Z$2="","",IF(AND(ISNUMBER(SEARCH($Z$2,Y22)),OR($Z$3="",ISNUMBER(SEARCH($Z$3,Y22))),OR($Z$4="",ISNUMBER(SEARCH($Z$4,Y22)))),MAX($Z$7:Z21)+1,""))
B23: =IFERROR(IF(INDEX('Meus preços da cidade'!$A:$A,MATCH(16,$Z$8:$Z$207,0)+1)="","",INDEX('Meus preços da cidade'!$A:$A,MATCH(16,$Z$8:$Z$207,0)+1)),"") | C23: =IFERROR(IF(INDEX('Meus preços da cidade'!$B:$B,MATCH(16,$Z$8:$Z$207,0)+1)="","",INDEX('Meus preços da cidade'!$B:$B,MATCH(16,$Z$8:$Z$207,0)+1)),"") | D23: =IFERROR(IF(INDEX('Meus preços da cidade'!$C:$C,MATCH(16,$Z$8:$Z$207,0)+1)="","",INDEX('Meus preços da cidade'!$C:$C,MATCH(16,$Z$8:$Z$207,0)+1)),"") | E23: =IFERROR(IF(INDEX('Meus preços da cidade'!$E:$E,MATCH(16,$Z$8:$Z$207,0)+1)="","",INDEX('Meus preços da cidade'!$E:$E,MATCH(16,$Z$8:$Z$207,0)+1)),"") | F23: =IFERROR(IF(INDEX('Meus preços da cidade'!$G:$G,MATCH(16,$Z$8:$Z$207,0)+1)="","",INDEX('Meus preços da cidade'!$G:$G,MATCH(16,$Z$8:$Z$207,0)+1)),"") | Y23: =SUBSTITUTE(SUBSTITUTE(SUBSTITUTE(SUBSTITUTE(SUBSTITUTE(SUBSTITUTE(SUBSTITUTE(SUBSTITUTE(SUBSTITUTE(SUBSTITUTE(SUBSTITUTE(SUBSTITUTE(SUBSTITUTE(SUBSTITUTE(LOWER('Meus preços da cidade'!A17&" "&'Meus preços da cidade'!B17&" "&'Meus preços da cidade'!H17),"á","a"),"à","a"),"ã","a"),"â","a"),"é","e"),"ê","e"),"í","i"),"ó","o"),"ô","o"),"õ","o"),"ú","u"),"ç","c"),"-"," ")," ","") | Z23: =IF($Z$2="","",IF(AND(ISNUMBER(SEARCH($Z$2,Y23)),OR($Z$3="",ISNUMBER(SEARCH($Z$3,Y23))),OR($Z$4="",ISNUMBER(SEARCH($Z$4,Y23)))),MAX($Z$7:Z22)+1,""))
B24: =IFERROR(IF(INDEX('Meus preços da cidade'!$A:$A,MATCH(17,$Z$8:$Z$207,0)+1)="","",INDEX('Meus preços da cidade'!$A:$A,MATCH(17,$Z$8:$Z$207,0)+1)),"") | C24: =IFERROR(IF(INDEX('Meus preços da cidade'!$B:$B,MATCH(17,$Z$8:$Z$207,0)+1)="","",INDEX('Meus preços da cidade'!$B:$B,MATCH(17,$Z$8:$Z$207,0)+1)),"") | D24: =IFERROR(IF(INDEX('Meus preços da cidade'!$C:$C,MATCH(17,$Z$8:$Z$207,0)+1)="","",INDEX('Meus preços da cidade'!$C:$C,MATCH(17,$Z$8:$Z$207,0)+1)),"") | E24: =IFERROR(IF(INDEX('Meus preços da cidade'!$E:$E,MATCH(17,$Z$8:$Z$207,0)+1)="","",INDEX('Meus preços da cidade'!$E:$E,MATCH(17,$Z$8:$Z$207,0)+1)),"") | F24: =IFERROR(IF(INDEX('Meus preços da cidade'!$G:$G,MATCH(17,$Z$8:$Z$207,0)+1)="","",INDEX('Meus preços da cidade'!$G:$G,MATCH(17,$Z$8:$Z$207,0)+1)),"") | Y24: =SUBSTITUTE(SUBSTITUTE(SUBSTITUTE(SUBSTITUTE(SUBSTITUTE(SUBSTITUTE(SUBSTITUTE(SUBSTITUTE(SUBSTITUTE(SUBSTITUTE(SUBSTITUTE(SUBSTITUTE(SUBSTITUTE(SUBSTITUTE(LOWER('Meus preços da cidade'!A18&" "&'Meus preços da cidade'!B18&" "&'Meus preços da cidade'!H18),"á","a"),"à","a"),"ã","a"),"â","a"),"é","e"),"ê","e"),"í","i"),"ó","o"),"ô","o"),"õ","o"),"ú","u"),"ç","c"),"-"," ")," ","") | Z24: =IF($Z$2="","",IF(AND(ISNUMBER(SEARCH($Z$2,Y24)),OR($Z$3="",ISNUMBER(SEARCH($Z$3,Y24))),OR($Z$4="",ISNUMBER(SEARCH($Z$4,Y24)))),MAX($Z$7:Z23)+1,""))
B25: =IFERROR(IF(INDEX('Meus preços da cidade'!$A:$A,MATCH(18,$Z$8:$Z$207,0)+1)="","",INDEX('Meus preços da cidade'!$A:$A,MATCH(18,$Z$8:$Z$207,0)+1)),"") | C25: =IFERROR(IF(INDEX('Meus preços da cidade'!$B:$B,MATCH(18,$Z$8:$Z$207,0)+1)="","",INDEX('Meus preços da cidade'!$B:$B,MATCH(18,$Z$8:$Z$207,0)+1)),"") | D25: =IFERROR(IF(INDEX('Meus preços da cidade'!$C:$C,MATCH(18,$Z$8:$Z$207,0)+1)="","",INDEX('Meus preços da cidade'!$C:$C,MATCH(18,$Z$8:$Z$207,0)+1)),"") | E25: =IFERROR(IF(INDEX('Meus preços da cidade'!$E:$E,MATCH(18,$Z$8:$Z$207,0)+1)="","",INDEX('Meus preços da cidade'!$E:$E,MATCH(18,$Z$8:$Z$207,0)+1)),"") | F25: =IFERROR(IF(INDEX('Meus preços da cidade'!$G:$G,MATCH(18,$Z$8:$Z$207,0)+1)="","",INDEX('Meus preços da cidade'!$G:$G,MATCH(18,$Z$8:$Z$207,0)+1)),"") | Y25: =SUBSTITUTE(SUBSTITUTE(SUBSTITUTE(SUBSTITUTE(SUBSTITUTE(SUBSTITUTE(SUBSTITUTE(SUBSTITUTE(SUBSTITUTE(SUBSTITUTE(SUBSTITUTE(SUBSTITUTE(SUBSTITUTE(SUBSTITUTE(LOWER('Meus preços da cidade'!A19&" "&'Meus preços da cidade'!B19&" "&'Meus preços da cidade'!H19),"á","a"),"à","a"),"ã","a"),"â","a"),"é","e"),"ê","e"),"í","i"),"ó","o"),"ô","o"),"õ","o"),"ú","u"),"ç","c"),"-"," ")," ","") | Z25: =IF($Z$2="","",IF(AND(ISNUMBER(SEARCH($Z$2,Y25)),OR($Z$3="",ISNUMBER(SEARCH($Z$3,Y25))),OR($Z$4="",ISNUMBER(SEARCH($Z$4,Y25)))),MAX($Z$7:Z24)+1,""))
B26: =IFERROR(IF(INDEX('Meus preços da cidade'!$A:$A,MATCH(19,$Z$8:$Z$207,0)+1)="","",INDEX('Meus preços da cidade'!$A:$A,MATCH(19,$Z$8:$Z$207,0)+1)),"") | C26: =IFERROR(IF(INDEX('Meus preços da cidade'!$B:$B,MATCH(19,$Z$8:$Z$207,0)+1)="","",INDEX('Meus preços da cidade'!$B:$B,MATCH(19,$Z$8:$Z$207,0)+1)),"") | D26: =IFERROR(IF(INDEX('Meus preços da cidade'!$C:$C,MATCH(19,$Z$8:$Z$207,0)+1)="","",INDEX('Meus preços da cidade'!$C:$C,MATCH(19,$Z$8:$Z$207,0)+1)),"") | E26: =IFERROR(IF(INDEX('Meus preços da cidade'!$E:$E,MATCH(19,$Z$8:$Z$207,0)+1)="","",INDEX('Meus preços da cidade'!$E:$E,MATCH(19,$Z$8:$Z$207,0)+1)),"") | F26: =IFERROR(IF(INDEX('Meus preços da cidade'!$G:$G,MATCH(19,$Z$8:$Z$207,0)+1)="","",INDEX('Meus preços da cidade'!$G:$G,MATCH(19,$Z$8:$Z$207,0)+1)),"") | Y26: =SUBSTITUTE(SUBSTITUTE(SUBSTITUTE(SUBSTITUTE(SUBSTITUTE(SUBSTITUTE(SUBSTITUTE(SUBSTITUTE(SUBSTITUTE(SUBSTITUTE(SUBSTITUTE(SUBSTITUTE(SUBSTITUTE(SUBSTITUTE(LOWER('Meus preços da cidade'!A20&" "&'Meus preços da cidade'!B20&" "&'Meus preços da cidade'!H20),"á","a"),"à","a"),"ã","a"),"â","a"),"é","e"),"ê","e"),"í","i"),"ó","o"),"ô","o"),"õ","o"),"ú","u"),"ç","c"),"-"," ")," ","") | Z26: =IF($Z$2="","",IF(AND(ISNUMBER(SEARCH($Z$2,Y26)),OR($Z$3="",ISNUMBER(SEARCH($Z$3,Y26))),OR($Z$4="",ISNUMBER(SEARCH($Z$4,Y26)))),MAX($Z$7:Z25)+1,""))
B27: =IFERROR(IF(INDEX('Meus preços da cidade'!$A:$A,MATCH(20,$Z$8:$Z$207,0)+1)="","",INDEX('Meus preços da cidade'!$A:$A,MATCH(20,$Z$8:$Z$207,0)+1)),"") | C27: =IFERROR(IF(INDEX('Meus preços da cidade'!$B:$B,MATCH(20,$Z$8:$Z$207,0)+1)="","",INDEX('Meus preços da cidade'!$B:$B,MATCH(20,$Z$8:$Z$207,0)+1)),"") | D27: =IFERROR(IF(INDEX('Meus preços da cidade'!$C:$C,MATCH(20,$Z$8:$Z$207,0)+1)="","",INDEX('Meus preços da cidade'!$C:$C,MATCH(20,$Z$8:$Z$207,0)+1)),"") | E27: =IFERROR(IF(INDEX('Meus preços da cidade'!$E:$E,MATCH(20,$Z$8:$Z$207,0)+1)="","",INDEX('Meus preços da cidade'!$E:$E,MATCH(20,$Z$8:$Z$207,0)+1)),"") | F27: =IFERROR(IF(INDEX('Meus preços da cidade'!$G:$G,MATCH(20,$Z$8:$Z$207,0)+1)="","",INDEX('Meus preços da cidade'!$G:$G,MATCH(20,$Z$8:$Z$207,0)+1)),"") | Y27: =SUBSTITUTE(SUBSTITUTE(SUBSTITUTE(SUBSTITUTE(SUBSTITUTE(SUBSTITUTE(SUBSTITUTE(SUBSTITUTE(SUBSTITUTE(SUBSTITUTE(SUBSTITUTE(SUBSTITUTE(SUBSTITUTE(SUBSTITUTE(LOWER('Meus preços da cidade'!A21&" "&'Meus preços da cidade'!B21&" "&'Meus preços da cidade'!H21),"á","a"),"à","a"),"ã","a"),"â","a"),"é","e"),"ê","e"),"í","i"),"ó","o"),"ô","o"),"õ","o"),"ú","u"),"ç","c"),"-"," ")," ","") | Z27: =IF($Z$2="","",IF(AND(ISNUMBER(SEARCH($Z$2,Y27)),OR($Z$3="",ISNUMBER(SEARCH($Z$3,Y27))),OR($Z$4="",ISNUMBER(SEARCH($Z$4,Y27)))),MAX($Z$7:Z26)+1,""))
B28: =IFERROR(IF(INDEX('Meus preços da cidade'!$A:$A,MATCH(21,$Z$8:$Z$207,0)+1)="","",INDEX('Meus preços da cidade'!$A:$A,MATCH(21,$Z$8:$Z$207,0)+1)),"") | C28: =IFERROR(IF(INDEX('Meus preços da cidade'!$B:$B,MATCH(21,$Z$8:$Z$207,0)+1)="","",INDEX('Meus preços da cidade'!$B:$B,MATCH(21,$Z$8:$Z$207,0)+1)),"") | D28: =IFERROR(IF(INDEX('Meus preços da cidade'!$C:$C,MATCH(21,$Z$8:$Z$207,0)+1)="","",INDEX('Meus preços da cidade'!$C:$C,MATCH(21,$Z$8:$Z$207,0)+1)),"") | E28: =IFERROR(IF(INDEX('Meus preços da cidade'!$E:$E,MATCH(21,$Z$8:$Z$207,0)+1)="","",INDEX('Meus preços da cidade'!$E:$E,MATCH(21,$Z$8:$Z$207,0)+1)),"") | F28: =IFERROR(IF(INDEX('Meus preços da cidade'!$G:$G,MATCH(21,$Z$8:$Z$207,0)+1)="","",INDEX('Meus preços da cidade'!$G:$G,MATCH(21,$Z$8:$Z$207,0)+1)),"") | Y28: =SUBSTITUTE(SUBSTITUTE(SUBSTITUTE(SUBSTITUTE(SUBSTITUTE(SUBSTITUTE(SUBSTITUTE(SUBSTITUTE(SUBSTITUTE(SUBSTITUTE(SUBSTITUTE(SUBSTITUTE(SUBSTITUTE(SUBSTITUTE(LOWER('Meus preços da cidade'!A22&" "&'Meus preços da cidade'!B22&" "&'Meus preços da cidade'!H22),"á","a"),"à","a"),"ã","a"),"â","a"),"é","e"),"ê","e"),"í","i"),"ó","o"),"ô","o"),"õ","o"),"ú","u"),"ç","c"),"-"," ")," ","") | Z28: =IF($Z$2="","",IF(AND(ISNUMBER(SEARCH($Z$2,Y28)),OR($Z$3="",ISNUMBER(SEARCH($Z$3,Y28))),OR($Z$4="",ISNUMBER(SEARCH($Z$4,Y28)))),MAX($Z$7:Z27)+1,""))
B29: =IFERROR(IF(INDEX('Meus preços da cidade'!$A:$A,MATCH(22,$Z$8:$Z$207,0)+1)="","",INDEX('Meus preços da cidade'!$A:$A,MATCH(22,$Z$8:$Z$207,0)+1)),"") | C29: =IFERROR(IF(INDEX('Meus preços da cidade'!$B:$B,MATCH(22,$Z$8:$Z$207,0)+1)="","",INDEX('Meus preços da cidade'!$B:$B,MATCH(22,$Z$8:$Z$207,0)+1)),"") | D29: =IFERROR(IF(INDEX('Meus preços da cidade'!$C:$C,MATCH(22,$Z$8:$Z$207,0)+1)="","",INDEX('Meus preços da cidade'!$C:$C,MATCH(22,$Z$8:$Z$207,0)+1)),"") | E29: =IFERROR(IF(INDEX('Meus preços da cidade'!$E:$E,MATCH(22,$Z$8:$Z$207,0)+1)="","",INDEX('Meus preços da cidade'!$E:$E,MATCH(22,$Z$8:$Z$207,0)+1)),"") | F29: =IFERROR(IF(INDEX('Meus preços da cidade'!$G:$G,MATCH(22,$Z$8:$Z$207,0)+1)="","",INDEX('Meus preços da cidade'!$G:$G,MATCH(22,$Z$8:$Z$207,0)+1)),"") | Y29: =SUBSTITUTE(SUBSTITUTE(SUBSTITUTE(SUBSTITUTE(SUBSTITUTE(SUBSTITUTE(SUBSTITUTE(SUBSTITUTE(SUBSTITUTE(SUBSTITUTE(SUBSTITUTE(SUBSTITUTE(SUBSTITUTE(SUBSTITUTE(LOWER('Meus preços da cidade'!A23&" "&'Meus preços da cidade'!B23&" "&'Meus preços da cidade'!H23),"á","a"),"à","a"),"ã","a"),"â","a"),"é","e"),"ê","e"),"í","i"),"ó","o"),"ô","o"),"õ","o"),"ú","u"),"ç","c"),"-"," ")," ","") | Z29: =IF($Z$2="","",IF(AND(ISNUMBER(SEARCH($Z$2,Y29)),OR($Z$3="",ISNUMBER(SEARCH($Z$3,Y29))),OR($Z$4="",ISNUMBER(SEARCH($Z$4,Y29)))),MAX($Z$7:Z28)+1,""))
B30: =IFERROR(IF(INDEX('Meus preços da cidade'!$A:$A,MATCH(23,$Z$8:$Z$207,0)+1)="","",INDEX('Meus preços da cidade'!$A:$A,MATCH(23,$Z$8:$Z$207,0)+1)),"") | C30: =IFERROR(IF(INDEX('Meus preços da cidade'!$B:$B,MATCH(23,$Z$8:$Z$207,0)+1)="","",INDEX('Meus preços da cidade'!$B:$B,MATCH(23,$Z$8:$Z$207,0)+1)),"") | D30: =IFERROR(IF(INDEX('Meus preços da cidade'!$C:$C,MATCH(23,$Z$8:$Z$207,0)+1)="","",INDEX('Meus preços da cidade'!$C:$C,MATCH(23,$Z$8:$Z$207,0)+1)),"") | E30: =IFERROR(IF(INDEX('Meus preços da cidade'!$E:$E,MATCH(23,$Z$8:$Z$207,0)+1)="","",INDEX('Meus preços da cidade'!$E:$E,MATCH(23,$Z$8:$Z$207,0)+1)),"") | F30: =IFERROR(IF(INDEX('Meus preços da cidade'!$G:$G,MATCH(23,$Z$8:$Z$207,0)+1)="","",INDEX('Meus preços da cidade'!$G:$G,MATCH(23,$Z$8:$Z$207,0)+1)),"") | Y30: =SUBSTITUTE(SUBSTITUTE(SUBSTITUTE(SUBSTITUTE(SUBSTITUTE(SUBSTITUTE(SUBSTITUTE(SUBSTITUTE(SUBSTITUTE(SUBSTITUTE(SUBSTITUTE(SUBSTITUTE(SUBSTITUTE(SUBSTITUTE(LOWER('Meus preços da cidade'!A24&" "&'Meus preços da cidade'!B24&" "&'Meus preços da cidade'!H24),"á","a"),"à","a"),"ã","a"),"â","a"),"é","e"),"ê","e"),"í","i"),"ó","o"),"ô","o"),"õ","o"),"ú","u"),"ç","c"),"-"," ")," ","") | Z30: =IF($Z$2="","",IF(AND(ISNUMBER(SEARCH($Z$2,Y30)),OR($Z$3="",ISNUMBER(SEARCH($Z$3,Y30))),OR($Z$4="",ISNUMBER(SEARCH($Z$4,Y30)))),MAX($Z$7:Z29)+1,""))
B31: =IFERROR(IF(INDEX('Meus preços da cidade'!$A:$A,MATCH(24,$Z$8:$Z$207,0)+1)="","",INDEX('Meus preços da cidade'!$A:$A,MATCH(24,$Z$8:$Z$207,0)+1)),"") | C31: =IFERROR(IF(INDEX('Meus preços da cidade'!$B:$B,MATCH(24,$Z$8:$Z$207,0)+1)="","",INDEX('Meus preços da cidade'!$B:$B,MATCH(24,$Z$8:$Z$207,0)+1)),"") | D31: =IFERROR(IF(INDEX('Meus preços da cidade'!$C:$C,MATCH(24,$Z$8:$Z$207,0)+1)="","",INDEX('Meus preços da cidade'!$C:$C,MATCH(24,$Z$8:$Z$207,0)+1)),"") | E31: =IFERROR(IF(INDEX('Meus preços da cidade'!$E:$E,MATCH(24,$Z$8:$Z$207,0)+1)="","",INDEX('Meus preços da cidade'!$E:$E,MATCH(24,$Z$8:$Z$207,0)+1)),"") | F31: =IFERROR(IF(INDEX('Meus preços da cidade'!$G:$G,MATCH(24,$Z$8:$Z$207,0)+1)="","",INDEX('Meus preços da cidade'!$G:$G,MATCH(24,$Z$8:$Z$207,0)+1)),"") | Y31: =SUBSTITUTE(SUBSTITUTE(SUBSTITUTE(SUBSTITUTE(SUBSTITUTE(SUBSTITUTE(SUBSTITUTE(SUBSTITUTE(SUBSTITUTE(SUBSTITUTE(SUBSTITUTE(SUBSTITUTE(SUBSTITUTE(SUBSTITUTE(LOWER('Meus preços da cidade'!A25&" "&'Meus preços da cidade'!B25&" "&'Meus preços da cidade'!H25),"á","a"),"à","a"),"ã","a"),"â","a"),"é","e"),"ê","e"),"í","i"),"ó","o"),"ô","o"),"õ","o"),"ú","u"),"ç","c"),"-"," ")," ","") | Z31: =IF($Z$2="","",IF(AND(ISNUMBER(SEARCH($Z$2,Y31)),OR($Z$3="",ISNUMBER(SEARCH($Z$3,Y31))),OR($Z$4="",ISNUMBER(SEARCH($Z$4,Y31)))),MAX($Z$7:Z30)+1,""))
B32: =IFERROR(IF(INDEX('Meus preços da cidade'!$A:$A,MATCH(25,$Z$8:$Z$207,0)+1)="","",INDEX('Meus preços da cidade'!$A:$A,MATCH(25,$Z$8:$Z$207,0)+1)),"") | C32: =IFERROR(IF(INDEX('Meus preços da cidade'!$B:$B,MATCH(25,$Z$8:$Z$207,0)+1)="","",INDEX('Meus preços da cidade'!$B:$B,MATCH(25,$Z$8:$Z$207,0)+1)),"") | D32: =IFERROR(IF(INDEX('Meus preços da cidade'!$C:$C,MATCH(25,$Z$8:$Z$207,0)+1)="","",INDEX('Meus preços da cidade'!$C:$C,MATCH(25,$Z$8:$Z$207,0)+1)),"") | E32: =IFERROR(IF(INDEX('Meus preços da cidade'!$E:$E,MATCH(25,$Z$8:$Z$207,0)+1)="","",INDEX('Meus preços da cidade'!$E:$E,MATCH(25,$Z$8:$Z$207,0)+1)),"") | F32: =IFERROR(IF(INDEX('Meus preços da cidade'!$G:$G,MATCH(25,$Z$8:$Z$207,0)+1)="","",INDEX('Meus preços da cidade'!$G:$G,MATCH(25,$Z$8:$Z$207,0)+1)),"") | Y32: =SUBSTITUTE(SUBSTITUTE(SUBSTITUTE(SUBSTITUTE(SUBSTITUTE(SUBSTITUTE(SUBSTITUTE(SUBSTITUTE(SUBSTITUTE(SUBSTITUTE(SUBSTITUTE(SUBSTITUTE(SUBSTITUTE(SUBSTITUTE(LOWER('Meus preços da cidade'!A26&" "&'Meus preços da cidade'!B26&" "&'Meus preços da cidade'!H26),"á","a"),"à","a"),"ã","a"),"â","a"),"é","e"),"ê","e"),"í","i"),"ó","o"),"ô","o"),"õ","o"),"ú","u"),"ç","c"),"-"," ")," ","") | Z32: =IF($Z$2="","",IF(AND(ISNUMBER(SEARCH($Z$2,Y32)),OR($Z$3="",ISNUMBER(SEARCH($Z$3,Y32))),OR($Z$4="",ISNUMBER(SEARCH($Z$4,Y32)))),MAX($Z$7:Z31)+1,""))
B33: =IFERROR(IF(INDEX('Meus preços da cidade'!$A:$A,MATCH(26,$Z$8:$Z$207,0)+1)="","",INDEX('Meus preços da cidade'!$A:$A,MATCH(26,$Z$8:$Z$207,0)+1)),"") | C33: =IFERROR(IF(INDEX('Meus preços da cidade'!$B:$B,MATCH(26,$Z$8:$Z$207,0)+1)="","",INDEX('Meus preços da cidade'!$B:$B,MATCH(26,$Z$8:$Z$207,0)+1)),"") | D33: =IFERROR(IF(INDEX('Meus preços da cidade'!$C:$C,MATCH(26,$Z$8:$Z$207,0)+1)="","",INDEX('Meus preços da cidade'!$C:$C,MATCH(26,$Z$8:$Z$207,0)+1)),"") | E33: =IFERROR(IF(INDEX('Meus preços da cidade'!$E:$E,MATCH(26,$Z$8:$Z$207,0)+1)="","",INDEX('Meus preços da cidade'!$E:$E,MATCH(26,$Z$8:$Z$207,0)+1)),"") | F33: =IFERROR(IF(INDEX('Meus preços da cidade'!$G:$G,MATCH(26,$Z$8:$Z$207,0)+1)="","",INDEX('Meus preços da cidade'!$G:$G,MATCH(26,$Z$8:$Z$207,0)+1)),"") | Y33: =SUBSTITUTE(SUBSTITUTE(SUBSTITUTE(SUBSTITUTE(SUBSTITUTE(SUBSTITUTE(SUBSTITUTE(SUBSTITUTE(SUBSTITUTE(SUBSTITUTE(SUBSTITUTE(SUBSTITUTE(SUBSTITUTE(SUBSTITUTE(LOWER('Meus preços da cidade'!A27&" "&'Meus preços da cidade'!B27&" "&'Meus preços da cidade'!H27),"á","a"),"à","a"),"ã","a"),"â","a"),"é","e"),"ê","e"),"í","i"),"ó","o"),"ô","o"),"õ","o"),"ú","u"),"ç","c"),"-"," ")," ","") | Z33: =IF($Z$2="","",IF(AND(ISNUMBER(SEARCH($Z$2,Y33)),OR($Z$3="",ISNUMBER(SEARCH($Z$3,Y33))),OR($Z$4="",ISNUMBER(SEARCH($Z$4,Y33)))),MAX($Z$7:Z32)+1,""))
B34: =IFERROR(IF(INDEX('Meus preços da cidade'!$A:$A,MATCH(27,$Z$8:$Z$207,0)+1)="","",INDEX('Meus preços da cidade'!$A:$A,MATCH(27,$Z$8:$Z$207,0)+1)),"") | C34: =IFERROR(IF(INDEX('Meus preços da cidade'!$B:$B,MATCH(27,$Z$8:$Z$207,0)+1)="","",INDEX('Meus preços da cidade'!$B:$B,MATCH(27,$Z$8:$Z$207,0)+1)),"") | D34: =IFERROR(IF(INDEX('Meus preços da cidade'!$C:$C,MATCH(27,$Z$8:$Z$207,0)+1)="","",INDEX('Meus preços da cidade'!$C:$C,MATCH(27,$Z$8:$Z$207,0)+1)),"") | E34: =IFERROR(IF(INDEX('Meus preços da cidade'!$E:$E,MATCH(27,$Z$8:$Z$207,0)+1)="","",INDEX('Meus preços da cidade'!$E:$E,MATCH(27,$Z$8:$Z$207,0)+1)),"") | F34: =IFERROR(IF(INDEX('Meus preços da cidade'!$G:$G,MATCH(27,$Z$8:$Z$207,0)+1)="","",INDEX('Meus preços da cidade'!$G:$G,MATCH(27,$Z$8:$Z$207,0)+1)),"") | Y34: =SUBSTITUTE(SUBSTITUTE(SUBSTITUTE(SUBSTITUTE(SUBSTITUTE(SUBSTITUTE(SUBSTITUTE(SUBSTITUTE(SUBSTITUTE(SUBSTITUTE(SUBSTITUTE(SUBSTITUTE(SUBSTITUTE(SUBSTITUTE(LOWER('Meus preços da cidade'!A28&" "&'Meus preços da cidade'!B28&" "&'Meus preços da cidade'!H28),"á","a"),"à","a"),"ã","a"),"â","a"),"é","e"),"ê","e"),"í","i"),"ó","o"),"ô","o"),"õ","o"),"ú","u"),"ç","c"),"-"," ")," ","") | Z34: =IF($Z$2="","",IF(AND(ISNUMBER(SEARCH($Z$2,Y34)),OR($Z$3="",ISNUMBER(SEARCH($Z$3,Y34))),OR($Z$4="",ISNUMBER(SEARCH($Z$4,Y34)))),MAX($Z$7:Z33)+1,""))
B35: =IFERROR(IF(INDEX('Meus preços da cidade'!$A:$A,MATCH(28,$Z$8:$Z$207,0)+1)="","",INDEX('Meus preços da cidade'!$A:$A,MATCH(28,$Z$8:$Z$207,0)+1)),"") | C35: =IFERROR(IF(INDEX('Meus preços da cidade'!$B:$B,MATCH(28,$Z$8:$Z$207,0)+1)="","",INDEX('Meus preços da cidade'!$B:$B,MATCH(28,$Z$8:$Z$207,0)+1)),"") | D35: =IFERROR(IF(INDEX('Meus preços da cidade'!$C:$C,MATCH(28,$Z$8:$Z$207,0)+1)="","",INDEX('Meus preços da cidade'!$C:$C,MATCH(28,$Z$8:$Z$207,0)+1)),"") | E35: =IFERROR(IF(INDEX('Meus preços da cidade'!$E:$E,MATCH(28,$Z$8:$Z$207,0)+1)="","",INDEX('Meus preços da cidade'!$E:$E,MATCH(28,$Z$8:$Z$207,0)+1)),"") | F35: =IFERROR(IF(INDEX('Meus preços da cidade'!$G:$G,MATCH(28,$Z$8:$Z$207,0)+1)="","",INDEX('Meus preços da cidade'!$G:$G,MATCH(28,$Z$8:$Z$207,0)+1)),"") | Y35: =SUBSTITUTE(SUBSTITUTE(SUBSTITUTE(SUBSTITUTE(SUBSTITUTE(SUBSTITUTE(SUBSTITUTE(SUBSTITUTE(SUBSTITUTE(SUBSTITUTE(SUBSTITUTE(SUBSTITUTE(SUBSTITUTE(SUBSTITUTE(LOWER('Meus preços da cidade'!A29&" "&'Meus preços da cidade'!B29&" "&'Meus preços da cidade'!H29),"á","a"),"à","a"),"ã","a"),"â","a"),"é","e"),"ê","e"),"í","i"),"ó","o"),"ô","o"),"õ","o"),"ú","u"),"ç","c"),"-"," ")," ","") | Z35: =IF($Z$2="","",IF(AND(ISNUMBER(SEARCH($Z$2,Y35)),OR($Z$3="",ISNUMBER(SEARCH($Z$3,Y35))),OR($Z$4="",ISNUMBER(SEARCH($Z$4,Y35)))),MAX($Z$7:Z34)+1,""))
B36: =IFERROR(IF(INDEX('Meus preços da cidade'!$A:$A,MATCH(29,$Z$8:$Z$207,0)+1)="","",INDEX('Meus preços da cidade'!$A:$A,MATCH(29,$Z$8:$Z$207,0)+1)),"") | C36: =IFERROR(IF(INDEX('Meus preços da cidade'!$B:$B,MATCH(29,$Z$8:$Z$207,0)+1)="","",INDEX('Meus preços da cidade'!$B:$B,MATCH(29,$Z$8:$Z$207,0)+1)),"") | D36: =IFERROR(IF(INDEX('Meus preços da cidade'!$C:$C,MATCH(29,$Z$8:$Z$207,0)+1)="","",INDEX('Meus preços da cidade'!$C:$C,MATCH(29,$Z$8:$Z$207,0)+1)),"") | E36: =IFERROR(IF(INDEX('Meus preços da cidade'!$E:$E,MATCH(29,$Z$8:$Z$207,0)+1)="","",INDEX('Meus preços da cidade'!$E:$E,MATCH(29,$Z$8:$Z$207,0)+1)),"") | F36: =IFERROR(IF(INDEX('Meus preços da cidade'!$G:$G,MATCH(29,$Z$8:$Z$207,0)+1)="","",INDEX('Meus preços da cidade'!$G:$G,MATCH(29,$Z$8:$Z$207,0)+1)),"") | Y36: =SUBSTITUTE(SUBSTITUTE(SUBSTITUTE(SUBSTITUTE(SUBSTITUTE(SUBSTITUTE(SUBSTITUTE(SUBSTITUTE(SUBSTITUTE(SUBSTITUTE(SUBSTITUTE(SUBSTITUTE(SUBSTITUTE(SUBSTITUTE(LOWER('Meus preços da cidade'!A30&" "&'Meus preços da cidade'!B30&" "&'Meus preços da cidade'!H30),"á","a"),"à","a"),"ã","a"),"â","a"),"é","e"),"ê","e"),"í","i"),"ó","o"),"ô","o"),"õ","o"),"ú","u"),"ç","c"),"-"," ")," ","") | Z36: =IF($Z$2="","",IF(AND(ISNUMBER(SEARCH($Z$2,Y36)),OR($Z$3="",ISNUMBER(SEARCH($Z$3,Y36))),OR($Z$4="",ISNUMBER(SEARCH($Z$4,Y36)))),MAX($Z$7:Z35)+1,""))
B37: =IFERROR(IF(INDEX('Meus preços da cidade'!$A:$A,MATCH(30,$Z$8:$Z$207,0)+1)="","",INDEX('Meus preços da cidade'!$A:$A,MATCH(30,$Z$8:$Z$207,0)+1)),"") | C37: =IFERROR(IF(INDEX('Meus preços da cidade'!$B:$B,MATCH(30,$Z$8:$Z$207,0)+1)="","",INDEX('Meus preços da cidade'!$B:$B,MATCH(30,$Z$8:$Z$207,0)+1)),"") | D37: =IFERROR(IF(INDEX('Meus preços da cidade'!$C:$C,MATCH(30,$Z$8:$Z$207,0)+1)="","",INDEX('Meus preços da cidade'!$C:$C,MATCH(30,$Z$8:$Z$207,0)+1)),"") | E37: =IFERROR(IF(INDEX('Meus preços da cidade'!$E:$E,MATCH(30,$Z$8:$Z$207,0)+1)="","",INDEX('Meus preços da cidade'!$E:$E,MATCH(30,$Z$8:$Z$207,0)+1)),"") | F37: =IFERROR(IF(INDEX('Meus preços da cidade'!$G:$G,MATCH(30,$Z$8:$Z$207,0)+1)="","",INDEX('Meus preços da cidade'!$G:$G,MATCH(30,$Z$8:$Z$207,0)+1)),"") | Y37: =SUBSTITUTE(SUBSTITUTE(SUBSTITUTE(SUBSTITUTE(SUBSTITUTE(SUBSTITUTE(SUBSTITUTE(SUBSTITUTE(SUBSTITUTE(SUBSTITUTE(SUBSTITUTE(SUBSTITUTE(SUBSTITUTE(SUBSTITUTE(LOWER('Meus preços da cidade'!A31&" "&'Meus preços da cidade'!B31&" "&'Meus preços da cidade'!H31),"á","a"),"à","a"),"ã","a"),"â","a"),"é","e"),"ê","e"),"í","i"),"ó","o"),"ô","o"),"õ","o"),"ú","u"),"ç","c"),"-"," ")," ","") | Z37: =IF($Z$2="","",IF(AND(ISNUMBER(SEARCH($Z$2,Y37)),OR($Z$3="",ISNUMBER(SEARCH($Z$3,Y37))),OR($Z$4="",ISNUMBER(SEARCH($Z$4,Y37)))),MAX($Z$7:Z36)+1,""))
B38: =IFERROR(IF(INDEX('Meus preços da cidade'!$A:$A,MATCH(31,$Z$8:$Z$207,0)+1)="","",INDEX('Meus preços da cidade'!$A:$A,MATCH(31,$Z$8:$Z$207,0)+1)),"") | C38: =IFERROR(IF(INDEX('Meus preços da cidade'!$B:$B,MATCH(31,$Z$8:$Z$207,0)+1)="","",INDEX('Meus preços da cidade'!$B:$B,MATCH(31,$Z$8:$Z$207,0)+1)),"") | D38: =IFERROR(IF(INDEX('Meus preços da cidade'!$C:$C,MATCH(31,$Z$8:$Z$207,0)+1)="","",INDEX('Meus preços da cidade'!$C:$C,MATCH(31,$Z$8:$Z$207,0)+1)),"") | E38: =IFERROR(IF(INDEX('Meus preços da cidade'!$E:$E,MATCH(31,$Z$8:$Z$207,0)+1)="","",INDEX('Meus preços da cidade'!$E:$E,MATCH(31,$Z$8:$Z$207,0)+1)),"") | F38: =IFERROR(IF(INDEX('Meus preços da cidade'!$G:$G,MATCH(31,$Z$8:$Z$207,0)+1)="","",INDEX('Meus preços da cidade'!$G:$G,MATCH(31,$Z$8:$Z$207,0)+1)),"") | Y38: =SUBSTITUTE(SUBSTITUTE(SUBSTITUTE(SUBSTITUTE(SUBSTITUTE(SUBSTITUTE(SUBSTITUTE(SUBSTITUTE(SUBSTITUTE(SUBSTITUTE(SUBSTITUTE(SUBSTITUTE(SUBSTITUTE(SUBSTITUTE(LOWER('Meus preços da cidade'!A32&" "&'Meus preços da cidade'!B32&" "&'Meus preços da cidade'!H32),"á","a"),"à","a"),"ã","a"),"â","a"),"é","e"),"ê","e"),"í","i"),"ó","o"),"ô","o"),"õ","o"),"ú","u"),"ç","c"),"-"," ")," ","") | Z38: =IF($Z$2="","",IF(AND(ISNUMBER(SEARCH($Z$2,Y38)),OR($Z$3="",ISNUMBER(SEARCH($Z$3,Y38))),OR($Z$4="",ISNUMBER(SEARCH($Z$4,Y38)))),MAX($Z$7:Z37)+1,""))
B39: =IFERROR(IF(INDEX('Meus preços da cidade'!$A:$A,MATCH(32,$Z$8:$Z$207,0)+1)="","",INDEX('Meus preços da cidade'!$A:$A,MATCH(32,$Z$8:$Z$207,0)+1)),"") | C39: =IFERROR(IF(INDEX('Meus preços da cidade'!$B:$B,MATCH(32,$Z$8:$Z$207,0)+1)="","",INDEX('Meus preços da cidade'!$B:$B,MATCH(32,$Z$8:$Z$207,0)+1)),"") | D39: =IFERROR(IF(INDEX('Meus preços da cidade'!$C:$C,MATCH(32,$Z$8:$Z$207,0)+1)="","",INDEX('Meus preços da cidade'!$C:$C,MATCH(32,$Z$8:$Z$207,0)+1)),"") | E39: =IFERROR(IF(INDEX('Meus preços da cidade'!$E:$E,MATCH(32,$Z$8:$Z$207,0)+1)="","",INDEX('Meus preços da cidade'!$E:$E,MATCH(32,$Z$8:$Z$207,0)+1)),"") | F39: =IFERROR(IF(INDEX('Meus preços da cidade'!$G:$G,MATCH(32,$Z$8:$Z$207,0)+1)="","",INDEX('Meus preços da cidade'!$G:$G,MATCH(32,$Z$8:$Z$207,0)+1)),"") | Y39: =SUBSTITUTE(SUBSTITUTE(SUBSTITUTE(SUBSTITUTE(SUBSTITUTE(SUBSTITUTE(SUBSTITUTE(SUBSTITUTE(SUBSTITUTE(SUBSTITUTE(SUBSTITUTE(SUBSTITUTE(SUBSTITUTE(SUBSTITUTE(LOWER('Meus preços da cidade'!A33&" "&'Meus preços da cidade'!B33&" "&'Meus preços da cidade'!H33),"á","a"),"à","a"),"ã","a"),"â","a"),"é","e"),"ê","e"),"í","i"),"ó","o"),"ô","o"),"õ","o"),"ú","u"),"ç","c"),"-"," ")," ","") | Z39: =IF($Z$2="","",IF(AND(ISNUMBER(SEARCH($Z$2,Y39)),OR($Z$3="",ISNUMBER(SEARCH($Z$3,Y39))),OR($Z$4="",ISNUMBER(SEARCH($Z$4,Y39)))),MAX($Z$7:Z38)+1,""))
B40: =IFERROR(IF(INDEX('Meus preços da cidade'!$A:$A,MATCH(33,$Z$8:$Z$207,0)+1)="","",INDEX('Meus preços da cidade'!$A:$A,MATCH(33,$Z$8:$Z$207,0)+1)),"") | C40: =IFERROR(IF(INDEX('Meus preços da cidade'!$B:$B,MATCH(33,$Z$8:$Z$207,0)+1)="","",INDEX('Meus preços da cidade'!$B:$B,MATCH(33,$Z$8:$Z$207,0)+1)),"") | D40: =IFERROR(IF(INDEX('Meus preços da cidade'!$C:$C,MATCH(33,$Z$8:$Z$207,0)+1)="","",INDEX('Meus preços da cidade'!$C:$C,MATCH(33,$Z$8:$Z$207,0)+1)),"") | E40: =IFERROR(IF(INDEX('Meus preços da cidade'!$E:$E,MATCH(33,$Z$8:$Z$207,0)+1)="","",INDEX('Meus preços da cidade'!$E:$E,MATCH(33,$Z$8:$Z$207,0)+1)),"") | F40: =IFERROR(IF(INDEX('Meus preços da cidade'!$G:$G,MATCH(33,$Z$8:$Z$207,0)+1)="","",INDEX('Meus preços da cidade'!$G:$G,MATCH(33,$Z$8:$Z$207,0)+1)),"") | Y40: =SUBSTITUTE(SUBSTITUTE(SUBSTITUTE(SUBSTITUTE(SUBSTITUTE(SUBSTITUTE(SUBSTITUTE(SUBSTITUTE(SUBSTITUTE(SUBSTITUTE(SUBSTITUTE(SUBSTITUTE(SUBSTITUTE(SUBSTITUTE(LOWER('Meus preços da cidade'!A34&" "&'Meus preços da cidade'!B34&" "&'Meus preços da cidade'!H34),"á","a"),"à","a"),"ã","a"),"â","a"),"é","e"),"ê","e"),"í","i"),"ó","o"),"ô","o"),"õ","o"),"ú","u"),"ç","c"),"-"," ")," ","") | Z40: =IF($Z$2="","",IF(AND(ISNUMBER(SEARCH($Z$2,Y40)),OR($Z$3="",ISNUMBER(SEARCH($Z$3,Y40))),OR($Z$4="",ISNUMBER(SEARCH($Z$4,Y40)))),MAX($Z$7:Z39)+1,""))
B41: =IFERROR(IF(INDEX('Meus preços da cidade'!$A:$A,MATCH(34,$Z$8:$Z$207,0)+1)="","",INDEX('Meus preços da cidade'!$A:$A,MATCH(34,$Z$8:$Z$207,0)+1)),"") | C41: =IFERROR(IF(INDEX('Meus preços da cidade'!$B:$B,MATCH(34,$Z$8:$Z$207,0)+1)="","",INDEX('Meus preços da cidade'!$B:$B,MATCH(34,$Z$8:$Z$207,0)+1)),"") | D41: =IFERROR(IF(INDEX('Meus preços da cidade'!$C:$C,MATCH(34,$Z$8:$Z$207,0)+1)="","",INDEX('Meus preços da cidade'!$C:$C,MATCH(34,$Z$8:$Z$207,0)+1)),"") | E41: =IFERROR(IF(INDEX('Meus preços da cidade'!$E:$E,MATCH(34,$Z$8:$Z$207,0)+1)="","",INDEX('Meus preços da cidade'!$E:$E,MATCH(34,$Z$8:$Z$207,0)+1)),"") | F41: =IFERROR(IF(INDEX('Meus preços da cidade'!$G:$G,MATCH(34,$Z$8:$Z$207,0)+1)="","",INDEX('Meus preços da cidade'!$G:$G,MATCH(34,$Z$8:$Z$207,0)+1)),"") | Y41: =SUBSTITUTE(SUBSTITUTE(SUBSTITUTE(SUBSTITUTE(SUBSTITUTE(SUBSTITUTE(SUBSTITUTE(SUBSTITUTE(SUBSTITUTE(SUBSTITUTE(SUBSTITUTE(SUBSTITUTE(SUBSTITUTE(SUBSTITUTE(LOWER('Meus preços da cidade'!A35&" "&'Meus preços da cidade'!B35&" "&'Meus preços da cidade'!H35),"á","a"),"à","a"),"ã","a"),"â","a"),"é","e"),"ê","e"),"í","i"),"ó","o"),"ô","o"),"õ","o"),"ú","u"),"ç","c"),"-"," ")," ","") | Z41: =IF($Z$2="","",IF(AND(ISNUMBER(SEARCH($Z$2,Y41)),OR($Z$3="",ISNUMBER(SEARCH($Z$3,Y41))),OR($Z$4="",ISNUMBER(SEARCH($Z$4,Y41)))),MAX($Z$7:Z40)+1,""))
...

Sheet Meus preços da cidade
A1: Produto | B1: Onde comprei | C1: Data | D1: Unid. na caixa | E1: Preço da caixa (R$) | F1: Frete (R$) | G1: Custo por unidade (R$) | H1: Observações
A2: Refrigerante lata 350ml | B2: Atacado do centro | C2: 46266 | D2: 12 | E2: 34.68 | F2: 0 | G2: =IF(OR(D2="",E2=""),"",IFERROR((E2+N(F2))/D2,"")) -> 2.89 | H2: Exemplo — apague esta linha
G3: =IF(OR(D3="",E3=""),"",IFERROR((E3+N(F3))/D3,""))
G4: =IF(OR(D4="",E4=""),"",IFERROR((E4+N(F4))/D4,""))
G5: =IF(OR(D5="",E5=""),"",IFERROR((E5+N(F5))/D5,""))
G6: =IF(OR(D6="",E6=""),"",IFERROR((E6+N(F6))/D6,""))
G7: =IF(OR(D7="",E7=""),"",IFERROR((E7+N(F7))/D7,""))
G8: =IF(OR(D8="",E8=""),"",IFERROR((E8+N(F8))/D8,""))
G9: =IF(OR(D9="",E9=""),"",IFERROR((E9+N(F9))/D9,""))
G10: =IF(OR(D10="",E10=""),"",IFERROR((E10+N(F10))/D10,""))
G11: =IF(OR(D11="",E11=""),"",IFERROR((E11+N(F11))/D11,""))
G12: =IF(OR(D12="",E12=""),"",IFERROR((E12+N(F12))/D12,""))
G13: =IF(OR(D13="",E13=""),"",IFERROR((E13+N(F13))/D13,""))
G14: =IF(OR(D14="",E14=""),"",IFERROR((E14+N(F14))/D14,""))
... G201: =IF(OR(D201="",E201=""),"",IFERROR((E201+N(F201))/D201,""))

Sheet Como usar
B1: Como usar — Preços da minha cidade
B3: Para que serve | C3: Anote o que você paga hoje na sua cidade. Sem esse número, não dá para saber se a oferta da internet é boa de verdade.
B4: Meus preços da cidade | C4: Preencha só as células em azul. A primeira linha é um exemplo: pode apagar ou escrever por cima.
B5: Custo por unidade | C5: É o preço da caixa mais o frete, dividido pelas unidades da caixa. É esse número que você compara com qualquer oferta da internet — nunca o preço total da caixa.
B6: Buscar | C6: Digite parte do nome na caixa dourada. Pode usar mais de uma palavra, em qualquer ordem, com ou sem acento. Digitando 'choc' ela acha 'Chocolate 90g'. Aparecem todos os produtos que batem com a busca.
B7: Atualize | C7: Atualize os preços a cada dois ou três meses. Preço de atacado muda, e planilha velha engana.
B9: iSee Hub · iseehub.com.br | C9: Fale comigo no WhatsApp
