Workbook

Sheet Buscar
B1: Buscar produto — Preços da minha cidade | Z1: =TRIM(SUBSTITUTE(SUBSTITUTE(SUBSTITUTE(SUBSTITUTE(SUBSTITUTE(SUBSTITUTE(SUBSTITUTE(SUBSTITUTE(SUBSTITUTE(SUBSTITUTE(SUBSTITUTE(SUBSTITUTE(SUBSTITUTE(LOWER($C$4),"á","a"),"à","a"),"ã","a"),"â","a"),"é","e"),"ê","e"),"í","i"),"ó","o"),"ô","o"),"õ","o"),"ú","u"),"ç","c"),"-"," ")) -> refrigerante
B2: iSee Hub · iseehub.com.br · Digite na caixa dourada e os produtos aparecem logo abaixo. | Z2: =TRIM(MID(SUBSTITUTE($Z$1," ",REPT(" ",100)),1,100)) -> refrigerante
Z3: =TRIM(MID(SUBSTITUTE($Z$1," ",REPT(" ",100)),101,100))
B4: 🔍 DIGITE AQUI: | C4: refrigerante | Z4: =TRIM(MID(SUBSTITUTE($Z$1," ",REPT(" ",100)),201,100))
C5: =IF($Z$2="","Digite parte do nome, marca ou categoria. Pode usar mais de uma palavra, em qualquer ordem, com ou sem acento.",IF(MAX($Z$8:$Z$207)=0,"Nenhum produto encontrado. Tente só uma palavra, ou uma palavra menor.",MAX($Z$8:$Z$207)&IF(MAX($Z$8:$Z$207)=1," produto encontrado"," produtos encontrados")&IF(MAX($Z$8:$Z$207)>60," — mostrando os 60 primeiros, digite mais para filtrar",""))) -> 1 produto encontrado
B7: Produto | C7: Onde comprei | D7: Data | E7: Preço da caixa | F7: Custo por unidade | Z7: aux
B8: =IFERROR(IF(INDEX('Meus preços da cidade'!$A:$A,MATCH(1,$Z$8:$Z$207,0)+1)="","",INDEX('Meus preços da cidade'!$A:$A,MATCH(1,$Z$8:$Z$207,0)+1)),"") -> Refrigerante lata 350ml | C8: =IFERROR(IF(INDEX('Meus preços da cidade'!$B:$B,MATCH(1,$Z$8:$Z$207,0)+1)="","",INDEX('Meus preços da cidade'!$B:$B,MATCH(1,$Z$8:$Z$207,0)+1)),"") -> Atacado do centro | D8: =IFERROR(IF(INDEX('Meus preços da cidade'!$C:$C,MATCH(1,$Z$8:$Z$207,0)+1)="","",INDEX('Meus preços da cidade'!$C:$C,MATCH(1,$Z$8:$Z$207,0)+1)),"") -> 46266 | E8: =IFERROR(IF(INDEX('Meus preços da cidade'!$E:$E,MATCH(1,$Z$8:$Z$207,0)+1)="","",INDEX('Meus preços da cidade'!$E:$E,MATCH(1,$Z$8:$Z$207,0)+1)),"") -> 34.68 | F8: =IFERROR(IF(INDEX('Meus preços da cidade'!$G:$G,MATCH(1,$Z$8:$Z$207,0)+1)="","",INDEX('Meus preços da cidade'!$G:$G,MATCH(1,$Z$8:$Z$207,0)+1)),"") -> 2.89 | Y8: =SUBSTITUTE(SUBSTITUTE(SUBSTITUTE(SUBSTITUTE(SUBSTITUTE(SUBSTITUTE(SUBSTITUTE(SUBSTITUTE(SUBSTITUTE(SUBSTITUTE(SUBSTITUTE(SUBSTITUTE(SUBSTITUTE(SUBSTITUTE(LOWER('Meus preços da cidade'!A2&" "&'Meus preços da cidade'!B2&" "&'Meus preços da cidade'!H2),"á","a"),"à","a"),"ã","a"),"â","a"),"é","e"),"ê","e"),"í","i"),"ó","o"),"ô","o"),"õ","o"),"ú","u"),"ç","c"),"-"," ")," ","") -> refrigerantelata350mlatacadodocentroexemplo—apagueestalinha | Z8: =IF($Z$2="","",IF(AND(ISNUMBER(SEARCH($Z$2,Y8)),OR($Z$3="",ISNUMBER(SEARCH($Z$3,Y8))),OR($Z$4="",ISNUMBER(SEARCH($Z$4,Y8)))),MAX($Z$7:Z7)+1,"")) -> 1
B9: =IFERROR(IF(INDEX('Meus preços da cidade'!$A:$A,MATCH(2,$Z$8:$Z$207,0)+1)="","",INDEX('Meus preços da cidade'!$A:$A,MATCH(2,$Z$8:$Z$207,0)+1)),"") | C9: =IFERROR(IF(INDEX('Meus preços da cidade'!$B:$B,MATCH(2,$Z$8:$Z$207,0)+1)="","",INDEX('Meus preços da cidade'!$B:$B,MATCH(2,$Z$8:$Z$207,0)+1)),"") | D9: =IFERROR(IF(INDEX('Meus preços da cidade'!$C:$C,MATCH(2,$Z$8:$Z$207,0)+1)="","",INDEX('Meus preços da cidade'!$C:$C,MATCH(2,$Z$8:$Z$207,0)+1)),"") | E9: =IFERROR(IF(INDEX('Meus preços da cidade'!$E:$E,MATCH(2,$Z$8:$Z$207,0)+1)="","",INDEX('Meus preços da cidade'!$E:$E,MATCH(2,$Z$8:$Z$207,0)+1)),"") | F9: =IFERROR(IF(INDEX('Meus preços da cidade'!$G:$G,MATCH(2,$Z$8:$Z$207,0)+1)="","",INDEX('Meus preços da cidade'!$G:$G,MATCH(2,$Z$8:$Z$207,0)+1)),"") | Y9: =SUBSTITUTE(SUBSTITUTE(SUBSTITUTE(SUBSTITUTE(SUBSTITUTE(SUBSTITUTE(SUBSTITUTE(SUBSTITUTE(SUBSTITUTE(SUBSTITUTE(SUBSTITUTE(SUBSTITUTE(SUBSTITUTE(SUBSTITUTE(LOWER('Meus preços da cidade'!A3&" "&'Meus preços da cidade'!B3&" "&'Meus preços da cidade'!H3),"á","a"),"à","a"),"ã","a"),"â","a"),"é","e"),"ê","e"),"í","i"),"ó","o"),"ô","o"),"õ","o"),"ú","u"),"ç","c"),"-"," ")," ","") | Z9: =IF($Z$2="","",IF(AND(ISNUMBER(SEARCH($Z$2,Y9)),OR($Z$3="",ISNUMBER(SEARCH($Z$3,Y9))),OR($Z$4="",ISNUMBER(SEARCH($Z$4,Y9)))),MAX($Z$7:Z8)+1,""))
B10: =IFERROR(IF(INDEX('Meus preços da cidade'!$A:$A,MATCH(3,$Z$8:$Z$207,0)+1)="","",INDEX('Meus preços da cidade'!$A:$A,MATCH(3,$Z$8:$Z$207,0)+1)),"") | C10: =IFERROR(IF(INDEX('Meus preços da cidade'!$B:$B,MATCH(3,$Z$8:$Z$207,0)+1)="","",INDEX('Meus preços da cidade'!$B:$B,MATCH(3,$Z$8:$Z$207,0)+1)),"") | D10: =IFERROR(IF(INDEX('Meus preços da cidade'!$C:$C,MATCH(3,$Z$8:$Z$207,0)+1)="","",INDEX('Meus preços da cidade'!$C:$C,MATCH(3,$Z$8:$Z$207,0)+1)),"") | E10: =IFERROR(IF(INDEX('Meus preços da cidade'!$E:$E,MATCH(3,$Z$8:$Z$207,0)+1)="","",INDEX('Meus preços da cidade'!$E:$E,MATCH(3,$Z$8:$Z$207,0)+1)),"") | F10: =IFERROR(IF(INDEX('Meus preços da cidade'!$G:$G,MATCH(3,$Z$8:$Z$207,0)+1)="","",INDEX('Meus preços da cidade'!$G:$G,MATCH(3,$Z$8:$Z$207,0)+1)),"") | Y10: =SUBSTITUTE(SUBSTITUTE(SUBSTITUTE(SUBSTITUTE(SUBSTITUTE(SUBSTITUTE(SUBSTITUTE(SUBSTITUTE(SUBSTITUTE(SUBSTITUTE(SUBSTITUTE(SUBSTITUTE(SUBSTITUTE(SUBSTITUTE(LOWER('Meus preços da cidade'!A4&" "&'Meus preços da cidade'!B4&" "&'Meus preços da cidade'!H4),"á","a"),"à","a"),"ã","a"),"â","a"),"é","e"),"ê","e"),"í","i"),"ó","o"),"ô","o"),"õ","o"),"ú","u"),"ç","c"),"-"," ")," ","") | Z10: =IF($Z$2="","",IF(AND(ISNUMBER(SEARCH($Z$2,Y10)),OR($Z$3="",ISNUMBER(SEARCH($Z$3,Y10))),OR($Z$4="",ISNUMBER(SEARCH($Z$4,Y10)))),MAX($Z$7:Z9)+1,""))
B11: =IFERROR(IF(INDEX('Meus preços da cidade'!$A:$A,MATCH(4,$Z$8:$Z$207,0)+1)="","",INDEX('Meus preços da cidade'!$A:$A,MATCH(4,$Z$8:$Z$207,0)+1)),"") | C11: =IFERROR(IF(INDEX('Meus preços da cidade'!$B:$B,MATCH(4,$Z$8:$Z$207,0)+1)="","",INDEX('Meus preços da cidade'!$B:$B,MATCH(4,$Z$8:$Z$207,0)+1)),"") | D11: =IFERROR(IF(INDEX('Meus preços da cidade'!$C:$C,MATCH(4,$Z$8:$Z$207,0)+1)="","",INDEX('Meus preços da cidade'!$C:$C,MATCH(4,$Z$8:$Z$207,0)+1)),"") | E11: =IFERROR(IF(INDEX('Meus preços da cidade'!$E:$E,MATCH(4,$Z$8:$Z$207,0)+1)="","",INDEX('Meus preços da cidade'!$E:$E,MATCH(4,$Z$8:$Z$207,0)+1)),"") | F11: =IFERROR(IF(INDEX('Meus preços da cidade'!$G:$G,MATCH(4,$Z$8:$Z$207,0)+1)="","",INDEX('Meus preços da cidade'!$G:$G,MATCH(4,$Z$8:$Z$207,0)+1)),"") | Y11: =SUBSTITUTE(SUBSTITUTE(SUBSTITUTE(SUBSTITUTE(SUBSTITUTE(SUBSTITUTE(SUBSTITUTE(SUBSTITUTE(SUBSTITUTE(SUBSTITUTE(SUBSTITUTE(SUBSTITUTE(SUBSTITUTE(SUBSTITUTE(LOWER('Meus preços da cidade'!A5&" "&'Meus preços da cidade'!B5&" "&'Meus preços da cidade'!H5),"á","a"),"à","a"),"ã","a"),"â","a"),"é","e"),"ê","e"),"í","i"),"ó","o"),"ô","o"),"õ","o"),"ú","u"),"ç","c"),"-"," ")," ","") | Z11: =IF($Z$2="","",IF(AND(ISNUMBER(SEARCH($Z$2,Y11)),OR($Z$3="",ISNUMBER(SEARCH($Z$3,Y11))),OR($Z$4="",ISNUMBER(SEARCH($Z$4,Y11)))),MAX($Z$7:Z10)+1,""))
B12: =IFERROR(IF(INDEX('Meus preços da cidade'!$A:$A,MATCH(5,$Z$8:$Z$207,0)+1)="","",INDEX('Meus preços da cidade'!$A:$A,MATCH(5,$Z$8:$Z$207,0)+1)),"") | C12: =IFERROR(IF(INDEX('Meus preços da cidade'!$B:$B,MATCH(5,$Z$8:$Z$207,0)+1)="","",INDEX('Meus preços da cidade'!$B:$B,MATCH(5,$Z$8:$Z$207,0)+1)),"") | D12: =IFERROR(IF(INDEX('Meus preços da cidade'!$C:$C,MATCH(5,$Z$8:$Z$207,0)+1)="","",INDEX('Meus preços da cidade'!$C:$C,MATCH(5,$Z$8:$Z$207,0)+1)),"") | E12: =IFERROR(IF(INDEX('Meus preços da cidade'!$E:$E,MATCH(5,$Z$8:$Z$207,0)+1)="","",INDEX('Meus preços da cidade'!$E:$E,MATCH(5,$Z$8:$Z$207,0)+1)),"") | F12: =IFERROR(IF(INDEX('Meus preços da cidade'!$G:$G,MATCH(5,$Z$8:$Z$207,0)+1)="","",INDEX('Meus preços da cidade'!$G:$G,MATCH(5,$Z$8:$Z$207,0)+1)),"") | Y12: =SUBSTITUTE(SUBSTITUTE(SUBSTITUTE(SUBSTITUTE(SUBSTITUTE(SUBSTITUTE(SUBSTITUTE(SUBSTITUTE(SUBSTITUTE(SUBSTITUTE(SUBSTITUTE(SUBSTITUTE(SUBSTITUTE(SUBSTITUTE(LOWER('Meus preços da cidade'!A6&" "&'Meus preços da cidade'!B6&" "&'Meus preços da cidade'!H6),"á","a"),"à","a"),"ã","a"),"â","a"),"é","e"),"ê","e"),"í","i"),"ó","o"),"ô","o"),"õ","o"),"ú","u"),"ç","c"),"-"," ")," ","") | Z12: =IF($Z$2="","",IF(AND(ISNUMBER(SEARCH($Z$2,Y12)),OR($Z$3="",ISNUMBER(SEARCH($Z$3,Y12))),OR($Z$4="",ISNUMBER(SEARCH($Z$4,Y12)))),MAX($Z$7:Z11)+1,""))
B13: =IFERROR(IF(INDEX('Meus preços da cidade'!$A:$A,MATCH(6,$Z$8:$Z$207,0)+1)="","",INDEX('Meus preços da cidade'!$A:$A,MATCH(6,$Z$8:$Z$207,0)+1)),"") | C13: =IFERROR(IF(INDEX('Meus preços da cidade'!$B:$B,MATCH(6,$Z$8:$Z$207,0)+1)="","",INDEX('Meus preços da cidade'!$B:$B,MATCH(6,$Z$8:$Z$207,0)+1)),"") | D13: =IFERROR(IF(INDEX('Meus preços da cidade'!$C:$C,MATCH(6,$Z$8:$Z$207,0)+1)="","",INDEX('Meus preços da cidade'!$C:$C,MATCH(6,$Z$8:$Z$207,0)+1)),"") | E13: =IFERROR(IF(INDEX('Meus preços da cidade'!$E:$E,MATCH(6,$Z$8:$Z$207,0)+1)="","",INDEX('Meus preços da cidade'!$E:$E,MATCH(6,$Z$8:$Z$207,0)+1)),"") | F13: =IFERROR(IF(INDEX('Meus preços da cidade'!$G:$G,MATCH(6,$Z$8:$Z$207,0)+1)="","",INDEX('Meus preços da cidade'!$G:$G,MATCH(6,$Z$8:$Z$207,0)+1)),"") | Y13: =SUBSTITUTE(SUBSTITUTE(SUBSTITUTE(SUBSTITUTE(SUBSTITUTE(SUBSTITUTE(SUBSTITUTE(SUBSTITUTE(SUBSTITUTE(SUBSTITUTE(SUBSTITUTE(SUBSTITUTE(SUBSTITUTE(SUBSTITUTE(LOWER('Meus preços da cidade'!A7&" "&'Meus preços da cidade'!B7&" "&'Meus preços da cidade'!H7),"á","a"),"à","a"),"ã","a"),"â","a"),"é","e"),"ê","e"),"í","i"),"ó","o"),"ô","o"),"õ","o"),"ú","u"),"ç","c"),"-"," ")," ","") | Z13: =IF($Z$2="","",IF(AND(ISNUMBER(SEARCH($Z$2,Y13)),OR($Z$3="",ISNUMBER(SEARCH($Z$3,Y13))),OR($Z$4="",ISNUMBER(SEARCH($Z$4,Y13)))),MAX($Z$7:Z12)+1,""))
B14: =IFERROR(IF(INDEX('Meus preços da cidade'!$A:$A,MATCH(7,$Z$8:$Z$207,0)+1)="","",INDEX('Meus preços da cidade'!$A:$A,MATCH(7,$Z$8:$Z$207,0)+1)),"") | C14: =IFERROR(IF(INDEX('Meus preços da cidade'!$B:$B,MATCH(7,$Z$8:$Z$207,0)+1)="","",INDEX('Meus preços da cidade'!$B:$B,MATCH(7,$Z$8:$Z$207,0)+1)),"") | D14: =IFERROR(IF(INDEX('Meus preços da cidade'!$C:$C,MATCH(7,$Z$8:$Z$207,0)+1)="","",INDEX('Meus preços da cidade'!$C:$C,MATCH(7,$Z$8:$Z$207,0)+1)),"") | E14: =IFERROR(IF(INDEX('Meus preços da cidade'!$E:$E,MATCH(7,$Z$8:$Z$207,0)+1)="","",INDEX('Meus preços da cidade'!$E:$E,MATCH(7,$Z$8:$Z$207,0)+1)),"") | F14: =IFERROR(IF(INDEX('Meus preços da cidade'!$G:$G,MATCH(7,$Z$8:$Z$207,0)+1)="","",INDEX('Meus preços da cidade'!$G:$G,MATCH(7,$Z$8:$Z$207,0)+1)),"") | Y14: =SUBSTITUTE(SUBSTITUTE(SUBSTITUTE(SUBSTITUTE(SUBSTITUTE(SUBSTITUTE(SUBSTITUTE(SUBSTITUTE(SUBSTITUTE(SUBSTITUTE(SUBSTITUTE(SUBSTITUTE(SUBSTITUTE(SUBSTITUTE(LOWER('Meus preços da cidade'!A8&" "&'Meus preços da cidade'!B8&" "&'Meus preços da cidade'!H8),"á","a"),"à","a"),"ã","a"),"â","a"),"é","e"),"ê","e"),"í","i"),"ó","o"),"ô","o"),"õ","o"),"ú","u"),"ç","c"),"-"," ")," ","") | Z14: =IF($Z$2="","",IF(AND(ISNUMBER(SEARCH($Z$2,Y14)),OR($Z$3="",ISNUMBER(SEARCH($Z$3,Y14))),OR($Z$4="",ISNUMBER(SEARCH($Z$4,Y14)))),MAX($Z$7:Z13)+1,""))
B15: =IFERROR(IF(INDEX('Meus preços da cidade'!$A:$A,MATCH(8,$Z$8:$Z$207,0)+1)="","",INDEX('Meus preços da cidade'!$A:$A,MATCH(8,$Z$8:$Z$207,0)+1)),"") | C15: =IFERROR(IF(INDEX('Meus preços da cidade'!$B:$B,MATCH(8,$Z$8:$Z$207,0)+1)="","",INDEX('Meus preços da cidade'!$B:$B,MATCH(8,$Z$8:$Z$207,0)+1)),"") | D15: =IFERROR(IF(INDEX('Meus preços da cidade'!$C:$C,MATCH(8,$Z$8:$Z$207,0)+1)="","",INDEX('Meus preços da cidade'!$C:$C,MATCH(8,$Z$8:$Z$207,0)+1)),"") | E15: =IFERROR(IF(INDEX('Meus preços da cidade'!$E:$E,MATCH(8,$Z$8:$Z$207,0)+1)="","",INDEX('Meus preços da cidade'!$E:$E,MATCH(8,$Z$8:$Z$207,0)+1)),"") | F15: =IFERROR(IF(INDEX('Meus preços da cidade'!$G:$G,MATCH(8,$Z$8:$Z$207,0)+1)="","",INDEX('Meus preços da cidade'!$G:$G,MATCH(8,$Z$8:$Z$207,0)+1)),"") | Y15: =SUBSTITUTE(SUBSTITUTE(SUBSTITUTE(SUBSTITUTE(SUBSTITUTE(SUBSTITUTE(SUBSTITUTE(SUBSTITUTE(SUBSTITUTE(SUBSTITUTE(SUBSTITUTE(SUBSTITUTE(SUBSTITUTE(SUBSTITUTE(LOWER('Meus preços da cidade'!A9&" "&'Meus preços da cidade'!B9&" "&'Meus preços da cidade'!H9),"á","a"),"à","a"),"ã","a"),"â","a"),"é","e"),"ê","e"),"í","i"),"ó","o"),"ô","o"),"õ","o"),"ú","u"),"ç","c"),"-"," ")," ","") | Z15: =IF($Z$2="","",IF(AND(ISNUMBER(SEARCH($Z$2,Y15)),OR($Z$3="",ISNUMBER(SEARCH($Z$3,Y15))),OR($Z$4="",ISNUMBER(SEARCH($Z$4,Y15)))),MAX($Z$7:Z14)+1,""))
B16: =IFERROR(IF(INDEX('Meus preços da cidade'!$A:$A,MATCH(9,$Z$8:$Z$207,0)+1)="","",INDEX('Meus preços da cidade'!$A:$A,MATCH(9,$Z$8:$Z$207,0)+1)),"") | C16: =IFERROR(IF(INDEX('Meus preços da cidade'!$B:$B,MATCH(9,$Z$8:$Z$207,0)+1)="","",INDEX('Meus preços da cidade'!$B:$B,MATCH(9,$Z$8:$Z$207,0)+1)),"") | D16: =IFERROR(IF(INDEX('Meus preços da cidade'!$C:$C,MATCH(9,$Z$8:$Z$207,0)+1)="","",INDEX('Meus preços da cidade'!$C:$C,MATCH(9,$Z$8:$Z$207,0)+1)),"") | E16: =IFERROR(IF(INDEX('Meus preços da cidade'!$E:$E,MATCH(9,$Z$8:$Z$207,0)+1)="","",INDEX('Meus preços da cidade'!$E:$E,MATCH(9,$Z$8:$Z$207,0)+1)),"") | F16: =IFERROR(IF(INDEX('Meus preços da cidade'!$G:$G,MATCH(9,$Z$8:$Z$207,0)+1)="","",INDEX('Meus preços da cidade'!$G:$G,MATCH(9,$Z$8:$Z$207,0)+1)),"") | Y16: =SUBSTITUTE(SUBSTITUTE(SUBSTITUTE(SUBSTITUTE(SUBSTITUTE(SUBSTITUTE(SUBSTITUTE(SUBSTITUTE(SUBSTITUTE(SUBSTITUTE(SUBSTITUTE(SUBSTITUTE(SUBSTITUTE(SUBSTITUTE(LOWER('Meus preços da cidade'!A10&" "&'Meus preços da cidade'!B10&" "&'Meus preços da cidade'!H10),"á","a"),"à","a"),"ã","a"),"â","a"),"é","e"),"ê","e"),"í","i"),"ó","o"),"ô","o"),"õ","o"),"ú","u"),"ç","c"),"-"," ")," ","") | Z16: =IF($Z$2="","",IF(AND(ISNUMBER(SEARCH($Z$2,Y16)),OR($Z$3="",ISNUMBER(SEARCH($Z$3,Y16))),OR($Z$4="",ISNUMBER(SEARCH($Z$4,Y16)))),MAX($Z$7:Z15)+1,""))
B17: =IFERROR(IF(INDEX('Meus preços da cidade'!$A:$A,MATCH(10,$Z$8:$Z$207,0)+1)="","",INDEX('Meus preços da cidade'!$A:$A,MATCH(10,$Z$8:$Z$207,0)+1)),"") | C17: =IFERROR(IF(INDEX('Meus preços da cidade'!$B:$B,MATCH(10,$Z$8:$Z$207,0)+1)="","",INDEX('Meus preços da cidade'!$B:$B,MATCH(10,$Z$8:$Z$207,0)+1)),"") | D17: =IFERROR(IF(INDEX('Meus preços da cidade'!$C:$C,MATCH(10,$Z$8:$Z$207,0)+1)="","",INDEX('Meus preços da cidade'!$C:$C,MATCH(10,$Z$8:$Z$207,0)+1)),"") | E17: =IFERROR(IF(INDEX('Meus preços da cidade'!$E:$E,MATCH(10,$Z$8:$Z$207,0)+1)="","",INDEX('Meus preços da cidade'!$E:$E,MATCH(10,$Z$8:$Z$207,0)+1)),"") | F17: =IFERROR(IF(INDEX('Meus preços da cidade'!$G:$G,MATCH(10,$Z$8:$Z$207,0)+1)="","",INDEX('Meus preços da cidade'!$G:$G,MATCH(10,$Z$8:$Z$207,0)+1)),"") | Y17: =SUBSTITUTE(SUBSTITUTE(SUBSTITUTE(SUBSTITUTE(SUBSTITUTE(SUBSTITUTE(SUBSTITUTE(SUBSTITUTE(SUBSTITUTE(SUBSTITUTE(SUBSTITUTE(SUBSTITUTE(SUBSTITUTE(SUBSTITUTE(LOWER('Meus preços da cidade'!A11&" "&'Meus preços da cidade'!B11&" "&'Meus preços da cidade'!H11),"á","a"),"à","a"),"ã","a"),"â","a"),"é","e"),"ê","e"),"í","i"),"ó","o"),"ô","o"),"õ","o"),"ú","u"),"ç","c"),"-"," ")," ","") | Z17: =IF($Z$2="","",IF(AND(ISNUMBER(SEARCH($Z$2,Y17)),OR($Z$3="",ISNUMBER(SEARCH($Z$3,Y17))),OR($Z$4="",ISNUMBER(SEARCH($Z$4,Y17)))),MAX($Z$7:Z16)+1,""))
B18: =IFERROR(IF(INDEX('Meus preços da cidade'!$A:$A,MATCH(11,$Z$8:$Z$207,0)+1)="","",INDEX('Meus preços da cidade'!$A:$A,MATCH(11,$Z$8:$Z$207,0)+1)),"") | C18: =IFERROR(IF(INDEX('Meus preços da cidade'!$B:$B,MATCH(11,$Z$8:$Z$207,0)+1)="","",INDEX('Meus preços da cidade'!$B:$B,MATCH(11,$Z$8:$Z$207,0)+1)),"") | D18: =IFERROR(IF(INDEX('Meus preços da cidade'!$C:$C,MATCH(11,$Z$8:$Z$207,0)+1)="","",INDEX('Meus preços da cidade'!$C:$C,MATCH(11,$Z$8:$Z$207,0)+1)),"") | E18: =IFERROR(IF(INDEX('Meus preços da cidade'!$E:$E,MATCH(11,$Z$8:$Z$207,0)+1)="","",INDEX('Meus preços da cidade'!$E:$E,MATCH(11,$Z$8:$Z$207,0)+1)),"") | F18: =IFERROR(IF(INDEX('Meus preços da cidade'!$G:$G,MATCH(11,$Z$8:$Z$207,0)+1)="","",INDEX('Meus preços da cidade'!$G:$G,MATCH(11,$Z$8:$Z$207,0)+1)),"") | Y18: =SUBSTITUTE(SUBSTITUTE(SUBSTITUTE(SUBSTITUTE(SUBSTITUTE(SUBSTITUTE(SUBSTITUTE(SUBSTITUTE(SUBSTITUTE(SUBSTITUTE(SUBSTITUTE(SUBSTITUTE(SUBSTITUTE(SUBSTITUTE(LOWER('Meus preços da cidade'!A12&" "&'Meus preços da cidade'!B12&" "&'Meus preços da cidade'!H12),"á","a"),"à","a"),"ã","a"),"â","a"),"é","e"),"ê","e"),"í","i"),"ó","o"),"ô","o"),"õ","o"),"ú","u"),"ç","c"),"-"," ")," ","") | Z18: =IF($Z$2="","",IF(AND(ISNUMBER(SEARCH($Z$2,Y18)),OR($Z$3="",ISNUMBER(SEARCH($Z$3,Y18))),OR($Z$4="",ISNUMBER(SEARCH($Z$4,Y18)))),MAX($Z$7:Z17)+1,""))
B19: =IFERROR(IF(INDEX('Meus preços da cidade'!$A:$A,MATCH(12,$Z$8:$Z$207,0)+1)="","",INDEX('Meus preços da cidade'!$A:$A,MATCH(12,$Z$8:$Z$207,0)+1)),"") | C19: =IFERROR(IF(INDEX('Meus preços da cidade'!$B:$B,MATCH(12,$Z$8:$Z$207,0)+1)="","",INDEX('Meus preços da cidade'!$B:$B,MATCH(12,$Z$8:$Z$207,0)+1)),"") | D19: =IFERROR(IF(INDEX('Meus preços da cidade'!$C:$C,MATCH(12,$Z$8:$Z$207,0)+1)="","",INDEX('Meus preços da cidade'!$C:$C,MATCH(12,$Z$8:$Z$207,0)+1)),"") | E19: =IFERROR(IF(INDEX('Meus preços da cidade'!$E:$E,MATCH(12,$Z$8:$Z$207,0)+1)="","",INDEX('Meus preços da cidade'!$E:$E,MATCH(12,$Z$8:$Z$207,0)+1)),"") | F19: =IFERROR(IF(INDEX('Meus preços da cidade'!$G:$G,MATCH(12,$Z$8:$Z$207,0)+1)="","",INDEX('Meus preços da cidade'!$G:$G,MATCH(12,$Z$8:$Z$207,0)+1)),"") | Y19: =SUBSTITUTE(SUBSTITUTE(SUBSTITUTE(SUBSTITUTE(SUBSTITUTE(SUBSTITUTE(SUBSTITUTE(SUBSTITUTE(SUBSTITUTE(SUBSTITUTE(SUBSTITUTE(SUBSTITUTE(SUBSTITUTE(SUBSTITUTE(LOWER('Meus preços da cidade'!A13&" "&'Meus preços da cidade'!B13&" "&'Meus preços da cidade'!H13),"á","a"),"à","a"),"ã","a"),"â","a"),"é","e"),"ê","e"),"í","i"),"ó","o"),"ô","o"),"õ","o"),"ú","u"),"ç","c"),"-"," ")," ","") | Z19: =IF($Z$2="","",IF(AND(ISNUMBER(SEARCH($Z$2,Y19)),OR($Z$3="",ISNUMBER(SEARCH($Z$3,Y19))),OR($Z$4="",ISNUMBER(SEARCH($Z$4,Y19)))),MAX($Z$7:Z18)+1,""))
B20: =IFERROR(IF(INDEX('Meus preços da cidade'!$A:$A,MATCH(13,$Z$8:$Z$207,0)+1)="","",INDEX('Meus preços da cidade'!$A:$A,MATCH(13,$Z$8:$Z$207,0)+1)),"") | C20: =IFERROR(IF(INDEX('Meus preços da cidade'!$B:$B,MATCH(13,$Z$8:$Z$207,0)+1)="","",INDEX('Meus preços da cidade'!$B:$B,MATCH(13,$Z$8:$Z$207,0)+1)),"") | D20: =IFERROR(IF(INDEX('Meus preços da cidade'!$C:$C,MATCH(13,$Z$8:$Z$207,0)+1)="","",INDEX('Meus preços da cidade'!$C:$C,MATCH(13,$Z$8:$Z$207,0)+1)),"") | E20: =IFERROR(IF(INDEX('Meus preços da cidade'!$E:$E,MATCH(13,$Z$8:$Z$207,0)+1)="","",INDEX('Meus preços da cidade'!$E:$E,MATCH(13,$Z$8:$Z$207,0)+1)),"") | F20: =IFERROR(IF(INDEX('Meus preços da cidade'!$G:$G,MATCH(13,$Z$8:$Z$207,0)+1)="","",INDEX('Meus preços da cidade'!$G:$G,MATCH(13,$Z$8:$Z$207,0)+1)),"") | Y20: =SUBSTITUTE(SUBSTITUTE(SUBSTITUTE(SUBSTITUTE(SUBSTITUTE(SUBSTITUTE(SUBSTITUTE(SUBSTITUTE(SUBSTITUTE(SUBSTITUTE(SUBSTITUTE(SUBSTITUTE(SUBSTITUTE(SUBSTITUTE(LOWER('Meus preços da cidade'!A14&" "&'Meus preços da cidade'!B14&" "&'Meus preços da cidade'!H14),"á","a"),"à","a"),"ã","a"),"â","a"),"é","e"),"ê","e"),"í","i"),"ó","o"),"ô","o"),"õ","o"),"ú","u"),"ç","c"),"-"," ")," ","") | Z20: =IF($Z$2="","",IF(AND(ISNUMBER(SEARCH($Z$2,Y20)),OR($Z$3="",ISNUMBER(SEARCH($Z$3,Y20))),OR($Z$4="",ISNUMBER(SEARCH($Z$4,Y20)))),MAX($Z$7:Z19)+1,""))
B21: =IFERROR(IF(INDEX('Meus preços da cidade'!$A:$A,MATCH(14,$Z$8:$Z$207,0)+1)="","",INDEX('Meus preços da cidade'!$A:$A,MATCH(14,$Z$8:$Z$207,0)+1)),"") | C21: =IFERROR(IF(INDEX('Meus preços da cidade'!$B:$B,MATCH(14,$Z$8:$Z$207,0)+1)="","",INDEX('Meus preços da cidade'!$B:$B,MATCH(14,$Z$8:$Z$207,0)+1)),"") | D21: =IFERROR(IF(INDEX('Meus preços da cidade'!$C:$C,MATCH(14,$Z$8:$Z$207,0)+1)="","",INDEX('Meus preços da cidade'!$C:$C,MATCH(14,$Z$8:$Z$207,0)+1)),"") | E21: =IFERROR(IF(INDEX('Meus preços da cidade'!$E:$E,MATCH(14,$Z$8:$Z$207,0)+1)="","",INDEX('Meus preços da cidade'!$E:$E,MATCH(14,$Z$8:$Z$207,0)+1)),"") | F21: =IFERROR(IF(INDEX('Meus preços da cidade'!$G:$G,MATCH(14,$Z$8:$Z$207,0)+1)="","",INDEX('Meus preços da cidade'!$G:$G,MATCH(14,$Z$8:$Z$207,0)+1)),"") | Y21: =SUBSTITUTE(SUBSTITUTE(SUBSTITUTE(SUBSTITUTE(SUBSTITUTE(SUBSTITUTE(SUBSTITUTE(SUBSTITUTE(SUBSTITUTE(SUBSTITUTE(SUBSTITUTE(SUBSTITUTE(SUBSTITUTE(SUBSTITUTE(LOWER('Meus preços da cidade'!A15&" "&'Meus preços da cidade'!B15&" "&'Meus preços da cidade'!H15),"á","a"),"à","a"),"ã","a"),"â","a"),"é","e"),"ê","e"),"í","i"),"ó","o"),"ô","o"),"õ","o"),"ú","u"),"ç","c"),"-"," ")," ","") | Z21: =IF($Z$2="","",IF(AND(ISNUMBER(SEARCH($Z$2,Y21)),OR($Z$3="",ISNUMBER(SEARCH($Z$3,Y21))),OR($Z$4="",ISNUMBER(SEARCH($Z$4,Y21)))),MAX($Z$7:Z20)+1,""))
B22: =IFERROR(IF(INDEX('Meus preços da cidade'!$A:$A,MATCH(15,$Z$8:$Z$207,0)+1)="","",INDEX('Meus preços da cidade'!$A:$A,MATCH(15,$Z$8:$Z$207,0)+1)),"") | C22: =IFERROR(IF(INDEX('Meus preços da cidade'!$B:$B,MATCH(15,$Z$8:$Z$207,0)+1)="","",INDEX('Meus preços da cidade'!$B:$B,MATCH(15,$Z$8:$Z$207,0)+1)),"") | D22: =IFERROR(IF(INDEX('Meus preços da cidade'!$C:$C,MATCH(15,$Z$8:$Z$207,0)+1)="","",INDEX('Meus preços da cidade'!$C:$C,MATCH(15,$Z$8:$Z$207,0)+1)),"") | E22: =IFERROR(IF(INDEX('Meus preços da cidade'!$E:$E,MATCH(15,$Z$8:$Z$207,0)+1)="","",INDEX('Meus preços da cidade'!$E:$E,MATCH(15,$Z$8:$Z$207,0)+1)),"") | F22: =IFERROR(IF(INDEX('Meus preços da cidade'!$G:$G,MATCH(15,$Z$8:$Z$207,0)+1)="","",INDEX('Meus preços da cidade'!$G:$G,MATCH(15,$Z$8:$Z$207,0)+1)),"") | Y22: =SUBSTITUTE(SUBSTITUTE(SUBSTITUTE(SUBSTITUTE(SUBSTITUTE(SUBSTITUTE(SUBSTITUTE(SUBSTITUTE(SUBSTITUTE(SUBSTITUTE(SUBSTITUTE(SUBSTITUTE(SUBSTITUTE(SUBSTITUTE(LOWER('Meus preços da cidade'!A16&" "&'Meus preços da cidade'!B16&" "&'Meus preços da cidade'!H16),"á","a"),"à","a"),"ã","a"),"â","a"),"é","e"),"ê","e"),"í","i"),"ó","o"),"ô","o"),"õ","o"),"ú","u"),"ç","c"),"-"," ")," ","") | Z22: =IF($Z$2="","",IF(AND(ISNUMBER(SEARCH($Z$2,Y22)),OR($Z$3="",ISNUMBER(SEARCH($Z$3,Y22))),OR($Z$4="",ISNUMBER(SEARCH($Z$4,Y22)))),MAX($Z$7:Z21)+1,""))
B23: =IFERROR(IF(INDEX('Meus preços da cidade'!$A:$A,MATCH(16,$Z$8:$Z$207,0)+1)="","",INDEX('Meus preços da cidade'!$A:$A,MATCH(16,$Z$8:$Z$207,0)+1)),"") | C23: =IFERROR(IF(INDEX('Meus preços da cidade'!$B:$B,MATCH(16,$Z$8:$Z$207,0)+1)="","",INDEX('Meus preços da cidade'!$B:$B,MATCH(16,$Z$8:$Z$207,0)+1)),"") | D23: =IFERROR(IF(INDEX('Meus preços da cidade'!$C:$C,MATCH(16,$Z$8:$Z$207,0)+1)="","",INDEX('Meus preços da cidade'!$C:$C,MATCH(16,$Z$8:$Z$207,0)+1)),"") | E23: =IFERROR(IF(INDEX('Meus preços da cidade'!$E:$E,MATCH(16,$Z$8:$Z$207,0)+1)="","",INDEX('Meus preços da cidade'!$E:$E,MATCH(16,$Z$8:$Z$207,0)+1)),"") | F23: =IFERROR(IF(INDEX('Meus preços da cidade'!$G:$G,MATCH(16,$Z$8:$Z$207,0)+1)="","",INDEX('Meus preços da cidade'!$G:$G,MATCH(16,$Z$8:$Z$207,0)+1)),"") | Y23: =SUBSTITUTE(SUBSTITUTE(SUBSTITUTE(SUBSTITUTE(SUBSTITUTE(SUBSTITUTE(SUBSTITUTE(SUBSTITUTE(SUBSTITUTE(SUBSTITUTE(SUBSTITUTE(SUBSTITUTE(SUBSTITUTE(SUBSTITUTE(LOWER('Meus preços da cidade'!A17&" "&'Meus preços da cidade'!B17&" "&'Meus preços da cidade'!H17),"á","a"),"à","a"),"ã","a"),"â","a"),"é","e"),"ê","e"),"í","i"),"ó","o"),"ô","o"),"õ","o"),"ú","u"),"ç","c"),"-"," ")," ","") | Z23: =IF($Z$2="","",IF(AND(ISNUMBER(SEARCH($Z$2,Y23)),OR($Z$3="",ISNUMBER(SEARCH($Z$3,Y23))),OR($Z$4="",ISNUMBER(SEARCH($Z$4,Y23)))),MAX($Z$7:Z22)+1,""))
B24: =IFERROR(IF(INDEX('Meus preços da cidade'!$A:$A,MATCH(17,$Z$8:$Z$207,0)+1)="","",INDEX('Meus preços da cidade'!$A:$A,MATCH(17,$Z$8:$Z$207,0)+1)),"") | C24: =IFERROR(IF(INDEX('Meus preços da cidade'!$B:$B,MATCH(17,$Z$8:$Z$207,0)+1)="","",INDEX('Meus preços da cidade'!$B:$B,MATCH(17,$Z$8:$Z$207,0)+1)),"") | D24: =IFERROR(IF(INDEX('Meus preços da cidade'!$C:$C,MATCH(17,$Z$8:$Z$207,0)+1)="","",INDEX('Meus preços da cidade'!$C:$C,MATCH(17,$Z$8:$Z$207,0)+1)),"") | E24: =IFERROR(IF(INDEX('Meus preços da cidade'!$E:$E,MATCH(17,$Z$8:$Z$207,0)+1)="","",INDEX('Meus preços da cidade'!$E:$E,MATCH(17,$Z$8:$Z$207,0)+1)),"") | F24: =IFERROR(IF(INDEX('Meus preços da cidade'!$G:$G,MATCH(17,$Z$8:$Z$207,0)+1)="","",INDEX('Meus preços da cidade'!$G:$G,MATCH(17,$Z$8:$Z$207,0)+1)),"") | Y24: =SUBSTITUTE(SUBSTITUTE(SUBSTITUTE(SUBSTITUTE(SUBSTITUTE(SUBSTITUTE(SUBSTITUTE(SUBSTITUTE(SUBSTITUTE(SUBSTITUTE(SUBSTITUTE(SUBSTITUTE(SUBSTITUTE(SUBSTITUTE(LOWER('Meus preços da cidade'!A18&" "&'Meus preços da cidade'!B18&" "&'Meus preços da cidade'!H18),"á","a"),"à","a"),"ã","a"),"â","a"),"é","e"),"ê","e"),"í","i"),"ó","o"),"ô","o"),"õ","o"),"ú","u"),"ç","c"),"-"," ")," ","") | Z24: =IF($Z$2="","",IF(AND(ISNUMBER(SEARCH($Z$2,Y24)),OR($Z$3="",ISNUMBER(SEARCH($Z$3,Y24))),OR($Z$4="",ISNUMBER(SEARCH($Z$4,Y24)))),MAX($Z$7:Z23)+1,""))
B25: =IFERROR(IF(INDEX('Meus preços da cidade'!$A:$A,MATCH(18,$Z$8:$Z$207,0)+1)="","",INDEX('Meus preços da cidade'!$A:$A,MATCH(18,$Z$8:$Z$207,0)+1)),"") | C25: =IFERROR(IF(INDEX('Meus preços da cidade'!$B:$B,MATCH(18,$Z$8:$Z$207,0)+1)="","",INDEX('Meus preços da cidade'!$B:$B,MATCH(18,$Z$8:$Z$207,0)+1)),"") | D25: =IFERROR(IF(INDEX('Meus preços da cidade'!$C:$C,MATCH(18,$Z$8:$Z$207,0)+1)="","",INDEX('Meus preços da cidade'!$C:$C,MATCH(18,$Z$8:$Z$207,0)+1)),"") | E25: =IFERROR(IF(INDEX('Meus preços da cidade'!$E:$E,MATCH(18,$Z$8:$Z$207,0)+1)="","",INDEX('Meus preços da cidade'!$E:$E,MATCH(18,$Z$8:$Z$207,0)+1)),"") | F25: =IFERROR(IF(INDEX('Meus preços da cidade'!$G:$G,MATCH(18,$Z$8:$Z$207,0)+1)="","",INDEX('Meus preços da cidade'!$G:$G,MATCH(18,$Z$8:$Z$207,0)+1)),"") | Y25: =SUBSTITUTE(SUBSTITUTE(SUBSTITUTE(SUBSTITUTE(SUBSTITUTE(SUBSTITUTE(SUBSTITUTE(SUBSTITUTE(SUBSTITUTE(SUBSTITUTE(SUBSTITUTE(SUBSTITUTE(SUBSTITUTE(SUBSTITUTE(LOWER('Meus preços da cidade'!A19&" "&'Meus preços da cidade'!B19&" "&'Meus preços da cidade'!H19),"á","a"),"à","a"),"ã","a"),"â","a"),"é","e"),"ê","e"),"í","i"),"ó","o"),"ô","o"),"õ","o"),"ú","u"),"ç","c"),"-"," ")," ","") | Z25: =IF($Z$2="","",IF(AND(ISNUMBER(SEARCH($Z$2,Y25)),OR($Z$3="",ISNUMBER(SEARCH($Z$3,Y25))),OR($Z$4="",ISNUMBER(SEARCH($Z$4,Y25)))),MAX($Z$7:Z24)+1,""))
B26: =IFERROR(IF(INDEX('Meus preços da cidade'!$A:$A,MATCH(19,$Z$8:$Z$207,0)+1)="","",INDEX('Meus preços da cidade'!$A:$A,MATCH(19,$Z$8:$Z$207,0)+1)),"") | C26: =IFERROR(IF(INDEX('Meus preços da cidade'!$B:$B,MATCH(19,$Z$8:$Z$207,0)+1)="","",INDEX('Meus preços da cidade'!$B:$B,MATCH(19,$Z$8:$Z$207,0)+1)),"") | D26: =IFERROR(IF(INDEX('Meus preços da cidade'!$C:$C,MATCH(19,$Z$8:$Z$207,0)+1)="","",INDEX('Meus preços da cidade'!$C:$C,MATCH(19,$Z$8:$Z$207,0)+1)),"") | E26: =IFERROR(IF(INDEX('Meus preços da cidade'!$E:$E,MATCH(19,$Z$8:$Z$207,0)+1)="","",INDEX('Meus preços da cidade'!$E:$E,MATCH(19,$Z$8:$Z$207,0)+1)),"") | F26: =IFERROR(IF(INDEX('Meus preços da cidade'!$G:$G,MATCH(19,$Z$8:$Z$207,0)+1)="","",INDEX('Meus preços da cidade'!$G:$G,MATCH(19,$Z$8:$Z$207,0)+1)),"") | Y26: =SUBSTITUTE(SUBSTITUTE(SUBSTITUTE(SUBSTITUTE(SUBSTITUTE(SUBSTITUTE(SUBSTITUTE(SUBSTITUTE(SUBSTITUTE(SUBSTITUTE(SUBSTITUTE(SUBSTITUTE(SUBSTITUTE(SUBSTITUTE(LOWER('Meus preços da cidade'!A20&" "&'Meus preços da cidade'!B20&" "&'Meus preços da cidade'!H20),"á","a"),"à","a"),"ã","a"),"â","a"),"é","e"),"ê","e"),"í","i"),"ó","o"),"ô","o"),"õ","o"),"ú","u"),"ç","c"),"-"," ")," ","") | Z26: =IF($Z$2="","",IF(AND(ISNUMBER(SEARCH($Z$2,Y26)),OR($Z$3="",ISNUMBER(SEARCH($Z$3,Y26))),OR($Z$4="",ISNUMBER(SEARCH($Z$4,Y26)))),MAX($Z$7:Z25)+1,""))
B27: =IFERROR(IF(INDEX('Meus preços da cidade'!$A:$A,MATCH(20,$Z$8:$Z$207,0)+1)="","",INDEX('Meus preços da cidade'!$A:$A,MATCH(20,$Z$8:$Z$207,0)+1)),"") | C27: =IFERROR(IF(INDEX('Meus preços da cidade'!$B:$B,MATCH(20,$Z$8:$Z$207,0)+1)="","",INDEX('Meus preços da cidade'!$B:$B,MATCH(20,$Z$8:$Z$207,0)+1)),"") | D27: =IFERROR(IF(INDEX('Meus preços da cidade'!$C:$C,MATCH(20,$Z$8:$Z$207,0)+1)="","",INDEX('Meus preços da cidade'!$C:$C,MATCH(20,$Z$8:$Z$207,0)+1)),"") | E27: =IFERROR(IF(INDEX('Meus preços da cidade'!$E:$E,MATCH(20,$Z$8:$Z$207,0)+1)="","",INDEX('Meus preços da cidade'!$E:$E,MATCH(20,$Z$8:$Z$207,0)+1)),"") | F27: =IFERROR(IF(INDEX('Meus preços da cidade'!$G:$G,MATCH(20,$Z$8:$Z$207,0)+1)="","",INDEX('Meus preços da cidade'!$G:$G,MATCH(20,$Z$8:$Z$207,0)+1)),"") | Y27: =SUBSTITUTE(SUBSTITUTE(SUBSTITUTE(SUBSTITUTE(SUBSTITUTE(SUBSTITUTE(SUBSTITUTE(SUBSTITUTE(SUBSTITUTE(SUBSTITUTE(SUBSTITUTE(SUBSTITUTE(SUBSTITUTE(SUBSTITUTE(LOWER('Meus preços da cidade'!A21&" "&'Meus preços da cidade'!B21&" "&'Meus preços da cidade'!H21),"á","a"),"à","a"),"ã","a"),"â","a"),"é","e"),"ê","e"),"í","i"),"ó","o"),"ô","o"),"õ","o"),"ú","u"),"ç","c"),"-"," ")," ","") | Z27: =IF($Z$2="","",IF(AND(ISNUMBER(SEARCH($Z$2,Y27)),OR($Z$3="",ISNUMBER(SEARCH($Z$3,Y27))),OR($Z$4="",ISNUMBER(SEARCH($Z$4,Y27)))),MAX($Z$7:Z26)+1,""))
B28: =IFERROR(IF(INDEX('Meus preços da cidade'!$A:$A,MATCH(21,$Z$8:$Z$207,0)+1)="","",INDEX('Meus preços da cidade'!$A:$A,MATCH(21,$Z$8:$Z$207,0)+1)),"") | C28: =IFERROR(IF(INDEX('Meus preços da cidade'!$B:$B,MATCH(21,$Z$8:$Z$207,0)+1)="","",INDEX('Meus preços da cidade'!$B:$B,MATCH(21,$Z$8:$Z$207,0)+1)),"") | D28: =IFERROR(IF(INDEX('Meus preços da cidade'!$C:$C,MATCH(21,$Z$8:$Z$207,0)+1)="","",INDEX('Meus preços da cidade'!$C:$C,MATCH(21,$Z$8:$Z$207,0)+1)),"") | E28: =IFERROR(IF(INDEX('Meus preços da cidade'!$E:$E,MATCH(21,$Z$8:$Z$207,0)+1)="","",INDEX('Meus preços da cidade'!$E:$E,MATCH(21,$Z$8:$Z$207,0)+1)),"") | F28: =IFERROR(IF(INDEX('Meus preços da cidade'!$G:$G,MATCH(21,$Z$8:$Z$207,0)+1)="","",INDEX('Meus preços da cidade'!$G:$G,MATCH(21,$Z$8:$Z$207,0)+1)),"") | Y28: =SUBSTITUTE(SUBSTITUTE(SUBSTITUTE(SUBSTITUTE(SUBSTITUTE(SUBSTITUTE(SUBSTITUTE(SUBSTITUTE(SUBSTITUTE(SUBSTITUTE(SUBSTITUTE(SUBSTITUTE(SUBSTITUTE(SUBSTITUTE(LOWER('Meus preços da cidade'!A22&" "&'Meus preços da cidade'!B22&" "&'Meus preços da cidade'!H22),"á","a"),"à","a"),"ã","a"),"â","a"),"é","e"),"ê","e"),"í","i"),"ó","o"),"ô","o"),"õ","o"),"ú","u"),"ç","c"),"-"," ")," ","") | Z28: =IF($Z$2="","",IF(AND(ISNUMBER(SEARCH($Z$2,Y28)),OR($Z$3="",ISNUMBER(SEARCH($Z$3,Y28))),OR($Z$4="",ISNUMBER(SEARCH($Z$4,Y28)))),MAX($Z$7:Z27)+1,""))
B29: =IFERROR(IF(INDEX('Meus preços da cidade'!$A:$A,MATCH(22,$Z$8:$Z$207,0)+1)="","",INDEX('Meus preços da cidade'!$A:$A,MATCH(22,$Z$8:$Z$207,0)+1)),"") | C29: =IFERROR(IF(INDEX('Meus preços da cidade'!$B:$B,MATCH(22,$Z$8:$Z$207,0)+1)="","",INDEX('Meus preços da cidade'!$B:$B,MATCH(22,$Z$8:$Z$207,0)+1)),"") | D29: =IFERROR(IF(INDEX('Meus preços da cidade'!$C:$C,MATCH(22,$Z$8:$Z$207,0)+1)="","",INDEX('Meus preços da cidade'!$C:$C,MATCH(22,$Z$8:$Z$207,0)+1)),"") | E29: =IFERROR(IF(INDEX('Meus preços da cidade'!$E:$E,MATCH(22,$Z$8:$Z$207,0)+1)="","",INDEX('Meus preços da cidade'!$E:$E,MATCH(22,$Z$8:$Z$207,0)+1)),"") | F29: =IFERROR(IF(INDEX('Meus preços da cidade'!$G:$G,MATCH(22,$Z$8:$Z$207,0)+1)="","",INDEX('Meus preços da cidade'!$G:$G,MATCH(22,$Z$8:$Z$207,0)+1)),"") | Y29: =SUBSTITUTE(SUBSTITUTE(SUBSTITUTE(SUBSTITUTE(SUBSTITUTE(SUBSTITUTE(SUBSTITUTE(SUBSTITUTE(SUBSTITUTE(SUBSTITUTE(SUBSTITUTE(SUBSTITUTE(SUBSTITUTE(SUBSTITUTE(LOWER('Meus preços da cidade'!A23&" "&'Meus preços da cidade'!B23&" "&'Meus preços da cidade'!H23),"á","a"),"à","a"),"ã","a"),"â","a"),"é","e"),"ê","e"),"í","i"),"ó","o"),"ô","o"),"õ","o"),"ú","u"),"ç","c"),"-"," ")," ","") | Z29: =IF($Z$2="","",IF(AND(ISNUMBER(SEARCH($Z$2,Y29)),OR($Z$3="",ISNUMBER(SEARCH($Z$3,Y29))),OR($Z$4="",ISNUMBER(SEARCH($Z$4,Y29)))),MAX($Z$7:Z28)+1,""))
B30: =IFERROR(IF(INDEX('Meus preços da cidade'!$A:$A,MATCH(23,$Z$8:$Z$207,0)+1)="","",INDEX('Meus preços da cidade'!$A:$A,MATCH(23,$Z$8:$Z$207,0)+1)),"") | C30: =IFERROR(IF(INDEX('Meus preços da cidade'!$B:$B,MATCH(23,$Z$8:$Z$207,0)+1)="","",INDEX('Meus preços da cidade'!$B:$B,MATCH(23,$Z$8:$Z$207,0)+1)),"") | D30: =IFERROR(IF(INDEX('Meus preços da cidade'!$C:$C,MATCH(23,$Z$8:$Z$207,0)+1)="","",INDEX('Meus preços da cidade'!$C:$C,MATCH(23,$Z$8:$Z$207,0)+1)),"") | E30: =IFERROR(IF(INDEX('Meus preços da cidade'!$E:$E,MATCH(23,$Z$8:$Z$207,0)+1)="","",INDEX('Meus preços da cidade'!$E:$E,MATCH(23,$Z$8:$Z$207,0)+1)),"") | F30: =IFERROR(IF(INDEX('Meus preços da cidade'!$G:$G,MATCH(23,$Z$8:$Z$207,0)+1)="","",INDEX('Meus preços da cidade'!$G:$G,MATCH(23,$Z$8:$Z$207,0)+1)),"") | Y30: =SUBSTITUTE(SUBSTITUTE(SUBSTITUTE(SUBSTITUTE(SUBSTITUTE(SUBSTITUTE(SUBSTITUTE(SUBSTITUTE(SUBSTITUTE(SUBSTITUTE(SUBSTITUTE(SUBSTITUTE(SUBSTITUTE(SUBSTITUTE(LOWER('Meus preços da cidade'!A24&" "&'Meus preços da cidade'!B24&" "&'Meus preços da cidade'!H24),"á","a"),"à","a"),"ã","a"),"â","a"),"é","e"),"ê","e"),"í","i"),"ó","o"),"ô","o"),"õ","o"),"ú","u"),"ç","c"),"-"," ")," ","") | Z30: =IF($Z$2="","",IF(AND(ISNUMBER(SEARCH($Z$2,Y30)),OR($Z$3="",ISNUMBER(SEARCH($Z$3,Y30))),OR($Z$4="",ISNUMBER(SEARCH($Z$4,Y30)))),MAX($Z$7:Z29)+1,""))
B31: =IFERROR(IF(INDEX('Meus preços da cidade'!$A:$A,MATCH(24,$Z$8:$Z$207,0)+1)="","",INDEX('Meus preços da cidade'!$A:$A,MATCH(24,$Z$8:$Z$207,0)+1)),"") | C31: =IFERROR(IF(INDEX('Meus preços da cidade'!$B:$B,MATCH(24,$Z$8:$Z$207,0)+1)="","",INDEX('Meus preços da cidade'!$B:$B,MATCH(24,$Z$8:$Z$207,0)+1)),"") | D31: =IFERROR(IF(INDEX('Meus preços da cidade'!$C:$C,MATCH(24,$Z$8:$Z$207,0)+1)="","",INDEX('Meus preços da cidade'!$C:$C,MATCH(24,$Z$8:$Z$207,0)+1)),"") | E31: =IFERROR(IF(INDEX('Meus preços da cidade'!$E:$E,MATCH(24,$Z$8:$Z$207,0)+1)="","",INDEX('Meus preços da cidade'!$E:$E,MATCH(24,$Z$8:$Z$207,0)+1)),"") | F31: =IFERROR(IF(INDEX('Meus preços da cidade'!$G:$G,MATCH(24,$Z$8:$Z$207,0)+1)="","",INDEX('Meus preços da cidade'!$G:$G,MATCH(24,$Z$8:$Z$207,0)+1)),"") | Y31: =SUBSTITUTE(SUBSTITUTE(SUBSTITUTE(SUBSTITUTE(SUBSTITUTE(SUBSTITUTE(SUBSTITUTE(SUBSTITUTE(SUBSTITUTE(SUBSTITUTE(SUBSTITUTE(SUBSTITUTE(SUBSTITUTE(SUBSTITUTE(LOWER('Meus preços da cidade'!A25&" "&'Meus preços da cidade'!B25&" "&'Meus preços da cidade'!H25),"á","a"),"à","a"),"ã","a"),"â","a"),"é","e"),"ê","e"),"í","i"),"ó","o"),"ô","o"),"õ","o"),"ú","u"),"ç","c"),"-"," ")," ","") | Z31: =IF($Z$2="","",IF(AND(ISNUMBER(SEARCH($Z$2,Y31)),OR($Z$3="",ISNUMBER(SEARCH($Z$3,Y31))),OR($Z$4="",ISNUMBER(SEARCH($Z$4,Y31)))),MAX($Z$7:Z30)+1,""))
B32: =IFERROR(IF(INDEX('Meus preços da cidade'!$A:$A,MATCH(25,$Z$8:$Z$207,0)+1)="","",INDEX('Meus preços da cidade'!$A:$A,MATCH(25,$Z$8:$Z$207,0)+1)),"") | C32: =IFERROR(IF(INDEX('Meus preços da cidade'!$B:$B,MATCH(25,$Z$8:$Z$207,0)+1)="","",INDEX('Meus preços da cidade'!$B:$B,MATCH(25,$Z$8:$Z$207,0)+1)),"") | D32: =IFERROR(IF(INDEX('Meus preços da cidade'!$C:$C,MATCH(25,$Z$8:$Z$207,0)+1)="","",INDEX('Meus preços da cidade'!$C:$C,MATCH(25,$Z$8:$Z$207,0)+1)),"") | E32: =IFERROR(IF(INDEX('Meus preços da cidade'!$E:$E,MATCH(25,$Z$8:$Z$207,0)+1)="","",INDEX('Meus preços da cidade'!$E:$E,MATCH(25,$Z$8:$Z$207,0)+1)),"") | F32: =IFERROR(IF(INDEX('Meus preços da cidade'!$G:$G,MATCH(25,$Z$8:$Z$207,0)+1)="","",INDEX('Meus preços da cidade'!$G:$G,MATCH(25,$Z$8:$Z$207,0)+1)),"") | Y32: =SUBSTITUTE(SUBSTITUTE(SUBSTITUTE(SUBSTITUTE(SUBSTITUTE(SUBSTITUTE(SUBSTITUTE(SUBSTITUTE(SUBSTITUTE(SUBSTITUTE(SUBSTITUTE(SUBSTITUTE(SUBSTITUTE(SUBSTITUTE(LOWER('Meus preços da cidade'!A26&" "&'Meus preços da cidade'!B26&" "&'Meus preços da cidade'!H26),"á","a"),"à","a"),"ã","a"),"â","a"),"é","e"),"ê","e"),"í","i"),"ó","o"),"ô","o"),"õ","o"),"ú","u"),"ç","c"),"-"," ")," ","") | Z32: =IF($Z$2="","",IF(AND(ISNUMBER(SEARCH($Z$2,Y32)),OR($Z$3="",ISNUMBER(SEARCH($Z$3,Y32))),OR($Z$4="",ISNUMBER(SEARCH($Z$4,Y32)))),MAX($Z$7:Z31)+1,""))
B33: =IFERROR(IF(INDEX('Meus preços da cidade'!$A:$A,MATCH(26,$Z$8:$Z$207,0)+1)="","",INDEX('Meus preços da cidade'!$A:$A,MATCH(26,$Z$8:$Z$207,0)+1)),"") | C33: =IFERROR(IF(INDEX('Meus preços da cidade'!$B:$B,MATCH(26,$Z$8:$Z$207,0)+1)="","",INDEX('Meus preços da cidade'!$B:$B,MATCH(26,$Z$8:$Z$207,0)+1)),"") | D33: =IFERROR(IF(INDEX('Meus preços da cidade'!$C:$C,MATCH(26,$Z$8:$Z$207,0)+1)="","",INDEX('Meus preços da cidade'!$C:$C,MATCH(26,$Z$8:$Z$207,0)+1)),"") | E33: =IFERROR(IF(INDEX('Meus preços da cidade'!$E:$E,MATCH(26,$Z$8:$Z$207,0)+1)="","",INDEX('Meus preços da cidade'!$E:$E,MATCH(26,$Z$8:$Z$207,0)+1)),"") | F33: =IFERROR(IF(INDEX('Meus preços da cidade'!$G:$G,MATCH(26,$Z$8:$Z$207,0)+1)="","",INDEX('Meus preços da cidade'!$G:$G,MATCH(26,$Z$8:$Z$207,0)+1)),"") | Y33: =SUBSTITUTE(SUBSTITUTE(SUBSTITUTE(SUBSTITUTE(SUBSTITUTE(SUBSTITUTE(SUBSTITUTE(SUBSTITUTE(SUBSTITUTE(SUBSTITUTE(SUBSTITUTE(SUBSTITUTE(SUBSTITUTE(SUBSTITUTE(LOWER('Meus preços da cidade'!A27&" "&'Meus preços da cidade'!B27&" "&'Meus preços da cidade'!H27),"á","a"),"à","a"),"ã","a"),"â","a"),"é","e"),"ê","e"),"í","i"),"ó","o"),"ô","o"),"õ","o"),"ú","u"),"ç","c"),"-"," ")," ","") | Z33: =IF($Z$2="","",IF(AND(ISNUMBER(SEARCH($Z$2,Y33)),OR($Z$3="",ISNUMBER(SEARCH($Z$3,Y33))),OR($Z$4="",ISNUMBER(SEARCH($Z$4,Y33)))),MAX($Z$7:Z32)+1,""))
B34: =IFERROR(IF(INDEX('Meus preços da cidade'!$A:$A,MATCH(27,$Z$8:$Z$207,0)+1)="","",INDEX('Meus preços da cidade'!$A:$A,MATCH(27,$Z$8:$Z$207,0)+1)),"") | C34: =IFERROR(IF(INDEX('Meus preços da cidade'!$B:$B,MATCH(27,$Z$8:$Z$207,0)+1)="","",INDEX('Meus preços da cidade'!$B:$B,MATCH(27,$Z$8:$Z$207,0)+1)),"") | D34: =IFERROR(IF(INDEX('Meus preços da cidade'!$C:$C,MATCH(27,$Z$8:$Z$207,0)+1)="","",INDEX('Meus preços da cidade'!$C:$C,MATCH(27,$Z$8:$Z$207,0)+1)),"") | E34: =IFERROR(IF(INDEX('Meus preços da cidade'!$E:$E,MATCH(27,$Z$8:$Z$207,0)+1)="","",INDEX('Meus preços da cidade'!$E:$E,MATCH(27,$Z$8:$Z$207,0)+1)),"") | F34: =IFERROR(IF(INDEX('Meus preços da cidade'!$G:$G,MATCH(27,$Z$8:$Z$207,0)+1)="","",INDEX('Meus preços da cidade'!$G:$G,MATCH(27,$Z$8:$Z$207,0)+1)),"") | Y34: =SUBSTITUTE(SUBSTITUTE(SUBSTITUTE(SUBSTITUTE(SUBSTITUTE(SUBSTITUTE(SUBSTITUTE(SUBSTITUTE(SUBSTITUTE(SUBSTITUTE(SUBSTITUTE(SUBSTITUTE(SUBSTITUTE(SUBSTITUTE(LOWER('Meus preços da cidade'!A28&" "&'Meus preços da cidade'!B28&" "&'Meus preços da cidade'!H28),"á","a"),"à","a"),"ã","a"),"â","a"),"é","e"),"ê","e"),"í","i"),"ó","o"),"ô","o"),"õ","o"),"ú","u"),"ç","c"),"-"," ")," ","") | Z34: =IF($Z$2="","",IF(AND(ISNUMBER(SEARCH($Z$2,Y34)),OR($Z$3="",ISNUMBER(SEARCH($Z$3,Y34))),OR($Z$4="",ISNUMBER(SEARCH($Z$4,Y34)))),MAX($Z$7:Z33)+1,""))
B35: =IFERROR(IF(INDEX('Meus preços da cidade'!$A:$A,MATCH(28,$Z$8:$Z$207,0)+1)="","",INDEX('Meus preços da cidade'!$A:$A,MATCH(28,$Z$8:$Z$207,0)+1)),"") | C35: =IFERROR(IF(INDEX('Meus preços da cidade'!$B:$B,MATCH(28,$Z$8:$Z$207,0)+1)="","",INDEX('Meus preços da cidade'!$B:$B,MATCH(28,$Z$8:$Z$207,0)+1)),"") | D35: =IFERROR(IF(INDEX('Meus preços da cidade'!$C:$C,MATCH(28,$Z$8:$Z$207,0)+1)="","",INDEX('Meus preços da cidade'!$C:$C,MATCH(28,$Z$8:$Z$207,0)+1)),"") | E35: =IFERROR(IF(INDEX('Meus preços da cidade'!$E:$E,MATCH(28,$Z$8:$Z$207,0)+1)="","",INDEX('Meus preços da cidade'!$E:$E,MATCH(28,$Z$8:$Z$207,0)+1)),"") | F35: =IFERROR(IF(INDEX('Meus preços da cidade'!$G:$G,MATCH(28,$Z$8:$Z$207,0)+1)="","",INDEX('Meus preços da cidade'!$G:$G,MATCH(28,$Z$8:$Z$207,0)+1)),"") | Y35: =SUBSTITUTE(SUBSTITUTE(SUBSTITUTE(SUBSTITUTE(SUBSTITUTE(SUBSTITUTE(SUBSTITUTE(SUBSTITUTE(SUBSTITUTE(SUBSTITUTE(SUBSTITUTE(SUBSTITUTE(SUBSTITUTE(SUBSTITUTE(LOWER('Meus preços da cidade'!A29&" "&'Meus preços da cidade'!B29&" "&'Meus preços da cidade'!H29),"á","a"),"à","a"),"ã","a"),"â","a"),"é","e"),"ê","e"),"í","i"),"ó","o"),"ô","o"),"õ","o"),"ú","u"),"ç","c"),"-"," ")," ","") | Z35: =IF($Z$2="","",IF(AND(ISNUMBER(SEARCH($Z$2,Y35)),OR($Z$3="",ISNUMBER(SEARCH($Z$3,Y35))),OR($Z$4="",ISNUMBER(SEARCH($Z$4,Y35)))),MAX($Z$7:Z34)+1,""))
B36: =IFERROR(IF(INDEX('Meus preços da cidade'!$A:$A,MATCH(29,$Z$8:$Z$207,0)+1)="","",INDEX('Meus preços da cidade'!$A:$A,MATCH(29,$Z$8:$Z$207,0)+1)),"") | C36: =IFERROR(IF(INDEX('Meus preços da cidade'!$B:$B,MATCH(29,$Z$8:$Z$207,0)+1)="","",INDEX('Meus preços da cidade'!$B:$B,MATCH(29,$Z$8:$Z$207,0)+1)),"") | D36: =IFERROR(IF(INDEX('Meus preços da cidade'!$C:$C,MATCH(29,$Z$8:$Z$207,0)+1)="","",INDEX('Meus preços da cidade'!$C:$C,MATCH(29,$Z$8:$Z$207,0)+1)),"") | E36: =IFERROR(IF(INDEX('Meus preços da cidade'!$E:$E,MATCH(29,$Z$8:$Z$207,0)+1)="","",INDEX('Meus preços da cidade'!$E:$E,MATCH(29,$Z$8:$Z$207,0)+1)),"") | F36: =IFERROR(IF(INDEX('Meus preços da cidade'!$G:$G,MATCH(29,$Z$8:$Z$207,0)+1)="","",INDEX('Meus preços da cidade'!$G:$G,MATCH(29,$Z$8:$Z$207,0)+1)),"") | Y36: =SUBSTITUTE(SUBSTITUTE(SUBSTITUTE(SUBSTITUTE(SUBSTITUTE(SUBSTITUTE(SUBSTITUTE(SUBSTITUTE(SUBSTITUTE(SUBSTITUTE(SUBSTITUTE(SUBSTITUTE(SUBSTITUTE(SUBSTITUTE(LOWER('Meus preços da cidade'!A30&" "&'Meus preços da cidade'!B30&" "&'Meus preços da cidade'!H30),"á","a"),"à","a"),"ã","a"),"â","a"),"é","e"),"ê","e"),"í","i"),"ó","o"),"ô","o"),"õ","o"),"ú","u"),"ç","c"),"-"," ")," ","") | Z36: =IF($Z$2="","",IF(AND(ISNUMBER(SEARCH($Z$2,Y36)),OR($Z$3="",ISNUMBER(SEARCH($Z$3,Y36))),OR($Z$4="",ISNUMBER(SEARCH($Z$4,Y36)))),MAX($Z$7:Z35)+1,""))
B37: =IFERROR(IF(INDEX('Meus preços da cidade'!$A:$A,MATCH(30,$Z$8:$Z$207,0)+1)="","",INDEX('Meus preços da cidade'!$A:$A,MATCH(30,$Z$8:$Z$207,0)+1)),"") | C37: =IFERROR(IF(INDEX('Meus preços da cidade'!$B:$B,MATCH(30,$Z$8:$Z$207,0)+1)="","",INDEX('Meus preços da cidade'!$B:$B,MATCH(30,$Z$8:$Z$207,0)+1)),"") | D37: =IFERROR(IF(INDEX('Meus preços da cidade'!$C:$C,MATCH(30,$Z$8:$Z$207,0)+1)="","",INDEX('Meus preços da cidade'!$C:$C,MATCH(30,$Z$8:$Z$207,0)+1)),"") | E37: =IFERROR(IF(INDEX('Meus preços da cidade'!$E:$E,MATCH(30,$Z$8:$Z$207,0)+1)="","",INDEX('Meus preços da cidade'!$E:$E,MATCH(30,$Z$8:$Z$207,0)+1)),"") | F37: =IFERROR(IF(INDEX('Meus preços da cidade'!$G:$G,MATCH(30,$Z$8:$Z$207,0)+1)="","",INDEX('Meus preços da cidade'!$G:$G,MATCH(30,$Z$8:$Z$207,0)+1)),"") | Y37: =SUBSTITUTE(SUBSTITUTE(SUBSTITUTE(SUBSTITUTE(SUBSTITUTE(SUBSTITUTE(SUBSTITUTE(SUBSTITUTE(SUBSTITUTE(SUBSTITUTE(SUBSTITUTE(SUBSTITUTE(SUBSTITUTE(SUBSTITUTE(LOWER('Meus preços da cidade'!A31&" "&'Meus preços da cidade'!B31&" "&'Meus preços da cidade'!H31),"á","a"),"à","a"),"ã","a"),"â","a"),"é","e"),"ê","e"),"í","i"),"ó","o"),"ô","o"),"õ","o"),"ú","u"),"ç","c"),"-"," ")," ","") | Z37: =IF($Z$2="","",IF(AND(ISNUMBER(SEARCH($Z$2,Y37)),OR($Z$3="",ISNUMBER(SEARCH($Z$3,Y37))),OR($Z$4="",ISNUMBER(SEARCH($Z$4,Y37)))),MAX($Z$7:Z36)+1,""))
B38: =IFERROR(IF(INDEX('Meus preços da cidade'!$A:$A,MATCH(31,$Z$8:$Z$207,0)+1)="","",INDEX('Meus preços da cidade'!$A:$A,MATCH(31,$Z$8:$Z$207,0)+1)),"") | C38: =IFERROR(IF(INDEX('Meus preços da cidade'!$B:$B,MATCH(31,$Z$8:$Z$207,0)+1)="","",INDEX('Meus preços da cidade'!$B:$B,MATCH(31,$Z$8:$Z$207,0)+1)),"") | D38: =IFERROR(IF(INDEX('Meus preços da cidade'!$C:$C,MATCH(31,$Z$8:$Z$207,0)+1)="","",INDEX('Meus preços da cidade'!$C:$C,MATCH(31,$Z$8:$Z$207,0)+1)),"") | E38: =IFERROR(IF(INDEX('Meus preços da cidade'!$E:$E,MATCH(31,$Z$8:$Z$207,0)+1)="","",INDEX('Meus preços da cidade'!$E:$E,MATCH(31,$Z$8:$Z$207,0)+1)),"") | F38: =IFERROR(IF(INDEX('Meus preços da cidade'!$G:$G,MATCH(31,$Z$8:$Z$207,0)+1)="","",INDEX('Meus preços da cidade'!$G:$G,MATCH(31,$Z$8:$Z$207,0)+1)),"") | Y38: =SUBSTITUTE(SUBSTITUTE(SUBSTITUTE(SUBSTITUTE(SUBSTITUTE(SUBSTITUTE(SUBSTITUTE(SUBSTITUTE(SUBSTITUTE(SUBSTITUTE(SUBSTITUTE(SUBSTITUTE(SUBSTITUTE(SUBSTITUTE(LOWER('Meus preços da cidade'!A32&" "&'Meus preços da cidade'!B32&" "&'Meus preços da cidade'!H32),"á","a"),"à","a"),"ã","a"),"â","a"),"é","e"),"ê","e"),"í","i"),"ó","o"),"ô","o"),"õ","o"),"ú","u"),"ç","c"),"-"," ")," ","") | Z38: =IF($Z$2="","",IF(AND(ISNUMBER(SEARCH($Z$2,Y38)),OR($Z$3="",ISNUMBER(SEARCH($Z$3,Y38))),OR($Z$4="",ISNUMBER(SEARCH($Z$4,Y38)))),MAX($Z$7:Z37)+1,""))
B39: =IFERROR(IF(INDEX('Meus preços da cidade'!$A:$A,MATCH(32,$Z$8:$Z$207,0)+1)="","",INDEX('Meus preços da cidade'!$A:$A,MATCH(32,$Z$8:$Z$207,0)+1)),"") | C39: =IFERROR(IF(INDEX('Meus preços da cidade'!$B:$B,MATCH(32,$Z$8:$Z$207,0)+1)="","",INDEX('Meus preços da cidade'!$B:$B,MATCH(32,$Z$8:$Z$207,0)+1)),"") | D39: =IFERROR(IF(INDEX('Meus preços da cidade'!$C:$C,MATCH(32,$Z$8:$Z$207,0)+1)="","",INDEX('Meus preços da cidade'!$C:$C,MATCH(32,$Z$8:$Z$207,0)+1)),"") | E39: =IFERROR(IF(INDEX('Meus preços da cidade'!$E:$E,MATCH(32,$Z$8:$Z$207,0)+1)="","",INDEX('Meus preços da cidade'!$E:$E,MATCH(32,$Z$8:$Z$207,0)+1)),"") | F39: =IFERROR(IF(INDEX('Meus preços da cidade'!$G:$G,MATCH(32,$Z$8:$Z$207,0)+1)="","",INDEX('Meus preços da cidade'!$G:$G,MATCH(32,$Z$8:$Z$207,0)+1)),"") | Y39: =SUBSTITUTE(SUBSTITUTE(SUBSTITUTE(SUBSTITUTE(SUBSTITUTE(SUBSTITUTE(SUBSTITUTE(SUBSTITUTE(SUBSTITUTE(SUBSTITUTE(SUBSTITUTE(SUBSTITUTE(SUBSTITUTE(SUBSTITUTE(LOWER('Meus preços da cidade'!A33&" "&'Meus preços da cidade'!B33&" "&'Meus preços da cidade'!H33),"á","a"),"à","a"),"ã","a"),"â","a"),"é","e"),"ê","e"),"í","i"),"ó","o"),"ô","o"),"õ","o"),"ú","u"),"ç","c"),"-"," ")," ","") | Z39: =IF($Z$2="","",IF(AND(ISNUMBER(SEARCH($Z$2,Y39)),OR($Z$3="",ISNUMBER(SEARCH($Z$3,Y39))),OR($Z$4="",ISNUMBER(SEARCH($Z$4,Y39)))),MAX($Z$7:Z38)+1,""))
B40: =IFERROR(IF(INDEX('Meus preços da cidade'!$A:$A,MATCH(33,$Z$8:$Z$207,0)+1)="","",INDEX('Meus preços da cidade'!$A:$A,MATCH(33,$Z$8:$Z$207,0)+1)),"") | C40: =IFERROR(IF(INDEX('Meus preços da cidade'!$B:$B,MATCH(33,$Z$8:$Z$207,0)+1)="","",INDEX('Meus preços da cidade'!$B:$B,MATCH(33,$Z$8:$Z$207,0)+1)),"") | D40: =IFERROR(IF(INDEX('Meus preços da cidade'!$C:$C,MATCH(33,$Z$8:$Z$207,0)+1)="","",INDEX('Meus preços da cidade'!$C:$C,MATCH(33,$Z$8:$Z$207,0)+1)),"") | E40: =IFERROR(IF(INDEX('Meus preços da cidade'!$E:$E,MATCH(33,$Z$8:$Z$207,0)+1)="","",INDEX('Meus preços da cidade'!$E:$E,MATCH(33,$Z$8:$Z$207,0)+1)),"") | F40: =IFERROR(IF(INDEX('Meus preços da cidade'!$G:$G,MATCH(33,$Z$8:$Z$207,0)+1)="","",INDEX('Meus preços da cidade'!$G:$G,MATCH(33,$Z$8:$Z$207,0)+1)),"") | Y40: =SUBSTITUTE(SUBSTITUTE(SUBSTITUTE(SUBSTITUTE(SUBSTITUTE(SUBSTITUTE(SUBSTITUTE(SUBSTITUTE(SUBSTITUTE(SUBSTITUTE(SUBSTITUTE(SUBSTITUTE(SUBSTITUTE(SUBSTITUTE(LOWER('Meus preços da cidade'!A34&" "&'Meus preços da cidade'!B34&" "&'Meus preços da cidade'!H34),"á","a"),"à","a"),"ã","a"),"â","a"),"é","e"),"ê","e"),"í","i"),"ó","o"),"ô","o"),"õ","o"),"ú","u"),"ç","c"),"-"," ")," ","") | Z40: =IF($Z$2="","",IF(AND(ISNUMBER(SEARCH($Z$2,Y40)),OR($Z$3="",ISNUMBER(SEARCH($Z$3,Y40))),OR($Z$4="",ISNUMBER(SEARCH($Z$4,Y40)))),MAX($Z$7:Z39)+1,""))
B41: =IFERROR(IF(INDEX('Meus preços da cidade'!$A:$A,MATCH(34,$Z$8:$Z$207,0)+1)="","",INDEX('Meus preços da cidade'!$A:$A,MATCH(34,$Z$8:$Z$207,0)+1)),"") | C41: =IFERROR(IF(INDEX('Meus preços da cidade'!$B:$B,MATCH(34,$Z$8:$Z$207,0)+1)="","",INDEX('Meus preços da cidade'!$B:$B,MATCH(34,$Z$8:$Z$207,0)+1)),"") | D41: =IFERROR(IF(INDEX('Meus preços da cidade'!$C:$C,MATCH(34,$Z$8:$Z$207,0)+1)="","",INDEX('Meus preços da cidade'!$C:$C,MATCH(34,$Z$8:$Z$207,0)+1)),"") | E41: =IFERROR(IF(INDEX('Meus preços da cidade'!$E:$E,MATCH(34,$Z$8:$Z$207,0)+1)="","",INDEX('Meus preços da cidade'!$E:$E,MATCH(34,$Z$8:$Z$207,0)+1)),"") | F41: =IFERROR(IF(INDEX('Meus preços da cidade'!$G:$G,MATCH(34,$Z$8:$Z$207,0)+1)="","",INDEX('Meus preços da cidade'!$G:$G,MATCH(34,$Z$8:$Z$207,0)+1)),"") | Y41: =SUBSTITUTE(SUBSTITUTE(SUBSTITUTE(SUBSTITUTE(SUBSTITUTE(SUBSTITUTE(SUBSTITUTE(SUBSTITUTE(SUBSTITUTE(SUBSTITUTE(SUBSTITUTE(SUBSTITUTE(SUBSTITUTE(SUBSTITUTE(LOWER('Meus preços da cidade'!A35&" "&'Meus preços da cidade'!B35&" "&'Meus preços da cidade'!H35),"á","a"),"à","a"),"ã","a"),"â","a"),"é","e"),"ê","e"),"í","i"),"ó","o"),"ô","o"),"õ","o"),"ú","u"),"ç","c"),"-"," ")," ","") | Z41: =IF($Z$2="","",IF(AND(ISNUMBER(SEARCH($Z$2,Y41)),OR($Z$3="",ISNUMBER(SEARCH($Z$3,Y41))),OR($Z$4="",ISNUMBER(SEARCH($Z$4,Y41)))),MAX($Z$7:Z40)+1,""))
B42: =IFERROR(IF(INDEX('Meus preços da cidade'!$A:$A,MATCH(35,$Z$8:$Z$207,0)+1)="","",INDEX('Meus preços da cidade'!$A:$A,MATCH(35,$Z$8:$Z$207,0)+1)),"") | C42: =IFERROR(IF(INDEX('Meus preços da cidade'!$B:$B,MATCH(35,$Z$8:$Z$207,0)+1)="","",INDEX('Meus preços da cidade'!$B:$B,MATCH(35,$Z$8:$Z$207,0)+1)),"") | D42: =IFERROR(IF(INDEX('Meus preços da cidade'!$C:$C,MATCH(35,$Z$8:$Z$207,0)+1)="","",INDEX('Meus preços da cidade'!$C:$C,MATCH(35,$Z$8:$Z$207,0)+1)),"") | E42: =IFERROR(IF(INDEX('Meus preços da cidade'!$E:$E,MATCH(35,$Z$8:$Z$207,0)+1)="","",INDEX('Meus preços da cidade'!$E:$E,MATCH(35,$Z$8:$Z$207,0)+1)),"") | F42: =IFERROR(IF(INDEX('Meus preços da cidade'!$G:$G,MATCH(35,$Z$8:$Z$207,0)+1)="","",INDEX('Meus preços da cidade'!$G:$G,MATCH(35,$Z$8:$Z$207,0)+1)),"") | Y42: =SUBSTITUTE(SUBSTITUTE(SUBSTITUTE(SUBSTITUTE(SUBSTITUTE(SUBSTITUTE(SUBSTITUTE(SUBSTITUTE(SUBSTITUTE(SUBSTITUTE(SUBSTITUTE(SUBSTITUTE(SUBSTITUTE(SUBSTITUTE(LOWER('Meus preços da cidade'!A36&" "&'Meus preços da cidade'!B36&" "&'Meus preços da cidade'!H36),"á","a"),"à","a"),"ã","a"),"â","a"),"é","e"),"ê","e"),"í","i"),"ó","o"),"ô","o"),"õ","o"),"ú","u"),"ç","c"),"-"," ")," ","") | Z42: =IF($Z$2="","",IF(AND(ISNUMBER(SEARCH($Z$2,Y42)),OR($Z$3="",ISNUMBER(SEARCH($Z$3,Y42))),OR($Z$4="",ISNUMBER(SEARCH($Z$4,Y42)))),MAX($Z$7:Z41)+1,""))
B43: =IFERROR(IF(INDEX('Meus preços da cidade'!$A:$A,MATCH(36,$Z$8:$Z$207,0)+1)="","",INDEX('Meus preços da cidade'!$A:$A,MATCH(36,$Z$8:$Z$207,0)+1)),"") | C43: =IFERROR(IF(INDEX('Meus preços da cidade'!$B:$B,MATCH(36,$Z$8:$Z$207,0)+1)="","",INDEX('Meus preços da cidade'!$B:$B,MATCH(36,$Z$8:$Z$207,0)+1)),"") | D43: =IFERROR(IF(INDEX('Meus preços da cidade'!$C:$C,MATCH(36,$Z$8:$Z$207,0)+1)="","",INDEX('Meus preços da cidade'!$C:$C,MATCH(36,$Z$8:$Z$207,0)+1)),"") | E43: =IFERROR(IF(INDEX('Meus preços da cidade'!$E:$E,MATCH(36,$Z$8:$Z$207,0)+1)="","",INDEX('Meus preços da cidade'!$E:$E,MATCH(36,$Z$8:$Z$207,0)+1)),"") | F43: =IFERROR(IF(INDEX('Meus preços da cidade'!$G:$G,MATCH(36,$Z$8:$Z$207,0)+1)="","",INDEX('Meus preços da cidade'!$G:$G,MATCH(36,$Z$8:$Z$207,0)+1)),"") | Y43: =SUBSTITUTE(SUBSTITUTE(SUBSTITUTE(SUBSTITUTE(SUBSTITUTE(SUBSTITUTE(SUBSTITUTE(SUBSTITUTE(SUBSTITUTE(SUBSTITUTE(SUBSTITUTE(SUBSTITUTE(SUBSTITUTE(SUBSTITUTE(LOWER('Meus preços da cidade'!A37&" "&'Meus preços da cidade'!B37&" "&'Meus preços da cidade'!H37),"á","a"),"à","a"),"ã","a"),"â","a"),"é","e"),"ê","e"),"í","i"),"ó","o"),"ô","o"),"õ","o"),"ú","u"),"ç","c"),"-"," ")," ","") | Z43: =IF($Z$2="","",IF(AND(ISNUMBER(SEARCH($Z$2,Y43)),OR($Z$3="",ISNUMBER(SEARCH($Z$3,Y43))),OR($Z$4="",ISNUMBER(SEARCH($Z$4,Y43)))),MAX($Z$7:Z42)+1,""))
B44: =IFERROR(IF(INDEX('Meus preços da cidade'!$A:$A,MATCH(37,$Z$8:$Z$207,0)+1)="","",INDEX('Meus preços da cidade'!$A:$A,MATCH(37,$Z$8:$Z$207,0)+1)),"") | C44: =IFERROR(IF(INDEX('Meus preços da cidade'!$B:$B,MATCH(37,$Z$8:$Z$207,0)+1)="","",INDEX('Meus preços da cidade'!$B:$B,MATCH(37,$Z$8:$Z$207,0)+1)),"") | D44: =IFERROR(IF(INDEX('Meus preços da cidade'!$C:$C,MATCH(37,$Z$8:$Z$207,0)+1)="","",INDEX('Meus preços da cidade'!$C:$C,MATCH(37,$Z$8:$Z$207,0)+1)),"") | E44: =IFERROR(IF(INDEX('Meus preços da cidade'!$E:$E,MATCH(37,$Z$8:$Z$207,0)+1)="","",INDEX('Meus preços da cidade'!$E:$E,MATCH(37,$Z$8:$Z$207,0)+1)),"") | F44: =IFERROR(IF(INDEX('Meus preços da cidade'!$G:$G,MATCH(37,$Z$8:$Z$207,0)+1)="","",INDEX('Meus preços da cidade'!$G:$G,MATCH(37,$Z$8:$Z$207,0)+1)),"") | Y44: =SUBSTITUTE(SUBSTITUTE(SUBSTITUTE(SUBSTITUTE(SUBSTITUTE(SUBSTITUTE(SUBSTITUTE(SUBSTITUTE(SUBSTITUTE(SUBSTITUTE(SUBSTITUTE(SUBSTITUTE(SUBSTITUTE(SUBSTITUTE(LOWER('Meus preços da cidade'!A38&" "&'Meus preços da cidade'!B38&" "&'Meus preços da cidade'!H38),"á","a"),"à","a"),"ã","a"),"â","a"),"é","e"),"ê","e"),"í","i"),"ó","o"),"ô","o"),"õ","o"),"ú","u"),"ç","c"),"-"," ")," ","") | Z44: =IF($Z$2="","",IF(AND(ISNUMBER(SEARCH($Z$2,Y44)),OR($Z$3="",ISNUMBER(SEARCH($Z$3,Y44))),OR($Z$4="",ISNUMBER(SEARCH($Z$4,Y44)))),MAX($Z$7:Z43)+1,""))
B45: =IFERROR(IF(INDEX('Meus preços da cidade'!$A:$A,MATCH(38,$Z$8:$Z$207,0)+1)="","",INDEX('Meus preços da cidade'!$A:$A,MATCH(38,$Z$8:$Z$207,0)+1)),"") | C45: =IFERROR(IF(INDEX('Meus preços da cidade'!$B:$B,MATCH(38,$Z$8:$Z$207,0)+1)="","",INDEX('Meus preços da cidade'!$B:$B,MATCH(38,$Z$8:$Z$207,0)+1)),"") | D45: =IFERROR(IF(INDEX('Meus preços da cidade'!$C:$C,MATCH(38,$Z$8:$Z$207,0)+1)="","",INDEX('Meus preços da cidade'!$C:$C,MATCH(38,$Z$8:$Z$207,0)+1)),"") | E45: =IFERROR(IF(INDEX('Meus preços da cidade'!$E:$E,MATCH(38,$Z$8:$Z$207,0)+1)="","",INDEX('Meus preços da cidade'!$E:$E,MATCH(38,$Z$8:$Z$207,0)+1)),"") | F45: =IFERROR(IF(INDEX('Meus preços da cidade'!$G:$G,MATCH(38,$Z$8:$Z$207,0)+1)="","",INDEX('Meus preços da cidade'!$G:$G,MATCH(38,$Z$8:$Z$207,0)+1)),"") | Y45: =SUBSTITUTE(SUBSTITUTE(SUBSTITUTE(SUBSTITUTE(SUBSTITUTE(SUBSTITUTE(SUBSTITUTE(SUBSTITUTE(SUBSTITUTE(SUBSTITUTE(SUBSTITUTE(SUBSTITUTE(SUBSTITUTE(SUBSTITUTE(LOWER('Meus preços da cidade'!A39&" "&'Meus preços da cidade'!B39&" "&'Meus preços da cidade'!H39),"á","a"),"à","a"),"ã","a"),"â","a"),"é","e"),"ê","e"),"í","i"),"ó","o"),"ô","o"),"õ","o"),"ú","u"),"ç","c"),"-"," ")," ","") | Z45: =IF($Z$2="","",IF(AND(ISNUMBER(SEARCH($Z$2,Y45)),OR($Z$3="",ISNUMBER(SEARCH($Z$3,Y45))),OR($Z$4="",ISNUMBER(SEARCH($Z$4,Y45)))),MAX($Z$7:Z44)+1,""))
B46: =IFERROR(IF(INDEX('Meus preços da cidade'!$A:$A,MATCH(39,$Z$8:$Z$207,0)+1)="","",INDEX('Meus preços da cidade'!$A:$A,MATCH(39,$Z$8:$Z$207,0)+1)),"") | C46: =IFERROR(IF(INDEX('Meus preços da cidade'!$B:$B,MATCH(39,$Z$8:$Z$207,0)+1)="","",INDEX('Meus preços da cidade'!$B:$B,MATCH(39,$Z$8:$Z$207,0)+1)),"") | D46: =IFERROR(IF(INDEX('Meus preços da cidade'!$C:$C,MATCH(39,$Z$8:$Z$207,0)+1)="","",INDEX('Meus preços da cidade'!$C:$C,MATCH(39,$Z$8:$Z$207,0)+1)),"") | E46: =IFERROR(IF(INDEX('Meus preços da cidade'!$E:$E,MATCH(39,$Z$8:$Z$207,0)+1)="","",INDEX('Meus preços da cidade'!$E:$E,MATCH(39,$Z$8:$Z$207,0)+1)),"") | F46: =IFERROR(IF(INDEX('Meus preços da cidade'!$G:$G,MATCH(39,$Z$8:$Z$207,0)+1)="","",INDEX('Meus preços da cidade'!$G:$G,MATCH(39,$Z$8:$Z$207,0)+1)),"") | Y46: =SUBSTITUTE(SUBSTITUTE(SUBSTITUTE(SUBSTITUTE(SUBSTITUTE(SUBSTITUTE(SUBSTITUTE(SUBSTITUTE(SUBSTITUTE(SUBSTITUTE(SUBSTITUTE(SUBSTITUTE(SUBSTITUTE(SUBSTITUTE(LOWER('Meus preços da cidade'!A40&" "&'Meus preços da cidade'!B40&" "&'Meus preços da cidade'!H40),"á","a"),"à","a"),"ã","a"),"â","a"),"é","e"),"ê","e"),"í","i"),"ó","o"),"ô","o"),"õ","o"),"ú","u"),"ç","c"),"-"," ")," ","") | Z46: =IF($Z$2="","",IF(AND(ISNUMBER(SEARCH($Z$2,Y46)),OR($Z$3="",ISNUMBER(SEARCH($Z$3,Y46))),OR($Z$4="",ISNUMBER(SEARCH($Z$4,Y46)))),MAX($Z$7:Z45)+1,""))
B47: =IFERROR(IF(INDEX('Meus preços da cidade'!$A:$A,MATCH(40,$Z$8:$Z$207,0)+1)="","",INDEX('Meus preços da cidade'!$A:$A,MATCH(40,$Z$8:$Z$207,0)+1)),"") | C47: =IFERROR(IF(INDEX('Meus preços da cidade'!$B:$B,MATCH(40,$Z$8:$Z$207,0)+1)="","",INDEX('Meus preços da cidade'!$B:$B,MATCH(40,$Z$8:$Z$207,0)+1)),"") | D47: =IFERROR(IF(INDEX('Meus preços da cidade'!$C:$C,MATCH(40,$Z$8:$Z$207,0)+1)="","",INDEX('Meus preços da cidade'!$C:$C,MATCH(40,$Z$8:$Z$207,0)+1)),"") | E47: =IFERROR(IF(INDEX('Meus preços da cidade'!$E:$E,MATCH(40,$Z$8:$Z$207,0)+1)="","",INDEX('Meus preços da cidade'!$E:$E,MATCH(40,$Z$8:$Z$207,0)+1)),"") | F47: =IFERROR(IF(INDEX('Meus preços da cidade'!$G:$G,MATCH(40,$Z$8:$Z$207,0)+1)="","",INDEX('Meus preços da cidade'!$G:$G,MATCH(40,$Z$8:$Z$207,0)+1)),"") | Y47: =SUBSTITUTE(SUBSTITUTE(SUBSTITUTE(SUBSTITUTE(SUBSTITUTE(SUBSTITUTE(SUBSTITUTE(SUBSTITUTE(SUBSTITUTE(SUBSTITUTE(SUBSTITUTE(SUBSTITUTE(SUBSTITUTE(SUBSTITUTE(LOWER('Meus preços da cidade'!A41&" "&'Meus preços da cidade'!B41&" "&'Meus preços da cidade'!H41),"á","a"),"à","a"),"ã","a"),"â","a"),"é","e"),"ê","e"),"í","i"),"ó","o"),"ô","o"),"õ","o"),"ú","u"),"ç","c"),"-"," ")," ","") | Z47: =IF($Z$2="","",IF(AND(ISNUMBER(SEARCH($Z$2,Y47)),OR($Z$3="",ISNUMBER(SEARCH($Z$3,Y47))),OR($Z$4="",ISNUMBER(SEARCH($Z$4,Y47)))),MAX($Z$7:Z46)+1,""))
B48: =IFERROR(IF(INDEX('Meus preços da cidade'!$A:$A,MATCH(41,$Z$8:$Z$207,0)+1)="","",INDEX('Meus preços da cidade'!$A:$A,MATCH(41,$Z$8:$Z$207,0)+1)),"") | C48: =IFERROR(IF(INDEX('Meus preços da cidade'!$B:$B,MATCH(41,$Z$8:$Z$207,0)+1)="","",INDEX('Meus preços da cidade'!$B:$B,MATCH(41,$Z$8:$Z$207,0)+1)),"") | D48: =IFERROR(IF(INDEX('Meus preços da cidade'!$C:$C,MATCH(41,$Z$8:$Z$207,0)+1)="","",INDEX('Meus preços da cidade'!$C:$C,MATCH(41,$Z$8:$Z$207,0)+1)),"") | E48: =IFERROR(IF(INDEX('Meus preços da cidade'!$E:$E,MATCH(41,$Z$8:$Z$207,0)+1)="","",INDEX('Meus preços da cidade'!$E:$E,MATCH(41,$Z$8:$Z$207,0)+1)),"") | F48: =IFERROR(IF(INDEX('Meus preços da cidade'!$G:$G,MATCH(41,$Z$8:$Z$207,0)+1)="","",INDEX('Meus preços da cidade'!$G:$G,MATCH(41,$Z$8:$Z$207,0)+1)),"") | Y48: =SUBSTITUTE(SUBSTITUTE(SUBSTITUTE(SUBSTITUTE(SUBSTITUTE(SUBSTITUTE(SUBSTITUTE(SUBSTITUTE(SUBSTITUTE(SUBSTITUTE(SUBSTITUTE(SUBSTITUTE(SUBSTITUTE(SUBSTITUTE(LOWER('Meus preços da cidade'!A42&" "&'Meus preços da cidade'!B42&" "&'Meus preços da cidade'!H42),"á","a"),"à","a"),"ã","a"),"â","a"),"é","e"),"ê","e"),"í","i"),"ó","o"),"ô","o"),"õ","o"),"ú","u"),"ç","c"),"-"," ")," ","") | Z48: =IF($Z$2="","",IF(AND(ISNUMBER(SEARCH($Z$2,Y48)),OR($Z$3="",ISNUMBER(SEARCH($Z$3,Y48))),OR($Z$4="",ISNUMBER(SEARCH($Z$4,Y48)))),MAX($Z$7:Z47)+1,""))
B49: =IFERROR(IF(INDEX('Meus preços da cidade'!$A:$A,MATCH(42,$Z$8:$Z$207,0)+1)="","",INDEX('Meus preços da cidade'!$A:$A,MATCH(42,$Z$8:$Z$207,0)+1)),"") | C49: =IFERROR(IF(INDEX('Meus preços da cidade'!$B:$B,MATCH(42,$Z$8:$Z$207,0)+1)="","",INDEX('Meus preços da cidade'!$B:$B,MATCH(42,$Z$8:$Z$207,0)+1)),"") | D49: =IFERROR(IF(INDEX('Meus preços da cidade'!$C:$C,MATCH(42,$Z$8:$Z$207,0)+1)="","",INDEX('Meus preços da cidade'!$C:$C,MATCH(42,$Z$8:$Z$207,0)+1)),"") | E49: =IFERROR(IF(INDEX('Meus preços da cidade'!$E:$E,MATCH(42,$Z$8:$Z$207,0)+1)="","",INDEX('Meus preços da cidade'!$E:$E,MATCH(42,$Z$8:$Z$207,0)+1)),"") | F49: =IFERROR(IF(INDEX('Meus preços da cidade'!$G:$G,MATCH(42,$Z$8:$Z$207,0)+1)="","",INDEX('Meus preços da cidade'!$G:$G,MATCH(42,$Z$8:$Z$207,0)+1)),"") | Y49: =SUBSTITUTE(SUBSTITUTE(SUBSTITUTE(SUBSTITUTE(SUBSTITUTE(SUBSTITUTE(SUBSTITUTE(SUBSTITUTE(SUBSTITUTE(SUBSTITUTE(SUBSTITUTE(SUBSTITUTE(SUBSTITUTE(SUBSTITUTE(LOWER('Meus preços da cidade'!A43&" "&'Meus preços da cidade'!B43&" "&'Meus preços da cidade'!H43),"á","a"),"à","a"),"ã","a"),"â","a"),"é","e"),"ê","e"),"í","i"),"ó","o"),"ô","o"),"õ","o"),"ú","u"),"ç","c"),"-"," ")," ","") | Z49: =IF($Z$2="","",IF(AND(ISNUMBER(SEARCH($Z$2,Y49)),OR($Z$3="",ISNUMBER(SEARCH($Z$3,Y49))),OR($Z$4="",ISNUMBER(SEARCH($Z$4,Y49)))),MAX($Z$7:Z48)+1,""))
B50: =IFERROR(IF(INDEX('Meus preços da cidade'!$A:$A,MATCH(43,$Z$8:$Z$207,0)+1)="","",INDEX('Meus preços da cidade'!$A:$A,MATCH(43,$Z$8:$Z$207,0)+1)),"") | C50: =IFERROR(IF(INDEX('Meus preços da cidade'!$B:$B,MATCH(43,$Z$8:$Z$207,0)+1)="","",INDEX('Meus preços da cidade'!$B:$B,MATCH(43,$Z$8:$Z$207,0)+1)),"") | D50: =IFERROR(IF(INDEX('Meus preços da cidade'!$C:$C,MATCH(43,$Z$8:$Z$207,0)+1)="","",INDEX('Meus preços da cidade'!$C:$C,MATCH(43,$Z$8:$Z$207,0)+1)),"") | E50: =IFERROR(IF(INDEX('Meus preços da cidade'!$E:$E,MATCH(43,$Z$8:$Z$207,0)+1)="","",INDEX('Meus preços da cidade'!$E:$E,MATCH(43,$Z$8:$Z$207,0)+1)),"") | F50: =IFERROR(IF(INDEX('Meus preços da cidade'!$G:$G,MATCH(43,$Z$8:$Z$207,0)+1)="","",INDEX('Meus preços da cidade'!$G:$G,MATCH(43,$Z$8:$Z$207,0)+1)),"") | Y50: =SUBSTITUTE(SUBSTITUTE(SUBSTITUTE(SUBSTITUTE(SUBSTITUTE(SUBSTITUTE(SUBSTITUTE(SUBSTITUTE(SUBSTITUTE(SUBSTITUTE(SUBSTITUTE(SUBSTITUTE(SUBSTITUTE(SUBSTITUTE(LOWER('Meus preços da cidade'!A44&" "&'Meus preços da cidade'!B44&" "&'Meus preços da cidade'!H44),"á","a"),"à","a"),"ã","a"),"â","a"),"é","e"),"ê","e"),"í","i"),"ó","o"),"ô","o"),"õ","o"),"ú","u"),"ç","c"),"-"," ")," ","") | Z50: =IF($Z$2="","",IF(AND(ISNUMBER(SEARCH($Z$2,Y50)),OR($Z$3="",ISNUMBER(SEARCH($Z$3,Y50))),OR($Z$4="",ISNUMBER(SEARCH($Z$4,Y50)))),MAX($Z$7:Z49)+1,""))
B51: =IFERROR(IF(INDEX('Meus preços da cidade'!$A:$A,MATCH(44,$Z$8:$Z$207,0)+1)="","",INDEX('Meus preços da cidade'!$A:$A,MATCH(44,$Z$8:$Z$207,0)+1)),"") | C51: =IFERROR(IF(INDEX('Meus preços da cidade'!$B:$B,MATCH(44,$Z$8:$Z$207,0)+1)="","",INDEX('Meus preços da cidade'!$B:$B,MATCH(44,$Z$8:$Z$207,0)+1)),"") | D51: =IFERROR(IF(INDEX('Meus preços da cidade'!$C:$C,MATCH(44,$Z$8:$Z$207,0)+1)="","",INDEX('Meus preços da cidade'!$C:$C,MATCH(44,$Z$8:$Z$207,0)+1)),"") | E51: =IFERROR(IF(INDEX('Meus preços da cidade'!$E:$E,MATCH(44,$Z$8:$Z$207,0)+1)="","",INDEX('Meus preços da cidade'!$E:$E,MATCH(44,$Z$8:$Z$207,0)+1)),"") | F51: =IFERROR(IF(INDEX('Meus preços da cidade'!$G:$G,MATCH(44,$Z$8:$Z$207,0)+1)="","",INDEX('Meus preços da cidade'!$G:$G,MATCH(44,$Z$8:$Z$207,0)+1)),"") | Y51: =SUBSTITUTE(SUBSTITUTE(SUBSTITUTE(SUBSTITUTE(SUBSTITUTE(SUBSTITUTE(SUBSTITUTE(SUBSTITUTE(SUBSTITUTE(SUBSTITUTE(SUBSTITUTE(SUBSTITUTE(SUBSTITUTE(SUBSTITUTE(LOWER('Meus preços da cidade'!A45&" "&'Meus preços da cidade'!B45&" "&'Meus preços da cidade'!H45),"á","a"),"à","a"),"ã","a"),"â","a"),"é","e"),"ê","e"),"í","i"),"ó","o"),"ô","o"),"õ","o"),"ú","u"),"ç","c"),"-"," ")," ","") | Z51: =IF($Z$2="","",IF(AND(ISNUMBER(SEARCH($Z$2,Y51)),OR($Z$3="",ISNUMBER(SEARCH($Z$3,Y51))),OR($Z$4="",ISNUMBER(SEARCH($Z$4,Y51)))),MAX($Z$7:Z50)+1,""))
B52: =IFERROR(IF(INDEX('Meus preços da cidade'!$A:$A,MATCH(45,$Z$8:$Z$207,0)+1)="","",INDEX('Meus preços da cidade'!$A:$A,MATCH(45,$Z$8:$Z$207,0)+1)),"") | C52: =IFERROR(IF(INDEX('Meus preços da cidade'!$B:$B,MATCH(45,$Z$8:$Z$207,0)+1)="","",INDEX('Meus preços da cidade'!$B:$B,MATCH(45,$Z$8:$Z$207,0)+1)),"") | D52: =IFERROR(IF(INDEX('Meus preços da cidade'!$C:$C,MATCH(45,$Z$8:$Z$207,0)+1)="","",INDEX('Meus preços da cidade'!$C:$C,MATCH(45,$Z$8:$Z$207,0)+1)),"") | E52: =IFERROR(IF(INDEX('Meus preços da cidade'!$E:$E,MATCH(45,$Z$8:$Z$207,0)+1)="","",INDEX('Meus preços da cidade'!$E:$E,MATCH(45,$Z$8:$Z$207,0)+1)),"") | F52: =IFERROR(IF(INDEX('Meus preços da cidade'!$G:$G,MATCH(45,$Z$8:$Z$207,0)+1)="","",INDEX('Meus preços da cidade'!$G:$G,MATCH(45,$Z$8:$Z$207,0)+1)),"") | Y52: =SUBSTITUTE(SUBSTITUTE(SUBSTITUTE(SUBSTITUTE(SUBSTITUTE(SUBSTITUTE(SUBSTITUTE(SUBSTITUTE(SUBSTITUTE(SUBSTITUTE(SUBSTITUTE(SUBSTITUTE(SUBSTITUTE(SUBSTITUTE(LOWER('Meus preços da cidade'!A46&" "&'Meus preços da cidade'!B46&" "&'Meus preços da cidade'!H46),"á","a"),"à","a"),"ã","a"),"â","a"),"é","e"),"ê","e"),"í","i"),"ó","o"),"ô","o"),"õ","o"),"ú","u"),"ç","c"),"-"," ")," ","") | Z52: =IF($Z$2="","",IF(AND(ISNUMBER(SEARCH($Z$2,Y52)),OR($Z$3="",ISNUMBER(SEARCH($Z$3,Y52))),OR($Z$4="",ISNUMBER(SEARCH($Z$4,Y52)))),MAX($Z$7:Z51)+1,""))
B53: =IFERROR(IF(INDEX('Meus preços da cidade'!$A:$A,MATCH(46,$Z$8:$Z$207,0)+1)="","",INDEX('Meus preços da cidade'!$A:$A,MATCH(46,$Z$8:$Z$207,0)+1)),"") | C53: =IFERROR(IF(INDEX('Meus preços da cidade'!$B:$B,MATCH(46,$Z$8:$Z$207,0)+1)="","",INDEX('Meus preços da cidade'!$B:$B,MATCH(46,$Z$8:$Z$207,0)+1)),"") | D53: =IFERROR(IF(INDEX('Meus preços da cidade'!$C:$C,MATCH(46,$Z$8:$Z$207,0)+1)="","",INDEX('Meus preços da cidade'!$C:$C,MATCH(46,$Z$8:$Z$207,0)+1)),"") | E53: =IFERROR(IF(INDEX('Meus preços da cidade'!$E:$E,MATCH(46,$Z$8:$Z$207,0)+1)="","",INDEX('Meus preços da cidade'!$E:$E,MATCH(46,$Z$8:$Z$207,0)+1)),"") | F53: =IFERROR(IF(INDEX('Meus preços da cidade'!$G:$G,MATCH(46,$Z$8:$Z$207,0)+1)="","",INDEX('Meus preços da cidade'!$G:$G,MATCH(46,$Z$8:$Z$207,0)+1)),"") | Y53: =SUBSTITUTE(SUBSTITUTE(SUBSTITUTE(SUBSTITUTE(SUBSTITUTE(SUBSTITUTE(SUBSTITUTE(SUBSTITUTE(SUBSTITUTE(SUBSTITUTE(SUBSTITUTE(SUBSTITUTE(SUBSTITUTE(SUBSTITUTE(LOWER('Meus preços da cidade'!A47&" "&'Meus preços da cidade'!B47&" "&'Meus preços da cidade'!H47),"á","a"),"à","a"),"ã","a"),"â","a"),"é","e"),"ê","e"),"í","i"),"ó","o"),"ô","o"),"õ","o"),"ú","u"),"ç","c"),"-"," ")," ","") | Z53: =IF($Z$2="","",IF(AND(ISNUMBER(SEARCH($Z$2,Y53)),OR($Z$3="",ISNUMBER(SEARCH($Z$3,Y53))),OR($Z$4="",ISNUMBER(SEARCH($Z$4,Y53)))),MAX($Z$7:Z52)+1,""))
B54: =IFERROR(IF(INDEX('Meus preços da cidade'!$A:$A,MATCH(47,$Z$8:$Z$207,0)+1)="","",INDEX('Meus preços da cidade'!$A:$A,MATCH(47,$Z$8:$Z$207,0)+1)),"") | C54: =IFERROR(IF(INDEX('Meus preços da cidade'!$B:$B,MATCH(47,$Z$8:$Z$207,0)+1)="","",INDEX('Meus preços da cidade'!$B:$B,MATCH(47,$Z$8:$Z$207,0)+1)),"") | D54: =IFERROR(IF(INDEX('Meus preços da cidade'!$C:$C,MATCH(47,$Z$8:$Z$207,0)+1)="","",INDEX('Meus preços da cidade'!$C:$C,MATCH(47,$Z$8:$Z$207,0)+1)),"") | E54: =IFERROR(IF(INDEX('Meus preços da cidade'!$E:$E,MATCH(47,$Z$8:$Z$207,0)+1)="","",INDEX('Meus preços da cidade'!$E:$E,MATCH(47,$Z$8:$Z$207,0)+1)),"") | F54: =IFERROR(IF(INDEX('Meus preços da cidade'!$G:$G,MATCH(47,$Z$8:$Z$207,0)+1)="","",INDEX('Meus preços da cidade'!$G:$G,MATCH(47,$Z$8:$Z$207,0)+1)),"") | Y54: =SUBSTITUTE(SUBSTITUTE(SUBSTITUTE(SUBSTITUTE(SUBSTITUTE(SUBSTITUTE(SUBSTITUTE(SUBSTITUTE(SUBSTITUTE(SUBSTITUTE(SUBSTITUTE(SUBSTITUTE(SUBSTITUTE(SUBSTITUTE(LOWER('Meus preços da cidade'!A48&" "&'Meus preços da cidade'!B48&" "&'Meus preços da cidade'!H48),"á","a"),"à","a"),"ã","a"),"â","a"),"é","e"),"ê","e"),"í","i"),"ó","o"),"ô","o"),"õ","o"),"ú","u"),"ç","c"),"-"," ")," ","") | Z54: =IF($Z$2="","",IF(AND(ISNUMBER(SEARCH($Z$2,Y54)),OR($Z$3="",ISNUMBER(SEARCH($Z$3,Y54))),OR($Z$4="",ISNUMBER(SEARCH($Z$4,Y54)))),MAX($Z$7:Z53)+1,""))
B55: =IFERROR(IF(INDEX('Meus preços da cidade'!$A:$A,MATCH(48,$Z$8:$Z$207,0)+1)="","",INDEX('Meus preços da cidade'!$A:$A,MATCH(48,$Z$8:$Z$207,0)+1)),"") | C55: =IFERROR(IF(INDEX('Meus preços da cidade'!$B:$B,MATCH(48,$Z$8:$Z$207,0)+1)="","",INDEX('Meus preços da cidade'!$B:$B,MATCH(48,$Z$8:$Z$207,0)+1)),"") | D55: =IFERROR(IF(INDEX('Meus preços da cidade'!$C:$C,MATCH(48,$Z$8:$Z$207,0)+1)="","",INDEX('Meus preços da cidade'!$C:$C,MATCH(48,$Z$8:$Z$207,0)+1)),"") | E55: =IFERROR(IF(INDEX('Meus preços da cidade'!$E:$E,MATCH(48,$Z$8:$Z$207,0)+1)="","",INDEX('Meus preços da cidade'!$E:$E,MATCH(48,$Z$8:$Z$207,0)+1)),"") | F55: =IFERROR(IF(INDEX('Meus preços da cidade'!$G:$G,MATCH(48,$Z$8:$Z$207,0)+1)="","",INDEX('Meus preços da cidade'!$G:$G,MATCH(48,$Z$8:$Z$207,0)+1)),"") | Y55: =SUBSTITUTE(SUBSTITUTE(SUBSTITUTE(SUBSTITUTE(SUBSTITUTE(SUBSTITUTE(SUBSTITUTE(SUBSTITUTE(SUBSTITUTE(SUBSTITUTE(SUBSTITUTE(SUBSTITUTE(SUBSTITUTE(SUBSTITUTE(LOWER('Meus preços da cidade'!A49&" "&'Meus preços da cidade'!B49&" "&'Meus preços da cidade'!H49),"á","a"),"à","a"),"ã","a"),"â","a"),"é","e"),"ê","e"),"í","i"),"ó","o"),"ô","o"),"õ","o"),"ú","u"),"ç","c"),"-"," ")," ","") | Z55: =IF($Z$2="","",IF(AND(ISNUMBER(SEARCH($Z$2,Y55)),OR($Z$3="",ISNUMBER(SEARCH($Z$3,Y55))),OR($Z$4="",ISNUMBER(SEARCH($Z$4,Y55)))),MAX($Z$7:Z54)+1,""))
B56: =IFERROR(IF(INDEX('Meus preços da cidade'!$A:$A,MATCH(49,$Z$8:$Z$207,0)+1)="","",INDEX('Meus preços da cidade'!$A:$A,MATCH(49,$Z$8:$Z$207,0)+1)),"") | C56: =IFERROR(IF(INDEX('Meus preços da cidade'!$B:$B,MATCH(49,$Z$8:$Z$207,0)+1)="","",INDEX('Meus preços da cidade'!$B:$B,MATCH(49,$Z$8:$Z$207,0)+1)),"") | D56: =IFERROR(IF(INDEX('Meus preços da cidade'!$C:$C,MATCH(49,$Z$8:$Z$207,0)+1)="","",INDEX('Meus preços da cidade'!$C:$C,MATCH(49,$Z$8:$Z$207,0)+1)),"") | E56: =IFERROR(IF(INDEX('Meus preços da cidade'!$E:$E,MATCH(49,$Z$8:$Z$207,0)+1)="","",INDEX('Meus preços da cidade'!$E:$E,MATCH(49,$Z$8:$Z$207,0)+1)),"") | F56: =IFERROR(IF(INDEX('Meus preços da cidade'!$G:$G,MATCH(49,$Z$8:$Z$207,0)+1)="","",INDEX('Meus preços da cidade'!$G:$G,MATCH(49,$Z$8:$Z$207,0)+1)),"") | Y56: =SUBSTITUTE(SUBSTITUTE(SUBSTITUTE(SUBSTITUTE(SUBSTITUTE(SUBSTITUTE(SUBSTITUTE(SUBSTITUTE(SUBSTITUTE(SUBSTITUTE(SUBSTITUTE(SUBSTITUTE(SUBSTITUTE(SUBSTITUTE(LOWER('Meus preços da cidade'!A50&" "&'Meus preços da cidade'!B50&" "&'Meus preços da cidade'!H50),"á","a"),"à","a"),"ã","a"),"â","a"),"é","e"),"ê","e"),"í","i"),"ó","o"),"ô","o"),"õ","o"),"ú","u"),"ç","c"),"-"," ")," ","") | Z56: =IF($Z$2="","",IF(AND(ISNUMBER(SEARCH($Z$2,Y56)),OR($Z$3="",ISNUMBER(SEARCH($Z$3,Y56))),OR($Z$4="",ISNUMBER(SEARCH($Z$4,Y56)))),MAX($Z$7:Z55)+1,""))
B57: =IFERROR(IF(INDEX('Meus preços da cidade'!$A:$A,MATCH(50,$Z$8:$Z$207,0)+1)="","",INDEX('Meus preços da cidade'!$A:$A,MATCH(50,$Z$8:$Z$207,0)+1)),"") | C57: =IFERROR(IF(INDEX('Meus preços da cidade'!$B:$B,MATCH(50,$Z$8:$Z$207,0)+1)="","",INDEX('Meus preços da cidade'!$B:$B,MATCH(50,$Z$8:$Z$207,0)+1)),"") | D57: =IFERROR(IF(INDEX('Meus preços da cidade'!$C:$C,MATCH(50,$Z$8:$Z$207,0)+1)="","",INDEX('Meus preços da cidade'!$C:$C,MATCH(50,$Z$8:$Z$207,0)+1)),"") | E57: =IFERROR(IF(INDEX('Meus preços da cidade'!$E:$E,MATCH(50,$Z$8:$Z$207,0)+1)="","",INDEX('Meus preços da cidade'!$E:$E,MATCH(50,$Z$8:$Z$207,0)+1)),"") | F57: =IFERROR(IF(INDEX('Meus preços da cidade'!$G:$G,MATCH(50,$Z$8:$Z$207,0)+1)="","",INDEX('Meus preços da cidade'!$G:$G,MATCH(50,$Z$8:$Z$207,0)+1)),"") | Y57: =SUBSTITUTE(SUBSTITUTE(SUBSTITUTE(SUBSTITUTE(SUBSTITUTE(SUBSTITUTE(SUBSTITUTE(SUBSTITUTE(SUBSTITUTE(SUBSTITUTE(SUBSTITUTE(SUBSTITUTE(SUBSTITUTE(SUBSTITUTE(LOWER('Meus preços da cidade'!A51&" "&'Meus preços da cidade'!B51&" "&'Meus preços da cidade'!H51),"á","a"),"à","a"),"ã","a"),"â","a"),"é","e"),"ê","e"),"í","i"),"ó","o"),"ô","o"),"õ","o"),"ú","u"),"ç","c"),"-"," ")," ","") | Z57: =IF($Z$2="","",IF(AND(ISNUMBER(SEARCH($Z$2,Y57)),OR($Z$3="",ISNUMBER(SEARCH($Z$3,Y57))),OR($Z$4="",ISNUMBER(SEARCH($Z$4,Y57)))),MAX($Z$7:Z56)+1,""))
B58: =IFERROR(IF(INDEX('Meus preços da cidade'!$A:$A,MATCH(51,$Z$8:$Z$207,0)+1)="","",INDEX('Meus preços da cidade'!$A:$A,MATCH(51,$Z$8:$Z$207,0)+1)),"") | C58: =IFERROR(IF(INDEX('Meus preços da cidade'!$B:$B,MATCH(51,$Z$8:$Z$207,0)+1)="","",INDEX('Meus preços da cidade'!$B:$B,MATCH(51,$Z$8:$Z$207,0)+1)),"") | D58: =IFERROR(IF(INDEX('Meus preços da cidade'!$C:$C,MATCH(51,$Z$8:$Z$207,0)+1)="","",INDEX('Meus preços da cidade'!$C:$C,MATCH(51,$Z$8:$Z$207,0)+1)),"") | E58: =IFERROR(IF(INDEX('Meus preços da cidade'!$E:$E,MATCH(51,$Z$8:$Z$207,0)+1)="","",INDEX('Meus preços da cidade'!$E:$E,MATCH(51,$Z$8:$Z$207,0)+1)),"") | F58: =IFERROR(IF(INDEX('Meus preços da cidade'!$G:$G,MATCH(51,$Z$8:$Z$207,0)+1)="","",INDEX('Meus preços da cidade'!$G:$G,MATCH(51,$Z$8:$Z$207,0)+1)),"") | Y58: =SUBSTITUTE(SUBSTITUTE(SUBSTITUTE(SUBSTITUTE(SUBSTITUTE(SUBSTITUTE(SUBSTITUTE(SUBSTITUTE(SUBSTITUTE(SUBSTITUTE(SUBSTITUTE(SUBSTITUTE(SUBSTITUTE(SUBSTITUTE(LOWER('Meus preços da cidade'!A52&" "&'Meus preços da cidade'!B52&" "&'Meus preços da cidade'!H52),"á","a"),"à","a"),"ã","a"),"â","a"),"é","e"),"ê","e"),"í","i"),"ó","o"),"ô","o"),"õ","o"),"ú","u"),"ç","c"),"-"," ")," ","") | Z58: =IF($Z$2="","",IF(AND(ISNUMBER(SEARCH($Z$2,Y58)),OR($Z$3="",ISNUMBER(SEARCH($Z$3,Y58))),OR($Z$4="",ISNUMBER(SEARCH($Z$4,Y58)))),MAX($Z$7:Z57)+1,""))
B59: =IFERROR(IF(INDEX('Meus preços da cidade'!$A:$A,MATCH(52,$Z$8:$Z$207,0)+1)="","",INDEX('Meus preços da cidade'!$A:$A,MATCH(52,$Z$8:$Z$207,0)+1)),"") | C59: =IFERROR(IF(INDEX('Meus preços da cidade'!$B:$B,MATCH(52,$Z$8:$Z$207,0)+1)="","",INDEX('Meus preços da cidade'!$B:$B,MATCH(52,$Z$8:$Z$207,0)+1)),"") | D59: =IFERROR(IF(INDEX('Meus preços da cidade'!$C:$C,MATCH(52,$Z$8:$Z$207,0)+1)="","",INDEX('Meus preços da cidade'!$C:$C,MATCH(52,$Z$8:$Z$207,0)+1)),"") | E59: =IFERROR(IF(INDEX('Meus preços da cidade'!$E:$E,MATCH(52,$Z$8:$Z$207,0)+1)="","",INDEX('Meus preços da cidade'!$E:$E,MATCH(52,$Z$8:$Z$207,0)+1)),"") | F59: =IFERROR(IF(INDEX('Meus preços da cidade'!$G:$G,MATCH(52,$Z$8:$Z$207,0)+1)="","",INDEX('Meus preços da cidade'!$G:$G,MATCH(52,$Z$8:$Z$207,0)+1)),"") | Y59: =SUBSTITUTE(SUBSTITUTE(SUBSTITUTE(SUBSTITUTE(SUBSTITUTE(SUBSTITUTE(SUBSTITUTE(SUBSTITUTE(SUBSTITUTE(SUBSTITUTE(SUBSTITUTE(SUBSTITUTE(SUBSTITUTE(SUBSTITUTE(LOWER('Meus preços da cidade'!A53&" "&'Meus preços da cidade'!B53&" "&'Meus preços da cidade'!H53),"á","a"),"à","a"),"ã","a"),"â","a"),"é","e"),"ê","e"),"í","i"),"ó","o"),"ô","o"),"õ","o"),"ú","u"),"ç","c"),"-"," ")," ","") | Z59: =IF($Z$2="","",IF(AND(ISNUMBER(SEARCH($Z$2,Y59)),OR($Z$3="",ISNUMBER(SEARCH($Z$3,Y59))),OR($Z$4="",ISNUMBER(SEARCH($Z$4,Y59)))),MAX($Z$7:Z58)+1,""))
B60: =IFERROR(IF(INDEX('Meus preços da cidade'!$A:$A,MATCH(53,$Z$8:$Z$207,0)+1)="","",INDEX('Meus preços da cidade'!$A:$A,MATCH(53,$Z$8:$Z$207,0)+1)),"") | C60: =IFERROR(IF(INDEX('Meus preços da cidade'!$B:$B,MATCH(53,$Z$8:$Z$207,0)+1)="","",INDEX('Meus preços da cidade'!$B:$B,MATCH(53,$Z$8:$Z$207,0)+1)),"") | D60: =IFERROR(IF(INDEX('Meus preços da cidade'!$C:$C,MATCH(53,$Z$8:$Z$207,0)+1)="","",INDEX('Meus preços da cidade'!$C:$C,MATCH(53,$Z$8:$Z$207,0)+1)),"") | E60: =IFERROR(IF(INDEX('Meus preços da cidade'!$E:$E,MATCH(53,$Z$8:$Z$207,0)+1)="","",INDEX('Meus preços da cidade'!$E:$E,MATCH(53,$Z$8:$Z$207,0)+1)),"") | F60: =IFERROR(IF(INDEX('Meus preços da cidade'!$G:$G,MATCH(53,$Z$8:$Z$207,0)+1)="","",INDEX('Meus preços da cidade'!$G:$G,MATCH(53,$Z$8:$Z$207,0)+1)),"") | Y60: =SUBSTITUTE(SUBSTITUTE(SUBSTITUTE(SUBSTITUTE(SUBSTITUTE(SUBSTITUTE(SUBSTITUTE(SUBSTITUTE(SUBSTITUTE(SUBSTITUTE(SUBSTITUTE(SUBSTITUTE(SUBSTITUTE(SUBSTITUTE(LOWER('Meus preços da cidade'!A54&" "&'Meus preços da cidade'!B54&" "&'Meus preços da cidade'!H54),"á","a"),"à","a"),"ã","a"),"â","a"),"é","e"),"ê","e"),"í","i"),"ó","o"),"ô","o"),"õ","o"),"ú","u"),"ç","c"),"-"," ")," ","") | Z60: =IF($Z$2="","",IF(AND(ISNUMBER(SEARCH($Z$2,Y60)),OR($Z$3="",ISNUMBER(SEARCH($Z$3,Y60))),OR($Z$4="",ISNUMBER(SEARCH($Z$4,Y60)))),MAX($Z$7:Z59)+1,""))
B61: =IFERROR(IF(INDEX('Meus preços da cidade'!$A:$A,MATCH(54,$Z$8:$Z$207,0)+1)="","",INDEX('Meus preços da cidade'!$A:$A,MATCH(54,$Z$8:$Z$207,0)+1)),"") | C61: =IFERROR(IF(INDEX('Meus preços da cidade'!$B:$B,MATCH(54,$Z$8:$Z$207,0)+1)="","",INDEX('Meus preços da cidade'!$B:$B,MATCH(54,$Z$8:$Z$207,0)+1)),"") | D61: =IFERROR(IF(INDEX('Meus preços da cidade'!$C:$C,MATCH(54,$Z$8:$Z$207,0)+1)="","",INDEX('Meus preços da cidade'!$C:$C,MATCH(54,$Z$8:$Z$207,0)+1)),"") | E61: =IFERROR(IF(INDEX('Meus preços da cidade'!$E:$E,MATCH(54,$Z$8:$Z$207,0)+1)="","",INDEX('Meus preços da cidade'!$E:$E,MATCH(54,$Z$8:$Z$207,0)+1)),"") | F61: =IFERROR(IF(INDEX('Meus preços da cidade'!$G:$G,MATCH(54,$Z$8:$Z$207,0)+1)="","",INDEX('Meus preços da cidade'!$G:$G,MATCH(54,$Z$8:$Z$207,0)+1)),"") | Y61: =SUBSTITUTE(SUBSTITUTE(SUBSTITUTE(SUBSTITUTE(SUBSTITUTE(SUBSTITUTE(SUBSTITUTE(SUBSTITUTE(SUBSTITUTE(SUBSTITUTE(SUBSTITUTE(SUBSTITUTE(SUBSTITUTE(SUBSTITUTE(LOWER('Meus preços da cidade'!A55&" "&'Meus preços da cidade'!B55&" "&'Meus preços da cidade'!H55),"á","a"),"à","a"),"ã","a"),"â","a"),"é","e"),"ê","e"),"í","i"),"ó","o"),"ô","o"),"õ","o"),"ú","u"),"ç","c"),"-"," ")," ","") | Z61: =IF($Z$2="","",IF(AND(ISNUMBER(SEARCH($Z$2,Y61)),OR($Z$3="",ISNUMBER(SEARCH($Z$3,Y61))),OR($Z$4="",ISNUMBER(SEARCH($Z$4,Y61)))),MAX($Z$7:Z60)+1,""))
B62: =IFERROR(IF(INDEX('Meus preços da cidade'!$A:$A,MATCH(55,$Z$8:$Z$207,0)+1)="","",INDEX('Meus preços da cidade'!$A:$A,MATCH(55,$Z$8:$Z$207,0)+1)),"") | C62: =IFERROR(IF(INDEX('Meus preços da cidade'!$B:$B,MATCH(55,$Z$8:$Z$207,0)+1)="","",INDEX('Meus preços da cidade'!$B:$B,MATCH(55,$Z$8:$Z$207,0)+1)),"") | D62: =IFERROR(IF(INDEX('Meus preços da cidade'!$C:$C,MATCH(55,$Z$8:$Z$207,0)+1)="","",INDEX('Meus preços da cidade'!$C:$C,MATCH(55,$Z$8:$Z$207,0)+1)),"") | E62: =IFERROR(IF(INDEX('Meus preços da cidade'!$E:$E,MATCH(55,$Z$8:$Z$207,0)+1)="","",INDEX('Meus preços da cidade'!$E:$E,MATCH(55,$Z$8:$Z$207,0)+1)),"") | F62: =IFERROR(IF(INDEX('Meus preços da cidade'!$G:$G,MATCH(55,$Z$8:$Z$207,0)+1)="","",INDEX('Meus preços da cidade'!$G:$G,MATCH(55,$Z$8:$Z$207,0)+1)),"") | Y62: =SUBSTITUTE(SUBSTITUTE(SUBSTITUTE(SUBSTITUTE(SUBSTITUTE(SUBSTITUTE(SUBSTITUTE(SUBSTITUTE(SUBSTITUTE(SUBSTITUTE(SUBSTITUTE(SUBSTITUTE(SUBSTITUTE(SUBSTITUTE(LOWER('Meus preços da cidade'!A56&" "&'Meus preços da cidade'!B56&" "&'Meus preços da cidade'!H56),"á","a"),"à","a"),"ã","a"),"â","a"),"é","e"),"ê","e"),"í","i"),"ó","o"),"ô","o"),"õ","o"),"ú","u"),"ç","c"),"-"," ")," ","") | Z62: =IF($Z$2="","",IF(AND(ISNUMBER(SEARCH($Z$2,Y62)),OR($Z$3="",ISNUMBER(SEARCH($Z$3,Y62))),OR($Z$4="",ISNUMBER(SEARCH($Z$4,Y62)))),MAX($Z$7:Z61)+1,""))
B63: =IFERROR(IF(INDEX('Meus preços da cidade'!$A:$A,MATCH(56,$Z$8:$Z$207,0)+1)="","",INDEX('Meus preços da cidade'!$A:$A,MATCH(56,$Z$8:$Z$207,0)+1)),"") | C63: =IFERROR(IF(INDEX('Meus preços da cidade'!$B:$B,MATCH(56,$Z$8:$Z$207,0)+1)="","",INDEX('Meus preços da cidade'!$B:$B,MATCH(56,$Z$8:$Z$207,0)+1)),"") | D63: =IFERROR(IF(INDEX('Meus preços da cidade'!$C:$C,MATCH(56,$Z$8:$Z$207,0)+1)="","",INDEX('Meus preços da cidade'!$C:$C,MATCH(56,$Z$8:$Z$207,0)+1)),"") | E63: =IFERROR(IF(INDEX('Meus preços da cidade'!$E:$E,MATCH(56,$Z$8:$Z$207,0)+1)="","",INDEX('Meus preços da cidade'!$E:$E,MATCH(56,$Z$8:$Z$207,0)+1)),"") | F63: =IFERROR(IF(INDEX('Meus preços da cidade'!$G:$G,MATCH(56,$Z$8:$Z$207,0)+1)="","",INDEX('Meus preços da cidade'!$G:$G,MATCH(56,$Z$8:$Z$207,0)+1)),"") | Y63: =SUBSTITUTE(SUBSTITUTE(SUBSTITUTE(SUBSTITUTE(SUBSTITUTE(SUBSTITUTE(SUBSTITUTE(SUBSTITUTE(SUBSTITUTE(SUBSTITUTE(SUBSTITUTE(SUBSTITUTE(SUBSTITUTE(SUBSTITUTE(LOWER('Meus preços da cidade'!A57&" "&'Meus preços da cidade'!B57&" "&'Meus preços da cidade'!H57),"á","a"),"à","a"),"ã","a"),"â","a"),"é","e"),"ê","e"),"í","i"),"ó","o"),"ô","o"),"õ","o"),"ú","u"),"ç","c"),"-"," ")," ","") | Z63: =IF($Z$2="","",IF(AND(ISNUMBER(SEARCH($Z$2,Y63)),OR($Z$3="",ISNUMBER(SEARCH($Z$3,Y63))),OR($Z$4="",ISNUMBER(SEARCH($Z$4,Y63)))),MAX($Z$7:Z62)+1,""))
B64: =IFERROR(IF(INDEX('Meus preços da cidade'!$A:$A,MATCH(57,$Z$8:$Z$207,0)+1)="","",INDEX('Meus preços da cidade'!$A:$A,MATCH(57,$Z$8:$Z$207,0)+1)),"") | C64: =IFERROR(IF(INDEX('Meus preços da cidade'!$B:$B,MATCH(57,$Z$8:$Z$207,0)+1)="","",INDEX('Meus preços da cidade'!$B:$B,MATCH(57,$Z$8:$Z$207,0)+1)),"") | D64: =IFERROR(IF(INDEX('Meus preços da cidade'!$C:$C,MATCH(57,$Z$8:$Z$207,0)+1)="","",INDEX('Meus preços da cidade'!$C:$C,MATCH(57,$Z$8:$Z$207,0)+1)),"") | E64: =IFERROR(IF(INDEX('Meus preços da cidade'!$E:$E,MATCH(57,$Z$8:$Z$207,0)+1)="","",INDEX('Meus preços da cidade'!$E:$E,MATCH(57,$Z$8:$Z$207,0)+1)),"") | F64: =IFERROR(IF(INDEX('Meus preços da cidade'!$G:$G,MATCH(57,$Z$8:$Z$207,0)+1)="","",INDEX('Meus preços da cidade'!$G:$G,MATCH(57,$Z$8:$Z$207,0)+1)),"") | Y64: =SUBSTITUTE(SUBSTITUTE(SUBSTITUTE(SUBSTITUTE(SUBSTITUTE(SUBSTITUTE(SUBSTITUTE(SUBSTITUTE(SUBSTITUTE(SUBSTITUTE(SUBSTITUTE(SUBSTITUTE(SUBSTITUTE(SUBSTITUTE(LOWER('Meus preços da cidade'!A58&" "&'Meus preços da cidade'!B58&" "&'Meus preços da cidade'!H58),"á","a"),"à","a"),"ã","a"),"â","a"),"é","e"),"ê","e"),"í","i"),"ó","o"),"ô","o"),"õ","o"),"ú","u"),"ç","c"),"-"," ")," ","") | Z64: =IF($Z$2="","",IF(AND(ISNUMBER(SEARCH($Z$2,Y64)),OR($Z$3="",ISNUMBER(SEARCH($Z$3,Y64))),OR($Z$4="",ISNUMBER(SEARCH($Z$4,Y64)))),MAX($Z$7:Z63)+1,""))
B65: =IFERROR(IF(INDEX('Meus preços da cidade'!$A:$A,MATCH(58,$Z$8:$Z$207,0)+1)="","",INDEX('Meus preços da cidade'!$A:$A,MATCH(58,$Z$8:$Z$207,0)+1)),"") | C65: =IFERROR(IF(INDEX('Meus preços da cidade'!$B:$B,MATCH(58,$Z$8:$Z$207,0)+1)="","",INDEX('Meus preços da cidade'!$B:$B,MATCH(58,$Z$8:$Z$207,0)+1)),"") | D65: =IFERROR(IF(INDEX('Meus preços da cidade'!$C:$C,MATCH(58,$Z$8:$Z$207,0)+1)="","",INDEX('Meus preços da cidade'!$C:$C,MATCH(58,$Z$8:$Z$207,0)+1)),"") | E65: =IFERROR(IF(INDEX('Meus preços da cidade'!$E:$E,MATCH(58,$Z$8:$Z$207,0)+1)="","",INDEX('Meus preços da cidade'!$E:$E,MATCH(58,$Z$8:$Z$207,0)+1)),"") | F65: =IFERROR(IF(INDEX('Meus preços da cidade'!$G:$G,MATCH(58,$Z$8:$Z$207,0)+1)="","",INDEX('Meus preços da cidade'!$G:$G,MATCH(58,$Z$8:$Z$207,0)+1)),"") | Y65: =SUBSTITUTE(SUBSTITUTE(SUBSTITUTE(SUBSTITUTE(SUBSTITUTE(SUBSTITUTE(SUBSTITUTE(SUBSTITUTE(SUBSTITUTE(SUBSTITUTE(SUBSTITUTE(SUBSTITUTE(SUBSTITUTE(SUBSTITUTE(LOWER('Meus preços da cidade'!A59&" "&'Meus preços da cidade'!B59&" "&'Meus preços da cidade'!H59),"á","a"),"à","a"),"ã","a"),"â","a"),"é","e"),"ê","e"),"í","i"),"ó","o"),"ô","o"),"õ","o"),"ú","u"),"ç","c"),"-"," ")," ","") | Z65: =IF($Z$2="","",IF(AND(ISNUMBER(SEARCH($Z$2,Y65)),OR($Z$3="",ISNUMBER(SEARCH($Z$3,Y65))),OR($Z$4="",ISNUMBER(SEARCH($Z$4,Y65)))),MAX($Z$7:Z64)+1,""))
B66: =IFERROR(IF(INDEX('Meus preços da cidade'!$A:$A,MATCH(59,$Z$8:$Z$207,0)+1)="","",INDEX('Meus preços da cidade'!$A:$A,MATCH(59,$Z$8:$Z$207,0)+1)),"") | C66: =IFERROR(IF(INDEX('Meus preços da cidade'!$B:$B,MATCH(59,$Z$8:$Z$207,0)+1)="","",INDEX('Meus preços da cidade'!$B:$B,MATCH(59,$Z$8:$Z$207,0)+1)),"") | D66: =IFERROR(IF(INDEX('Meus preços da cidade'!$C:$C,MATCH(59,$Z$8:$Z$207,0)+1)="","",INDEX('Meus preços da cidade'!$C:$C,MATCH(59,$Z$8:$Z$207,0)+1)),"") | E66: =IFERROR(IF(INDEX('Meus preços da cidade'!$E:$E,MATCH(59,$Z$8:$Z$207,0)+1)="","",INDEX('Meus preços da cidade'!$E:$E,MATCH(59,$Z$8:$Z$207,0)+1)),"") | F66: =IFERROR(IF(INDEX('Meus preços da cidade'!$G:$G,MATCH(59,$Z$8:$Z$207,0)+1)="","",INDEX('Meus preços da cidade'!$G:$G,MATCH(59,$Z$8:$Z$207,0)+1)),"") | Y66: =SUBSTITUTE(SUBSTITUTE(SUBSTITUTE(SUBSTITUTE(SUBSTITUTE(SUBSTITUTE(SUBSTITUTE(SUBSTITUTE(SUBSTITUTE(SUBSTITUTE(SUBSTITUTE(SUBSTITUTE(SUBSTITUTE(SUBSTITUTE(LOWER('Meus preços da cidade'!A60&" "&'Meus preços da cidade'!B60&" "&'Meus preços da cidade'!H60),"á","a"),"à","a"),"ã","a"),"â","a"),"é","e"),"ê","e"),"í","i"),"ó","o"),"ô","o"),"õ","o"),"ú","u"),"ç","c"),"-"," ")," ","") | Z66: =IF($Z$2="","",IF(AND(ISNUMBER(SEARCH($Z$2,Y66)),OR($Z$3="",ISNUMBER(SEARCH($Z$3,Y66))),OR($Z$4="",ISNUMBER(SEARCH($Z$4,Y66)))),MAX($Z$7:Z65)+1,""))
B67: =IFERROR(IF(INDEX('Meus preços da cidade'!$A:$A,MATCH(60,$Z$8:$Z$207,0)+1)="","",INDEX('Meus preços da cidade'!$A:$A,MATCH(60,$Z$8:$Z$207,0)+1)),"") | C67: =IFERROR(IF(INDEX('Meus preços da cidade'!$B:$B,MATCH(60,$Z$8:$Z$207,0)+1)="","",INDEX('Meus preços da cidade'!$B:$B,MATCH(60,$Z$8:$Z$207,0)+1)),"") | D67: =IFERROR(IF(INDEX('Meus preços da cidade'!$C:$C,MATCH(60,$Z$8:$Z$207,0)+1)="","",INDEX('Meus preços da cidade'!$C:$C,MATCH(60,$Z$8:$Z$207,0)+1)),"") | E67: =IFERROR(IF(INDEX('Meus preços da cidade'!$E:$E,MATCH(60,$Z$8:$Z$207,0)+1)="","",INDEX('Meus preços da cidade'!$E:$E,MATCH(60,$Z$8:$Z$207,0)+1)),"") | F67: =IFERROR(IF(INDEX('Meus preços da cidade'!$G:$G,MATCH(60,$Z$8:$Z$207,0)+1)="","",INDEX('Meus preços da cidade'!$G:$G,MATCH(60,$Z$8:$Z$207,0)+1)),"") | Y67: =SUBSTITUTE(SUBSTITUTE(SUBSTITUTE(SUBSTITUTE(SUBSTITUTE(SUBSTITUTE(SUBSTITUTE(SUBSTITUTE(SUBSTITUTE(SUBSTITUTE(SUBSTITUTE(SUBSTITUTE(SUBSTITUTE(SUBSTITUTE(LOWER('Meus preços da cidade'!A61&" "&'Meus preços da cidade'!B61&" "&'Meus preços da cidade'!H61),"á","a"),"à","a"),"ã","a"),"â","a"),"é","e"),"ê","e"),"í","i"),"ó","o"),"ô","o"),"õ","o"),"ú","u"),"ç","c"),"-"," ")," ","") | Z67: =IF($Z$2="","",IF(AND(ISNUMBER(SEARCH($Z$2,Y67)),OR($Z$3="",ISNUMBER(SEARCH($Z$3,Y67))),OR($Z$4="",ISNUMBER(SEARCH($Z$4,Y67)))),MAX($Z$7:Z66)+1,""))
Y68: =SUBSTITUTE(SUBSTITUTE(SUBSTITUTE(SUBSTITUTE(SUBSTITUTE(SUBSTITUTE(SUBSTITUTE(SUBSTITUTE(SUBSTITUTE(SUBSTITUTE(SUBSTITUTE(SUBSTITUTE(SUBSTITUTE(SUBSTITUTE(LOWER('Meus preços da cidade'!A62&" "&'Meus preços da cidade'!B62&" "&'Meus preços da cidade'!H62),"á","a"),"à","a"),"ã","a"),"â","a"),"é","e"),"ê","e"),"í","i"),"ó","o"),"ô","o"),"õ","o"),"ú","u"),"ç","c"),"-"," ")," ","") | Z68: =IF($Z$2="","",IF(AND(ISNUMBER(SEARCH($Z$2,Y68)),OR($Z$3="",ISNUMBER(SEARCH($Z$3,Y68))),OR($Z$4="",ISNUMBER(SEARCH($Z$4,Y68)))),MAX($Z$7:Z67)+1,""))
Y69: =SUBSTITUTE(SUBSTITUTE(SUBSTITUTE(SUBSTITUTE(SUBSTITUTE(SUBSTITUTE(SUBSTITUTE(SUBSTITUTE(SUBSTITUTE(SUBSTITUTE(SUBSTITUTE(SUBSTITUTE(SUBSTITUTE(SUBSTITUTE(LOWER('Meus preços da cidade'!A63&" "&'Meus preços da cidade'!B63&" "&'Meus preços da cidade'!H63),"á","a"),"à","a"),"ã","a"),"â","a"),"é","e"),"ê","e"),"í","i"),"ó","o"),"ô","o"),"õ","o"),"ú","u"),"ç","c"),"-"," ")," ","") | Z69: =IF($Z$2="","",IF(AND(ISNUMBER(SEARCH($Z$2,Y69)),OR($Z$3="",ISNUMBER(SEARCH($Z$3,Y69))),OR($Z$4="",ISNUMBER(SEARCH($Z$4,Y69)))),MAX($Z$7:Z68)+1,""))
Y70: =SUBSTITUTE(SUBSTITUTE(SUBSTITUTE(SUBSTITUTE(SUBSTITUTE(SUBSTITUTE(SUBSTITUTE(SUBSTITUTE(SUBSTITUTE(SUBSTITUTE(SUBSTITUTE(SUBSTITUTE(SUBSTITUTE(SUBSTITUTE(LOWER('Meus preços da cidade'!A64&" "&'Meus preços da cidade'!B64&" "&'Meus preços da cidade'!H64),"á","a"),"à","a"),"ã","a"),"â","a"),"é","e"),"ê","e"),"í","i"),"ó","o"),"ô","o"),"õ","o"),"ú","u"),"ç","c"),"-"," ")," ","") | Z70: =IF($Z$2="","",IF(AND(ISNUMBER(SEARCH($Z$2,Y70)),OR($Z$3="",ISNUMBER(SEARCH($Z$3,Y70))),OR($Z$4="",ISNUMBER(SEARCH($Z$4,Y70)))),MAX($Z$7:Z69)+1,""))
Y71: =SUBSTITUTE(SUBSTITUTE(SUBSTITUTE(SUBSTITUTE(SUBSTITUTE(SUBSTITUTE(SUBSTITUTE(SUBSTITUTE(SUBSTITUTE(SUBSTITUTE(SUBSTITUTE(SUBSTITUTE(SUBSTITUTE(SUBSTITUTE(LOWER('Meus preços da cidade'!A65&" "&'Meus preços da cidade'!B65&" "&'Meus preços da cidade'!H65),"á","a"),"à","a"),"ã","a"),"â","a"),"é","e"),"ê","e"),"í","i"),"ó","o"),"ô","o"),"õ","o"),"ú","u"),"ç","c"),"-"," ")," ","") | Z71: =IF($Z$2="","",IF(AND(ISNUMBER(SEARCH($Z$2,Y71)),OR($Z$3="",ISNUMBER(SEARCH($Z$3,Y71))),OR($Z$4="",ISNUMBER(SEARCH($Z$4,Y71)))),MAX($Z$7:Z70)+1,""))
Y72: =SUBSTITUTE(SUBSTITUTE(SUBSTITUTE(SUBSTITUTE(SUBSTITUTE(SUBSTITUTE(SUBSTITUTE(SUBSTITUTE(SUBSTITUTE(SUBSTITUTE(SUBSTITUTE(SUBSTITUTE(SUBSTITUTE(SUBSTITUTE(LOWER('Meus preços da cidade'!A66&" "&'Meus preços da cidade'!B66&" "&'Meus preços da cidade'!H66),"á","a"),"à","a"),"ã","a"),"â","a"),"é","e"),"ê","e"),"í","i"),"ó","o"),"ô","o"),"õ","o"),"ú","u"),"ç","c"),"-"," ")," ","") | Z72: =IF($Z$2="","",IF(AND(ISNUMBER(SEARCH($Z$2,Y72)),OR($Z$3="",ISNUMBER(SEARCH($Z$3,Y72))),OR($Z$4="",ISNUMBER(SEARCH($Z$4,Y72)))),MAX($Z$7:Z71)+1,""))
Y73: =SUBSTITUTE(SUBSTITUTE(SUBSTITUTE(SUBSTITUTE(SUBSTITUTE(SUBSTITUTE(SUBSTITUTE(SUBSTITUTE(SUBSTITUTE(SUBSTITUTE(SUBSTITUTE(SUBSTITUTE(SUBSTITUTE(SUBSTITUTE(LOWER('Meus preços da cidade'!A67&" "&'Meus preços da cidade'!B67&" "&'Meus preços da cidade'!H67),"á","a"),"à","a"),"ã","a"),"â","a"),"é","e"),"ê","e"),"í","i"),"ó","o"),"ô","o"),"õ","o"),"ú","u"),"ç","c"),"-"," ")," ","") | Z73: =IF($Z$2="","",IF(AND(ISNUMBER(SEARCH($Z$2,Y73)),OR($Z$3="",ISNUMBER(SEARCH($Z$3,Y73))),OR($Z$4="",ISNUMBER(SEARCH($Z$4,Y73)))),MAX($Z$7:Z72)+1,""))
Y74: =SUBSTITUTE(SUBSTITUTE(SUBSTITUTE(SUBSTITUTE(SUBSTITUTE(SUBSTITUTE(SUBSTITUTE(SUBSTITUTE(SUBSTITUTE(SUBSTITUTE(SUBSTITUTE(SUBSTITUTE(SUBSTITUTE(SUBSTITUTE(LOWER('Meus preços da cidade'!A68&" "&'Meus preços da cidade'!B68&" "&'Meus preços da cidade'!H68),"á","a"),"à","a"),"ã","a"),"â","a"),"é","e"),"ê","e"),"í","i"),"ó","o"),"ô","o"),"õ","o"),"ú","u"),"ç","c"),"-"," ")," ","") | Z74: =IF($Z$2="","",IF(AND(ISNUMBER(SEARCH($Z$2,Y74)),OR($Z$3="",ISNUMBER(SEARCH($Z$3,Y74))),OR($Z$4="",ISNUMBER(SEARCH($Z$4,Y74)))),MAX($Z$7:Z73)+1,""))
Y75: =SUBSTITUTE(SUBSTITUTE(SUBSTITUTE(SUBSTITUTE(SUBSTITUTE(SUBSTITUTE(SUBSTITUTE(SUBSTITUTE(SUBSTITUTE(SUBSTITUTE(SUBSTITUTE(SUBSTITUTE(SUBSTITUTE(SUBSTITUTE(LOWER('Meus preços da cidade'!A69&" "&'Meus preços da cidade'!B69&" "&'Meus preços da cidade'!H69),"á","a"),"à","a"),"ã","a"),"â","a"),"é","e"),"ê","e"),"í","i"),"ó","o"),"ô","o"),"õ","o"),"ú","u"),"ç","c"),"-"," ")," ","") | Z75: =IF($Z$2="","",IF(AND(ISNUMBER(SEARCH($Z$2,Y75)),OR($Z$3="",ISNUMBER(SEARCH($Z$3,Y75))),OR($Z$4="",ISNUMBER(SEARCH($Z$4,Y75)))),MAX($Z$7:Z74)+1,""))
Y76: =SUBSTITUTE(SUBSTITUTE(SUBSTITUTE(SUBSTITUTE(SUBSTITUTE(SUBSTITUTE(SUBSTITUTE(SUBSTITUTE(SUBSTITUTE(SUBSTITUTE(SUBSTITUTE(SUBSTITUTE(SUBSTITUTE(SUBSTITUTE(LOWER('Meus preços da cidade'!A70&" "&'Meus preços da cidade'!B70&" "&'Meus preços da cidade'!H70),"á","a"),"à","a"),"ã","a"),"â","a"),"é","e"),"ê","e"),"í","i"),"ó","o"),"ô","o"),"õ","o"),"ú","u"),"ç","c"),"-"," ")," ","") | Z76: =IF($Z$2="","",IF(AND(ISNUMBER(SEARCH($Z$2,Y76)),OR($Z$3="",ISNUMBER(SEARCH($Z$3,Y76))),OR($Z$4="",ISNUMBER(SEARCH($Z$4,Y76)))),MAX($Z$7:Z75)+1,""))
Y77: =SUBSTITUTE(SUBSTITUTE(SUBSTITUTE(SUBSTITUTE(SUBSTITUTE(SUBSTITUTE(SUBSTITUTE(SUBSTITUTE(SUBSTITUTE(SUBSTITUTE(SUBSTITUTE(SUBSTITUTE(SUBSTITUTE(SUBSTITUTE(LOWER('Meus preços da cidade'!A71&" "&'Meus preços da cidade'!B71&" "&'Meus preços da cidade'!H71),"á","a"),"à","a"),"ã","a"),"â","a"),"é","e"),"ê","e"),"í","i"),"ó","o"),"ô","o"),"õ","o"),"ú","u"),"ç","c"),"-"," ")," ","") | Z77: =IF($Z$2="","",IF(AND(ISNUMBER(SEARCH($Z$2,Y77)),OR($Z$3="",ISNUMBER(SEARCH($Z$3,Y77))),OR($Z$4="",ISNUMBER(SEARCH($Z$4,Y77)))),MAX($Z$7:Z76)+1,""))
Y78: =SUBSTITUTE(SUBSTITUTE(SUBSTITUTE(SUBSTITUTE(SUBSTITUTE(SUBSTITUTE(SUBSTITUTE(SUBSTITUTE(SUBSTITUTE(SUBSTITUTE(SUBSTITUTE(SUBSTITUTE(SUBSTITUTE(SUBSTITUTE(LOWER('Meus preços da cidade'!A72&" "&'Meus preços da cidade'!B72&" "&'Meus preços da cidade'!H72),"á","a"),"à","a"),"ã","a"),"â","a"),"é","e"),"ê","e"),"í","i"),"ó","o"),"ô","o"),"õ","o"),"ú","u"),"ç","c"),"-"," ")," ","") | Z78: =IF($Z$2="","",IF(AND(ISNUMBER(SEARCH($Z$2,Y78)),OR($Z$3="",ISNUMBER(SEARCH($Z$3,Y78))),OR($Z$4="",ISNUMBER(SEARCH($Z$4,Y78)))),MAX($Z$7:Z77)+1,""))
Y79: =SUBSTITUTE(SUBSTITUTE(SUBSTITUTE(SUBSTITUTE(SUBSTITUTE(SUBSTITUTE(SUBSTITUTE(SUBSTITUTE(SUBSTITUTE(SUBSTITUTE(SUBSTITUTE(SUBSTITUTE(SUBSTITUTE(SUBSTITUTE(LOWER('Meus preços da cidade'!A73&" "&'Meus preços da cidade'!B73&" "&'Meus preços da cidade'!H73),"á","a"),"à","a"),"ã","a"),"â","a"),"é","e"),"ê","e"),"í","i"),"ó","o"),"ô","o"),"õ","o"),"ú","u"),"ç","c"),"-"," ")," ","") | Z79: =IF($Z$2="","",IF(AND(ISNUMBER(SEARCH($Z$2,Y79)),OR($Z$3="",ISNUMBER(SEARCH($Z$3,Y79))),OR($Z$4="",ISNUMBER(SEARCH($Z$4,Y79)))),MAX($Z$7:Z78)+1,""))
... Y207: =SUBSTITUTE(SUBSTITUTE(SUBSTITUTE(SUBSTITUTE(SUBSTITUTE(SUBSTITUTE(SUBSTITUTE(SUBSTITUTE(SUBSTITUTE(SUBSTITUTE(SUBSTITUTE(SUBSTITUTE(SUBSTITUTE(SUBSTITUTE(LOWER('Meus preços da cidade'!A201&" "&'Meus preços da cidade'!B201&" "&'Meus preços da cidade'!H201),"á","a"),"à","a"),"ã","a"),"â","a"),"é","e"),"ê","e"),"í","i"),"ó","o"),"ô","o"),"õ","o"),"ú","u"),"ç","c"),"-"," ")," ","") | Z207: =IF($Z$2="","",IF(AND(ISNUMBER(SEARCH($Z$2,Y207)),OR($Z$3="",ISNUMBER(SEARCH($Z$3,Y207))),OR($Z$4="",ISNUMBER(SEARCH($Z$4,Y207)))),MAX($Z$7:Z206)+1,""))

Sheet Meus preços da cidade
A1: Produto | B1: Onde comprei | C1: Data | D1: Unid. na caixa | E1: Preço da caixa (R$) | F1: Frete (R$) | G1: Custo por unidade (R$) | H1: Observações
A2: Refrigerante lata 350ml | B2: Atacado do centro | C2: 46266 | D2: 12 | E2: 34.68 | F2: 0 | G2: =IF(OR(D2="",E2=""),"",IFERROR((E2+N(F2))/D2,"")) -> 2.89 | H2: Exemplo — apague esta linha
G3: =IF(OR(D3="",E3=""),"",IFERROR((E3+N(F3))/D3,""))
G4: =IF(OR(D4="",E4=""),"",IFERROR((E4+N(F4))/D4,""))
G5: =IF(OR(D5="",E5=""),"",IFERROR((E5+N(F5))/D5,""))
G6: =IF(OR(D6="",E6=""),"",IFERROR((E6+N(F6))/D6,""))
G7: =IF(OR(D7="",E7=""),"",IFERROR((E7+N(F7))/D7,""))
G8: =IF(OR(D8="",E8=""),"",IFERROR((E8+N(F8))/D8,""))
G9: =IF(OR(D9="",E9=""),"",IFERROR((E9+N(F9))/D9,""))
G10: =IF(OR(D10="",E10=""),"",IFERROR((E10+N(F10))/D10,""))
G11: =IF(OR(D11="",E11=""),"",IFERROR((E11+N(F11))/D11,""))
G12: =IF(OR(D12="",E12=""),"",IFERROR((E12+N(F12))/D12,""))
G13: =IF(OR(D13="",E13=""),"",IFERROR((E13+N(F13))/D13,""))
G14: =IF(OR(D14="",E14=""),"",IFERROR((E14+N(F14))/D14,""))
... G201: =IF(OR(D201="",E201=""),"",IFERROR((E201+N(F201))/D201,""))

Sheet Como usar
B1: Como usar — Preços da minha cidade
B3: Para que serve | C3: Anote o que você paga hoje na sua cidade. Sem esse número, não dá para saber se a oferta da internet é boa de verdade.
B4: Meus preços da cidade | C4: Preencha só as células em azul. A primeira linha é um exemplo: pode apagar ou escrever por cima.
B5: Custo por unidade | C5: É o preço da caixa mais o frete, dividido pelas unidades da caixa. É esse número que você compara com qualquer oferta da internet — nunca o preço total da caixa.
B6: Buscar | C6: Digite parte do nome na caixa dourada. Pode usar mais de uma palavra, em qualquer ordem, com ou sem acento. Digitando 'choc' ela acha 'Chocolate 90g'. Aparecem todos os produtos que batem com a busca.
B7: Atualize | C7: Atualize os preços a cada dois ou três meses. Preço de atacado muda, e planilha velha engana.
B9: iSee Hub · iseehub.com.br | C9: Fale comigo no WhatsApp
