Workbook

Sheet Buscar
B1: Buscar produto — Vending Machine | Z1: =TRIM(SUBSTITUTE(SUBSTITUTE(SUBSTITUTE(SUBSTITUTE(SUBSTITUTE(SUBSTITUTE(SUBSTITUTE(SUBSTITUTE(SUBSTITUTE(SUBSTITUTE(SUBSTITUTE(SUBSTITUTE(SUBSTITUTE(LOWER($C$4),"á","a"),"à","a"),"ã","a"),"â","a"),"é","e"),"ê","e"),"í","i"),"ó","o"),"ô","o"),"õ","o"),"ú","u"),"ç","c"),"-"," "))
B2: iSee Hub · iseehub.com.br · Digite na caixa dourada e os produtos aparecem logo abaixo. | Z2: =TRIM(MID(SUBSTITUTE($Z$1," ",REPT(" ",100)),1,100))
Z3: =TRIM(MID(SUBSTITUTE($Z$1," ",REPT(" ",100)),101,100))
B4: 🔍 DIGITE AQUI: | Z4: =TRIM(MID(SUBSTITUTE($Z$1," ",REPT(" ",100)),201,100))
C5: =IF($Z$2="","Digite parte do nome ou da categoria. Pode usar mais de uma palavra, em qualquer ordem, com ou sem acento.",IF(MAX($Z$8:$Z$458)=0,"Nenhum produto encontrado. Tente só uma palavra, ou uma palavra menor.",MAX($Z$8:$Z$458)&IF(MAX($Z$8:$Z$458)=1," produto encontrado"," produtos encontrados")&IF(MAX($Z$8:$Z$458)>60," — mostrando os 60 primeiros, digite mais para filtrar","")))
B7: Produto | C7: Categoria | D7: Menor preço visto (com cupom) | E7: Vale a pena comprar até | F7: Link | Z7: aux
B8: =IFERROR(IF(INDEX('Base de Preços'!$B:$B,MATCH(1,$Z$8:$Z$458,0)+1)="","",INDEX('Base de Preços'!$B:$B,MATCH(1,$Z$8:$Z$458,0)+1)),"") | C8: =IFERROR(IF(INDEX('Base de Preços'!$C:$C,MATCH(1,$Z$8:$Z$458,0)+1)="","",INDEX('Base de Preços'!$C:$C,MATCH(1,$Z$8:$Z$458,0)+1)),"") | D8: =IFERROR(IF(INDEX('Base de Preços'!$E:$E,MATCH(1,$Z$8:$Z$458,0)+1)="","",INDEX('Base de Preços'!$E:$E,MATCH(1,$Z$8:$Z$458,0)+1)),"") | E8: =IFERROR(IF(INDEX('Base de Preços'!$F:$F,MATCH(1,$Z$8:$Z$458,0)+1)="","",INDEX('Base de Preços'!$F:$F,MATCH(1,$Z$8:$Z$458,0)+1)),"") | F8: =IFERROR(HYPERLINK(INDEX('Base de Preços'!$A:$A,MATCH(1,$Z$8:$Z$458,0)+1),"Abrir oferta"),"") | Y8: =SUBSTITUTE(SUBSTITUTE(SUBSTITUTE(SUBSTITUTE(SUBSTITUTE(SUBSTITUTE(SUBSTITUTE(SUBSTITUTE(SUBSTITUTE(SUBSTITUTE(SUBSTITUTE(SUBSTITUTE(SUBSTITUTE(SUBSTITUTE(LOWER('Base de Preços'!B2&" "&'Base de Preços'!C2&" "&'Base de Preços'!D2),"á","a"),"à","a"),"ã","a"),"â","a"),"é","e"),"ê","e"),"í","i"),"ó","o"),"ô","o"),"õ","o"),"ú","u"),"ç","c"),"-"," ")," ","") | Z8: =IF($Z$2="","",IF(AND(ISNUMBER(SEARCH($Z$2,Y8)),OR($Z$3="",ISNUMBER(SEARCH($Z$3,Y8))),OR($Z$4="",ISNUMBER(SEARCH($Z$4,Y8)))),MAX($Z$7:Z7)+1,""))
B9: =IFERROR(IF(INDEX('Base de Preços'!$B:$B,MATCH(2,$Z$8:$Z$458,0)+1)="","",INDEX('Base de Preços'!$B:$B,MATCH(2,$Z$8:$Z$458,0)+1)),"") | C9: =IFERROR(IF(INDEX('Base de Preços'!$C:$C,MATCH(2,$Z$8:$Z$458,0)+1)="","",INDEX('Base de Preços'!$C:$C,MATCH(2,$Z$8:$Z$458,0)+1)),"") | D9: =IFERROR(IF(INDEX('Base de Preços'!$E:$E,MATCH(2,$Z$8:$Z$458,0)+1)="","",INDEX('Base de Preços'!$E:$E,MATCH(2,$Z$8:$Z$458,0)+1)),"") | E9: =IFERROR(IF(INDEX('Base de Preços'!$F:$F,MATCH(2,$Z$8:$Z$458,0)+1)="","",INDEX('Base de Preços'!$F:$F,MATCH(2,$Z$8:$Z$458,0)+1)),"") | F9: =IFERROR(HYPERLINK(INDEX('Base de Preços'!$A:$A,MATCH(2,$Z$8:$Z$458,0)+1),"Abrir oferta"),"") | Y9: =SUBSTITUTE(SUBSTITUTE(SUBSTITUTE(SUBSTITUTE(SUBSTITUTE(SUBSTITUTE(SUBSTITUTE(SUBSTITUTE(SUBSTITUTE(SUBSTITUTE(SUBSTITUTE(SUBSTITUTE(SUBSTITUTE(SUBSTITUTE(LOWER('Base de Preços'!B3&" "&'Base de Preços'!C3&" "&'Base de Preços'!D3),"á","a"),"à","a"),"ã","a"),"â","a"),"é","e"),"ê","e"),"í","i"),"ó","o"),"ô","o"),"õ","o"),"ú","u"),"ç","c"),"-"," ")," ","") | Z9: =IF($Z$2="","",IF(AND(ISNUMBER(SEARCH($Z$2,Y9)),OR($Z$3="",ISNUMBER(SEARCH($Z$3,Y9))),OR($Z$4="",ISNUMBER(SEARCH($Z$4,Y9)))),MAX($Z$7:Z8)+1,""))
B10: =IFERROR(IF(INDEX('Base de Preços'!$B:$B,MATCH(3,$Z$8:$Z$458,0)+1)="","",INDEX('Base de Preços'!$B:$B,MATCH(3,$Z$8:$Z$458,0)+1)),"") | C10: =IFERROR(IF(INDEX('Base de Preços'!$C:$C,MATCH(3,$Z$8:$Z$458,0)+1)="","",INDEX('Base de Preços'!$C:$C,MATCH(3,$Z$8:$Z$458,0)+1)),"") | D10: =IFERROR(IF(INDEX('Base de Preços'!$E:$E,MATCH(3,$Z$8:$Z$458,0)+1)="","",INDEX('Base de Preços'!$E:$E,MATCH(3,$Z$8:$Z$458,0)+1)),"") | E10: =IFERROR(IF(INDEX('Base de Preços'!$F:$F,MATCH(3,$Z$8:$Z$458,0)+1)="","",INDEX('Base de Preços'!$F:$F,MATCH(3,$Z$8:$Z$458,0)+1)),"") | F10: =IFERROR(HYPERLINK(INDEX('Base de Preços'!$A:$A,MATCH(3,$Z$8:$Z$458,0)+1),"Abrir oferta"),"") | Y10: =SUBSTITUTE(SUBSTITUTE(SUBSTITUTE(SUBSTITUTE(SUBSTITUTE(SUBSTITUTE(SUBSTITUTE(SUBSTITUTE(SUBSTITUTE(SUBSTITUTE(SUBSTITUTE(SUBSTITUTE(SUBSTITUTE(SUBSTITUTE(LOWER('Base de Preços'!B4&" "&'Base de Preços'!C4&" "&'Base de Preços'!D4),"á","a"),"à","a"),"ã","a"),"â","a"),"é","e"),"ê","e"),"í","i"),"ó","o"),"ô","o"),"õ","o"),"ú","u"),"ç","c"),"-"," ")," ","") | Z10: =IF($Z$2="","",IF(AND(ISNUMBER(SEARCH($Z$2,Y10)),OR($Z$3="",ISNUMBER(SEARCH($Z$3,Y10))),OR($Z$4="",ISNUMBER(SEARCH($Z$4,Y10)))),MAX($Z$7:Z9)+1,""))
B11: =IFERROR(IF(INDEX('Base de Preços'!$B:$B,MATCH(4,$Z$8:$Z$458,0)+1)="","",INDEX('Base de Preços'!$B:$B,MATCH(4,$Z$8:$Z$458,0)+1)),"") | C11: =IFERROR(IF(INDEX('Base de Preços'!$C:$C,MATCH(4,$Z$8:$Z$458,0)+1)="","",INDEX('Base de Preços'!$C:$C,MATCH(4,$Z$8:$Z$458,0)+1)),"") | D11: =IFERROR(IF(INDEX('Base de Preços'!$E:$E,MATCH(4,$Z$8:$Z$458,0)+1)="","",INDEX('Base de Preços'!$E:$E,MATCH(4,$Z$8:$Z$458,0)+1)),"") | E11: =IFERROR(IF(INDEX('Base de Preços'!$F:$F,MATCH(4,$Z$8:$Z$458,0)+1)="","",INDEX('Base de Preços'!$F:$F,MATCH(4,$Z$8:$Z$458,0)+1)),"") | F11: =IFERROR(HYPERLINK(INDEX('Base de Preços'!$A:$A,MATCH(4,$Z$8:$Z$458,0)+1),"Abrir oferta"),"") | Y11: =SUBSTITUTE(SUBSTITUTE(SUBSTITUTE(SUBSTITUTE(SUBSTITUTE(SUBSTITUTE(SUBSTITUTE(SUBSTITUTE(SUBSTITUTE(SUBSTITUTE(SUBSTITUTE(SUBSTITUTE(SUBSTITUTE(SUBSTITUTE(LOWER('Base de Preços'!B5&" "&'Base de Preços'!C5&" "&'Base de Preços'!D5),"á","a"),"à","a"),"ã","a"),"â","a"),"é","e"),"ê","e"),"í","i"),"ó","o"),"ô","o"),"õ","o"),"ú","u"),"ç","c"),"-"," ")," ","") | Z11: =IF($Z$2="","",IF(AND(ISNUMBER(SEARCH($Z$2,Y11)),OR($Z$3="",ISNUMBER(SEARCH($Z$3,Y11))),OR($Z$4="",ISNUMBER(SEARCH($Z$4,Y11)))),MAX($Z$7:Z10)+1,""))
B12: =IFERROR(IF(INDEX('Base de Preços'!$B:$B,MATCH(5,$Z$8:$Z$458,0)+1)="","",INDEX('Base de Preços'!$B:$B,MATCH(5,$Z$8:$Z$458,0)+1)),"") | C12: =IFERROR(IF(INDEX('Base de Preços'!$C:$C,MATCH(5,$Z$8:$Z$458,0)+1)="","",INDEX('Base de Preços'!$C:$C,MATCH(5,$Z$8:$Z$458,0)+1)),"") | D12: =IFERROR(IF(INDEX('Base de Preços'!$E:$E,MATCH(5,$Z$8:$Z$458,0)+1)="","",INDEX('Base de Preços'!$E:$E,MATCH(5,$Z$8:$Z$458,0)+1)),"") | E12: =IFERROR(IF(INDEX('Base de Preços'!$F:$F,MATCH(5,$Z$8:$Z$458,0)+1)="","",INDEX('Base de Preços'!$F:$F,MATCH(5,$Z$8:$Z$458,0)+1)),"") | F12: =IFERROR(HYPERLINK(INDEX('Base de Preços'!$A:$A,MATCH(5,$Z$8:$Z$458,0)+1),"Abrir oferta"),"") | Y12: =SUBSTITUTE(SUBSTITUTE(SUBSTITUTE(SUBSTITUTE(SUBSTITUTE(SUBSTITUTE(SUBSTITUTE(SUBSTITUTE(SUBSTITUTE(SUBSTITUTE(SUBSTITUTE(SUBSTITUTE(SUBSTITUTE(SUBSTITUTE(LOWER('Base de Preços'!B6&" "&'Base de Preços'!C6&" "&'Base de Preços'!D6),"á","a"),"à","a"),"ã","a"),"â","a"),"é","e"),"ê","e"),"í","i"),"ó","o"),"ô","o"),"õ","o"),"ú","u"),"ç","c"),"-"," ")," ","") | Z12: =IF($Z$2="","",IF(AND(ISNUMBER(SEARCH($Z$2,Y12)),OR($Z$3="",ISNUMBER(SEARCH($Z$3,Y12))),OR($Z$4="",ISNUMBER(SEARCH($Z$4,Y12)))),MAX($Z$7:Z11)+1,""))
B13: =IFERROR(IF(INDEX('Base de Preços'!$B:$B,MATCH(6,$Z$8:$Z$458,0)+1)="","",INDEX('Base de Preços'!$B:$B,MATCH(6,$Z$8:$Z$458,0)+1)),"") | C13: =IFERROR(IF(INDEX('Base de Preços'!$C:$C,MATCH(6,$Z$8:$Z$458,0)+1)="","",INDEX('Base de Preços'!$C:$C,MATCH(6,$Z$8:$Z$458,0)+1)),"") | D13: =IFERROR(IF(INDEX('Base de Preços'!$E:$E,MATCH(6,$Z$8:$Z$458,0)+1)="","",INDEX('Base de Preços'!$E:$E,MATCH(6,$Z$8:$Z$458,0)+1)),"") | E13: =IFERROR(IF(INDEX('Base de Preços'!$F:$F,MATCH(6,$Z$8:$Z$458,0)+1)="","",INDEX('Base de Preços'!$F:$F,MATCH(6,$Z$8:$Z$458,0)+1)),"") | F13: =IFERROR(HYPERLINK(INDEX('Base de Preços'!$A:$A,MATCH(6,$Z$8:$Z$458,0)+1),"Abrir oferta"),"") | Y13: =SUBSTITUTE(SUBSTITUTE(SUBSTITUTE(SUBSTITUTE(SUBSTITUTE(SUBSTITUTE(SUBSTITUTE(SUBSTITUTE(SUBSTITUTE(SUBSTITUTE(SUBSTITUTE(SUBSTITUTE(SUBSTITUTE(SUBSTITUTE(LOWER('Base de Preços'!B7&" "&'Base de Preços'!C7&" "&'Base de Preços'!D7),"á","a"),"à","a"),"ã","a"),"â","a"),"é","e"),"ê","e"),"í","i"),"ó","o"),"ô","o"),"õ","o"),"ú","u"),"ç","c"),"-"," ")," ","") | Z13: =IF($Z$2="","",IF(AND(ISNUMBER(SEARCH($Z$2,Y13)),OR($Z$3="",ISNUMBER(SEARCH($Z$3,Y13))),OR($Z$4="",ISNUMBER(SEARCH($Z$4,Y13)))),MAX($Z$7:Z12)+1,""))
B14: =IFERROR(IF(INDEX('Base de Preços'!$B:$B,MATCH(7,$Z$8:$Z$458,0)+1)="","",INDEX('Base de Preços'!$B:$B,MATCH(7,$Z$8:$Z$458,0)+1)),"") | C14: =IFERROR(IF(INDEX('Base de Preços'!$C:$C,MATCH(7,$Z$8:$Z$458,0)+1)="","",INDEX('Base de Preços'!$C:$C,MATCH(7,$Z$8:$Z$458,0)+1)),"") | D14: =IFERROR(IF(INDEX('Base de Preços'!$E:$E,MATCH(7,$Z$8:$Z$458,0)+1)="","",INDEX('Base de Preços'!$E:$E,MATCH(7,$Z$8:$Z$458,0)+1)),"") | E14: =IFERROR(IF(INDEX('Base de Preços'!$F:$F,MATCH(7,$Z$8:$Z$458,0)+1)="","",INDEX('Base de Preços'!$F:$F,MATCH(7,$Z$8:$Z$458,0)+1)),"") | F14: =IFERROR(HYPERLINK(INDEX('Base de Preços'!$A:$A,MATCH(7,$Z$8:$Z$458,0)+1),"Abrir oferta"),"") | Y14: =SUBSTITUTE(SUBSTITUTE(SUBSTITUTE(SUBSTITUTE(SUBSTITUTE(SUBSTITUTE(SUBSTITUTE(SUBSTITUTE(SUBSTITUTE(SUBSTITUTE(SUBSTITUTE(SUBSTITUTE(SUBSTITUTE(SUBSTITUTE(LOWER('Base de Preços'!B8&" "&'Base de Preços'!C8&" "&'Base de Preços'!D8),"á","a"),"à","a"),"ã","a"),"â","a"),"é","e"),"ê","e"),"í","i"),"ó","o"),"ô","o"),"õ","o"),"ú","u"),"ç","c"),"-"," ")," ","") | Z14: =IF($Z$2="","",IF(AND(ISNUMBER(SEARCH($Z$2,Y14)),OR($Z$3="",ISNUMBER(SEARCH($Z$3,Y14))),OR($Z$4="",ISNUMBER(SEARCH($Z$4,Y14)))),MAX($Z$7:Z13)+1,""))
B15: =IFERROR(IF(INDEX('Base de Preços'!$B:$B,MATCH(8,$Z$8:$Z$458,0)+1)="","",INDEX('Base de Preços'!$B:$B,MATCH(8,$Z$8:$Z$458,0)+1)),"") | C15: =IFERROR(IF(INDEX('Base de Preços'!$C:$C,MATCH(8,$Z$8:$Z$458,0)+1)="","",INDEX('Base de Preços'!$C:$C,MATCH(8,$Z$8:$Z$458,0)+1)),"") | D15: =IFERROR(IF(INDEX('Base de Preços'!$E:$E,MATCH(8,$Z$8:$Z$458,0)+1)="","",INDEX('Base de Preços'!$E:$E,MATCH(8,$Z$8:$Z$458,0)+1)),"") | E15: =IFERROR(IF(INDEX('Base de Preços'!$F:$F,MATCH(8,$Z$8:$Z$458,0)+1)="","",INDEX('Base de Preços'!$F:$F,MATCH(8,$Z$8:$Z$458,0)+1)),"") | F15: =IFERROR(HYPERLINK(INDEX('Base de Preços'!$A:$A,MATCH(8,$Z$8:$Z$458,0)+1),"Abrir oferta"),"") | Y15: =SUBSTITUTE(SUBSTITUTE(SUBSTITUTE(SUBSTITUTE(SUBSTITUTE(SUBSTITUTE(SUBSTITUTE(SUBSTITUTE(SUBSTITUTE(SUBSTITUTE(SUBSTITUTE(SUBSTITUTE(SUBSTITUTE(SUBSTITUTE(LOWER('Base de Preços'!B9&" "&'Base de Preços'!C9&" "&'Base de Preços'!D9),"á","a"),"à","a"),"ã","a"),"â","a"),"é","e"),"ê","e"),"í","i"),"ó","o"),"ô","o"),"õ","o"),"ú","u"),"ç","c"),"-"," ")," ","") | Z15: =IF($Z$2="","",IF(AND(ISNUMBER(SEARCH($Z$2,Y15)),OR($Z$3="",ISNUMBER(SEARCH($Z$3,Y15))),OR($Z$4="",ISNUMBER(SEARCH($Z$4,Y15)))),MAX($Z$7:Z14)+1,""))
B16: =IFERROR(IF(INDEX('Base de Preços'!$B:$B,MATCH(9,$Z$8:$Z$458,0)+1)="","",INDEX('Base de Preços'!$B:$B,MATCH(9,$Z$8:$Z$458,0)+1)),"") | C16: =IFERROR(IF(INDEX('Base de Preços'!$C:$C,MATCH(9,$Z$8:$Z$458,0)+1)="","",INDEX('Base de Preços'!$C:$C,MATCH(9,$Z$8:$Z$458,0)+1)),"") | D16: =IFERROR(IF(INDEX('Base de Preços'!$E:$E,MATCH(9,$Z$8:$Z$458,0)+1)="","",INDEX('Base de Preços'!$E:$E,MATCH(9,$Z$8:$Z$458,0)+1)),"") | E16: =IFERROR(IF(INDEX('Base de Preços'!$F:$F,MATCH(9,$Z$8:$Z$458,0)+1)="","",INDEX('Base de Preços'!$F:$F,MATCH(9,$Z$8:$Z$458,0)+1)),"") | F16: =IFERROR(HYPERLINK(INDEX('Base de Preços'!$A:$A,MATCH(9,$Z$8:$Z$458,0)+1),"Abrir oferta"),"") | Y16: =SUBSTITUTE(SUBSTITUTE(SUBSTITUTE(SUBSTITUTE(SUBSTITUTE(SUBSTITUTE(SUBSTITUTE(SUBSTITUTE(SUBSTITUTE(SUBSTITUTE(SUBSTITUTE(SUBSTITUTE(SUBSTITUTE(SUBSTITUTE(LOWER('Base de Preços'!B10&" "&'Base de Preços'!C10&" "&'Base de Preços'!D10),"á","a"),"à","a"),"ã","a"),"â","a"),"é","e"),"ê","e"),"í","i"),"ó","o"),"ô","o"),"õ","o"),"ú","u"),"ç","c"),"-"," ")," ","") | Z16: =IF($Z$2="","",IF(AND(ISNUMBER(SEARCH($Z$2,Y16)),OR($Z$3="",ISNUMBER(SEARCH($Z$3,Y16))),OR($Z$4="",ISNUMBER(SEARCH($Z$4,Y16)))),MAX($Z$7:Z15)+1,""))
B17: =IFERROR(IF(INDEX('Base de Preços'!$B:$B,MATCH(10,$Z$8:$Z$458,0)+1)="","",INDEX('Base de Preços'!$B:$B,MATCH(10,$Z$8:$Z$458,0)+1)),"") | C17: =IFERROR(IF(INDEX('Base de Preços'!$C:$C,MATCH(10,$Z$8:$Z$458,0)+1)="","",INDEX('Base de Preços'!$C:$C,MATCH(10,$Z$8:$Z$458,0)+1)),"") | D17: =IFERROR(IF(INDEX('Base de Preços'!$E:$E,MATCH(10,$Z$8:$Z$458,0)+1)="","",INDEX('Base de Preços'!$E:$E,MATCH(10,$Z$8:$Z$458,0)+1)),"") | E17: =IFERROR(IF(INDEX('Base de Preços'!$F:$F,MATCH(10,$Z$8:$Z$458,0)+1)="","",INDEX('Base de Preços'!$F:$F,MATCH(10,$Z$8:$Z$458,0)+1)),"") | F17: =IFERROR(HYPERLINK(INDEX('Base de Preços'!$A:$A,MATCH(10,$Z$8:$Z$458,0)+1),"Abrir oferta"),"") | Y17: =SUBSTITUTE(SUBSTITUTE(SUBSTITUTE(SUBSTITUTE(SUBSTITUTE(SUBSTITUTE(SUBSTITUTE(SUBSTITUTE(SUBSTITUTE(SUBSTITUTE(SUBSTITUTE(SUBSTITUTE(SUBSTITUTE(SUBSTITUTE(LOWER('Base de Preços'!B11&" "&'Base de Preços'!C11&" "&'Base de Preços'!D11),"á","a"),"à","a"),"ã","a"),"â","a"),"é","e"),"ê","e"),"í","i"),"ó","o"),"ô","o"),"õ","o"),"ú","u"),"ç","c"),"-"," ")," ","") | Z17: =IF($Z$2="","",IF(AND(ISNUMBER(SEARCH($Z$2,Y17)),OR($Z$3="",ISNUMBER(SEARCH($Z$3,Y17))),OR($Z$4="",ISNUMBER(SEARCH($Z$4,Y17)))),MAX($Z$7:Z16)+1,""))
B18: =IFERROR(IF(INDEX('Base de Preços'!$B:$B,MATCH(11,$Z$8:$Z$458,0)+1)="","",INDEX('Base de Preços'!$B:$B,MATCH(11,$Z$8:$Z$458,0)+1)),"") | C18: =IFERROR(IF(INDEX('Base de Preços'!$C:$C,MATCH(11,$Z$8:$Z$458,0)+1)="","",INDEX('Base de Preços'!$C:$C,MATCH(11,$Z$8:$Z$458,0)+1)),"") | D18: =IFERROR(IF(INDEX('Base de Preços'!$E:$E,MATCH(11,$Z$8:$Z$458,0)+1)="","",INDEX('Base de Preços'!$E:$E,MATCH(11,$Z$8:$Z$458,0)+1)),"") | E18: =IFERROR(IF(INDEX('Base de Preços'!$F:$F,MATCH(11,$Z$8:$Z$458,0)+1)="","",INDEX('Base de Preços'!$F:$F,MATCH(11,$Z$8:$Z$458,0)+1)),"") | F18: =IFERROR(HYPERLINK(INDEX('Base de Preços'!$A:$A,MATCH(11,$Z$8:$Z$458,0)+1),"Abrir oferta"),"") | Y18: =SUBSTITUTE(SUBSTITUTE(SUBSTITUTE(SUBSTITUTE(SUBSTITUTE(SUBSTITUTE(SUBSTITUTE(SUBSTITUTE(SUBSTITUTE(SUBSTITUTE(SUBSTITUTE(SUBSTITUTE(SUBSTITUTE(SUBSTITUTE(LOWER('Base de Preços'!B12&" "&'Base de Preços'!C12&" "&'Base de Preços'!D12),"á","a"),"à","a"),"ã","a"),"â","a"),"é","e"),"ê","e"),"í","i"),"ó","o"),"ô","o"),"õ","o"),"ú","u"),"ç","c"),"-"," ")," ","") | Z18: =IF($Z$2="","",IF(AND(ISNUMBER(SEARCH($Z$2,Y18)),OR($Z$3="",ISNUMBER(SEARCH($Z$3,Y18))),OR($Z$4="",ISNUMBER(SEARCH($Z$4,Y18)))),MAX($Z$7:Z17)+1,""))
B19: =IFERROR(IF(INDEX('Base de Preços'!$B:$B,MATCH(12,$Z$8:$Z$458,0)+1)="","",INDEX('Base de Preços'!$B:$B,MATCH(12,$Z$8:$Z$458,0)+1)),"") | C19: =IFERROR(IF(INDEX('Base de Preços'!$C:$C,MATCH(12,$Z$8:$Z$458,0)+1)="","",INDEX('Base de Preços'!$C:$C,MATCH(12,$Z$8:$Z$458,0)+1)),"") | D19: =IFERROR(IF(INDEX('Base de Preços'!$E:$E,MATCH(12,$Z$8:$Z$458,0)+1)="","",INDEX('Base de Preços'!$E:$E,MATCH(12,$Z$8:$Z$458,0)+1)),"") | E19: =IFERROR(IF(INDEX('Base de Preços'!$F:$F,MATCH(12,$Z$8:$Z$458,0)+1)="","",INDEX('Base de Preços'!$F:$F,MATCH(12,$Z$8:$Z$458,0)+1)),"") | F19: =IFERROR(HYPERLINK(INDEX('Base de Preços'!$A:$A,MATCH(12,$Z$8:$Z$458,0)+1),"Abrir oferta"),"") | Y19: =SUBSTITUTE(SUBSTITUTE(SUBSTITUTE(SUBSTITUTE(SUBSTITUTE(SUBSTITUTE(SUBSTITUTE(SUBSTITUTE(SUBSTITUTE(SUBSTITUTE(SUBSTITUTE(SUBSTITUTE(SUBSTITUTE(SUBSTITUTE(LOWER('Base de Preços'!B13&" "&'Base de Preços'!C13&" "&'Base de Preços'!D13),"á","a"),"à","a"),"ã","a"),"â","a"),"é","e"),"ê","e"),"í","i"),"ó","o"),"ô","o"),"õ","o"),"ú","u"),"ç","c"),"-"," ")," ","") | Z19: =IF($Z$2="","",IF(AND(ISNUMBER(SEARCH($Z$2,Y19)),OR($Z$3="",ISNUMBER(SEARCH($Z$3,Y19))),OR($Z$4="",ISNUMBER(SEARCH($Z$4,Y19)))),MAX($Z$7:Z18)+1,""))
B20: =IFERROR(IF(INDEX('Base de Preços'!$B:$B,MATCH(13,$Z$8:$Z$458,0)+1)="","",INDEX('Base de Preços'!$B:$B,MATCH(13,$Z$8:$Z$458,0)+1)),"") | C20: =IFERROR(IF(INDEX('Base de Preços'!$C:$C,MATCH(13,$Z$8:$Z$458,0)+1)="","",INDEX('Base de Preços'!$C:$C,MATCH(13,$Z$8:$Z$458,0)+1)),"") | D20: =IFERROR(IF(INDEX('Base de Preços'!$E:$E,MATCH(13,$Z$8:$Z$458,0)+1)="","",INDEX('Base de Preços'!$E:$E,MATCH(13,$Z$8:$Z$458,0)+1)),"") | E20: =IFERROR(IF(INDEX('Base de Preços'!$F:$F,MATCH(13,$Z$8:$Z$458,0)+1)="","",INDEX('Base de Preços'!$F:$F,MATCH(13,$Z$8:$Z$458,0)+1)),"") | F20: =IFERROR(HYPERLINK(INDEX('Base de Preços'!$A:$A,MATCH(13,$Z$8:$Z$458,0)+1),"Abrir oferta"),"") | Y20: =SUBSTITUTE(SUBSTITUTE(SUBSTITUTE(SUBSTITUTE(SUBSTITUTE(SUBSTITUTE(SUBSTITUTE(SUBSTITUTE(SUBSTITUTE(SUBSTITUTE(SUBSTITUTE(SUBSTITUTE(SUBSTITUTE(SUBSTITUTE(LOWER('Base de Preços'!B14&" "&'Base de Preços'!C14&" "&'Base de Preços'!D14),"á","a"),"à","a"),"ã","a"),"â","a"),"é","e"),"ê","e"),"í","i"),"ó","o"),"ô","o"),"õ","o"),"ú","u"),"ç","c"),"-"," ")," ","") | Z20: =IF($Z$2="","",IF(AND(ISNUMBER(SEARCH($Z$2,Y20)),OR($Z$3="",ISNUMBER(SEARCH($Z$3,Y20))),OR($Z$4="",ISNUMBER(SEARCH($Z$4,Y20)))),MAX($Z$7:Z19)+1,""))
B21: =IFERROR(IF(INDEX('Base de Preços'!$B:$B,MATCH(14,$Z$8:$Z$458,0)+1)="","",INDEX('Base de Preços'!$B:$B,MATCH(14,$Z$8:$Z$458,0)+1)),"") | C21: =IFERROR(IF(INDEX('Base de Preços'!$C:$C,MATCH(14,$Z$8:$Z$458,0)+1)="","",INDEX('Base de Preços'!$C:$C,MATCH(14,$Z$8:$Z$458,0)+1)),"") | D21: =IFERROR(IF(INDEX('Base de Preços'!$E:$E,MATCH(14,$Z$8:$Z$458,0)+1)="","",INDEX('Base de Preços'!$E:$E,MATCH(14,$Z$8:$Z$458,0)+1)),"") | E21: =IFERROR(IF(INDEX('Base de Preços'!$F:$F,MATCH(14,$Z$8:$Z$458,0)+1)="","",INDEX('Base de Preços'!$F:$F,MATCH(14,$Z$8:$Z$458,0)+1)),"") | F21: =IFERROR(HYPERLINK(INDEX('Base de Preços'!$A:$A,MATCH(14,$Z$8:$Z$458,0)+1),"Abrir oferta"),"") | Y21: =SUBSTITUTE(SUBSTITUTE(SUBSTITUTE(SUBSTITUTE(SUBSTITUTE(SUBSTITUTE(SUBSTITUTE(SUBSTITUTE(SUBSTITUTE(SUBSTITUTE(SUBSTITUTE(SUBSTITUTE(SUBSTITUTE(SUBSTITUTE(LOWER('Base de Preços'!B15&" "&'Base de Preços'!C15&" "&'Base de Preços'!D15),"á","a"),"à","a"),"ã","a"),"â","a"),"é","e"),"ê","e"),"í","i"),"ó","o"),"ô","o"),"õ","o"),"ú","u"),"ç","c"),"-"," ")," ","") | Z21: =IF($Z$2="","",IF(AND(ISNUMBER(SEARCH($Z$2,Y21)),OR($Z$3="",ISNUMBER(SEARCH($Z$3,Y21))),OR($Z$4="",ISNUMBER(SEARCH($Z$4,Y21)))),MAX($Z$7:Z20)+1,""))
B22: =IFERROR(IF(INDEX('Base de Preços'!$B:$B,MATCH(15,$Z$8:$Z$458,0)+1)="","",INDEX('Base de Preços'!$B:$B,MATCH(15,$Z$8:$Z$458,0)+1)),"") | C22: =IFERROR(IF(INDEX('Base de Preços'!$C:$C,MATCH(15,$Z$8:$Z$458,0)+1)="","",INDEX('Base de Preços'!$C:$C,MATCH(15,$Z$8:$Z$458,0)+1)),"") | D22: =IFERROR(IF(INDEX('Base de Preços'!$E:$E,MATCH(15,$Z$8:$Z$458,0)+1)="","",INDEX('Base de Preços'!$E:$E,MATCH(15,$Z$8:$Z$458,0)+1)),"") | E22: =IFERROR(IF(INDEX('Base de Preços'!$F:$F,MATCH(15,$Z$8:$Z$458,0)+1)="","",INDEX('Base de Preços'!$F:$F,MATCH(15,$Z$8:$Z$458,0)+1)),"") | F22: =IFERROR(HYPERLINK(INDEX('Base de Preços'!$A:$A,MATCH(15,$Z$8:$Z$458,0)+1),"Abrir oferta"),"") | Y22: =SUBSTITUTE(SUBSTITUTE(SUBSTITUTE(SUBSTITUTE(SUBSTITUTE(SUBSTITUTE(SUBSTITUTE(SUBSTITUTE(SUBSTITUTE(SUBSTITUTE(SUBSTITUTE(SUBSTITUTE(SUBSTITUTE(SUBSTITUTE(LOWER('Base de Preços'!B16&" "&'Base de Preços'!C16&" "&'Base de Preços'!D16),"á","a"),"à","a"),"ã","a"),"â","a"),"é","e"),"ê","e"),"í","i"),"ó","o"),"ô","o"),"õ","o"),"ú","u"),"ç","c"),"-"," ")," ","") | Z22: =IF($Z$2="","",IF(AND(ISNUMBER(SEARCH($Z$2,Y22)),OR($Z$3="",ISNUMBER(SEARCH($Z$3,Y22))),OR($Z$4="",ISNUMBER(SEARCH($Z$4,Y22)))),MAX($Z$7:Z21)+1,""))
B23: =IFERROR(IF(INDEX('Base de Preços'!$B:$B,MATCH(16,$Z$8:$Z$458,0)+1)="","",INDEX('Base de Preços'!$B:$B,MATCH(16,$Z$8:$Z$458,0)+1)),"") | C23: =IFERROR(IF(INDEX('Base de Preços'!$C:$C,MATCH(16,$Z$8:$Z$458,0)+1)="","",INDEX('Base de Preços'!$C:$C,MATCH(16,$Z$8:$Z$458,0)+1)),"") | D23: =IFERROR(IF(INDEX('Base de Preços'!$E:$E,MATCH(16,$Z$8:$Z$458,0)+1)="","",INDEX('Base de Preços'!$E:$E,MATCH(16,$Z$8:$Z$458,0)+1)),"") | E23: =IFERROR(IF(INDEX('Base de Preços'!$F:$F,MATCH(16,$Z$8:$Z$458,0)+1)="","",INDEX('Base de Preços'!$F:$F,MATCH(16,$Z$8:$Z$458,0)+1)),"") | F23: =IFERROR(HYPERLINK(INDEX('Base de Preços'!$A:$A,MATCH(16,$Z$8:$Z$458,0)+1),"Abrir oferta"),"") | Y23: =SUBSTITUTE(SUBSTITUTE(SUBSTITUTE(SUBSTITUTE(SUBSTITUTE(SUBSTITUTE(SUBSTITUTE(SUBSTITUTE(SUBSTITUTE(SUBSTITUTE(SUBSTITUTE(SUBSTITUTE(SUBSTITUTE(SUBSTITUTE(LOWER('Base de Preços'!B17&" "&'Base de Preços'!C17&" "&'Base de Preços'!D17),"á","a"),"à","a"),"ã","a"),"â","a"),"é","e"),"ê","e"),"í","i"),"ó","o"),"ô","o"),"õ","o"),"ú","u"),"ç","c"),"-"," ")," ","") | Z23: =IF($Z$2="","",IF(AND(ISNUMBER(SEARCH($Z$2,Y23)),OR($Z$3="",ISNUMBER(SEARCH($Z$3,Y23))),OR($Z$4="",ISNUMBER(SEARCH($Z$4,Y23)))),MAX($Z$7:Z22)+1,""))
B24: =IFERROR(IF(INDEX('Base de Preços'!$B:$B,MATCH(17,$Z$8:$Z$458,0)+1)="","",INDEX('Base de Preços'!$B:$B,MATCH(17,$Z$8:$Z$458,0)+1)),"") | C24: =IFERROR(IF(INDEX('Base de Preços'!$C:$C,MATCH(17,$Z$8:$Z$458,0)+1)="","",INDEX('Base de Preços'!$C:$C,MATCH(17,$Z$8:$Z$458,0)+1)),"") | D24: =IFERROR(IF(INDEX('Base de Preços'!$E:$E,MATCH(17,$Z$8:$Z$458,0)+1)="","",INDEX('Base de Preços'!$E:$E,MATCH(17,$Z$8:$Z$458,0)+1)),"") | E24: =IFERROR(IF(INDEX('Base de Preços'!$F:$F,MATCH(17,$Z$8:$Z$458,0)+1)="","",INDEX('Base de Preços'!$F:$F,MATCH(17,$Z$8:$Z$458,0)+1)),"") | F24: =IFERROR(HYPERLINK(INDEX('Base de Preços'!$A:$A,MATCH(17,$Z$8:$Z$458,0)+1),"Abrir oferta"),"") | Y24: =SUBSTITUTE(SUBSTITUTE(SUBSTITUTE(SUBSTITUTE(SUBSTITUTE(SUBSTITUTE(SUBSTITUTE(SUBSTITUTE(SUBSTITUTE(SUBSTITUTE(SUBSTITUTE(SUBSTITUTE(SUBSTITUTE(SUBSTITUTE(LOWER('Base de Preços'!B18&" "&'Base de Preços'!C18&" "&'Base de Preços'!D18),"á","a"),"à","a"),"ã","a"),"â","a"),"é","e"),"ê","e"),"í","i"),"ó","o"),"ô","o"),"õ","o"),"ú","u"),"ç","c"),"-"," ")," ","") | Z24: =IF($Z$2="","",IF(AND(ISNUMBER(SEARCH($Z$2,Y24)),OR($Z$3="",ISNUMBER(SEARCH($Z$3,Y24))),OR($Z$4="",ISNUMBER(SEARCH($Z$4,Y24)))),MAX($Z$7:Z23)+1,""))
B25: =IFERROR(IF(INDEX('Base de Preços'!$B:$B,MATCH(18,$Z$8:$Z$458,0)+1)="","",INDEX('Base de Preços'!$B:$B,MATCH(18,$Z$8:$Z$458,0)+1)),"") | C25: =IFERROR(IF(INDEX('Base de Preços'!$C:$C,MATCH(18,$Z$8:$Z$458,0)+1)="","",INDEX('Base de Preços'!$C:$C,MATCH(18,$Z$8:$Z$458,0)+1)),"") | D25: =IFERROR(IF(INDEX('Base de Preços'!$E:$E,MATCH(18,$Z$8:$Z$458,0)+1)="","",INDEX('Base de Preços'!$E:$E,MATCH(18,$Z$8:$Z$458,0)+1)),"") | E25: =IFERROR(IF(INDEX('Base de Preços'!$F:$F,MATCH(18,$Z$8:$Z$458,0)+1)="","",INDEX('Base de Preços'!$F:$F,MATCH(18,$Z$8:$Z$458,0)+1)),"") | F25: =IFERROR(HYPERLINK(INDEX('Base de Preços'!$A:$A,MATCH(18,$Z$8:$Z$458,0)+1),"Abrir oferta"),"") | Y25: =SUBSTITUTE(SUBSTITUTE(SUBSTITUTE(SUBSTITUTE(SUBSTITUTE(SUBSTITUTE(SUBSTITUTE(SUBSTITUTE(SUBSTITUTE(SUBSTITUTE(SUBSTITUTE(SUBSTITUTE(SUBSTITUTE(SUBSTITUTE(LOWER('Base de Preços'!B19&" "&'Base de Preços'!C19&" "&'Base de Preços'!D19),"á","a"),"à","a"),"ã","a"),"â","a"),"é","e"),"ê","e"),"í","i"),"ó","o"),"ô","o"),"õ","o"),"ú","u"),"ç","c"),"-"," ")," ","") | Z25: =IF($Z$2="","",IF(AND(ISNUMBER(SEARCH($Z$2,Y25)),OR($Z$3="",ISNUMBER(SEARCH($Z$3,Y25))),OR($Z$4="",ISNUMBER(SEARCH($Z$4,Y25)))),MAX($Z$7:Z24)+1,""))
B26: =IFERROR(IF(INDEX('Base de Preços'!$B:$B,MATCH(19,$Z$8:$Z$458,0)+1)="","",INDEX('Base de Preços'!$B:$B,MATCH(19,$Z$8:$Z$458,0)+1)),"") | C26: =IFERROR(IF(INDEX('Base de Preços'!$C:$C,MATCH(19,$Z$8:$Z$458,0)+1)="","",INDEX('Base de Preços'!$C:$C,MATCH(19,$Z$8:$Z$458,0)+1)),"") | D26: =IFERROR(IF(INDEX('Base de Preços'!$E:$E,MATCH(19,$Z$8:$Z$458,0)+1)="","",INDEX('Base de Preços'!$E:$E,MATCH(19,$Z$8:$Z$458,0)+1)),"") | E26: =IFERROR(IF(INDEX('Base de Preços'!$F:$F,MATCH(19,$Z$8:$Z$458,0)+1)="","",INDEX('Base de Preços'!$F:$F,MATCH(19,$Z$8:$Z$458,0)+1)),"") | F26: =IFERROR(HYPERLINK(INDEX('Base de Preços'!$A:$A,MATCH(19,$Z$8:$Z$458,0)+1),"Abrir oferta"),"") | Y26: =SUBSTITUTE(SUBSTITUTE(SUBSTITUTE(SUBSTITUTE(SUBSTITUTE(SUBSTITUTE(SUBSTITUTE(SUBSTITUTE(SUBSTITUTE(SUBSTITUTE(SUBSTITUTE(SUBSTITUTE(SUBSTITUTE(SUBSTITUTE(LOWER('Base de Preços'!B20&" "&'Base de Preços'!C20&" "&'Base de Preços'!D20),"á","a"),"à","a"),"ã","a"),"â","a"),"é","e"),"ê","e"),"í","i"),"ó","o"),"ô","o"),"õ","o"),"ú","u"),"ç","c"),"-"," ")," ","") | Z26: =IF($Z$2="","",IF(AND(ISNUMBER(SEARCH($Z$2,Y26)),OR($Z$3="",ISNUMBER(SEARCH($Z$3,Y26))),OR($Z$4="",ISNUMBER(SEARCH($Z$4,Y26)))),MAX($Z$7:Z25)+1,""))
B27: =IFERROR(IF(INDEX('Base de Preços'!$B:$B,MATCH(20,$Z$8:$Z$458,0)+1)="","",INDEX('Base de Preços'!$B:$B,MATCH(20,$Z$8:$Z$458,0)+1)),"") | C27: =IFERROR(IF(INDEX('Base de Preços'!$C:$C,MATCH(20,$Z$8:$Z$458,0)+1)="","",INDEX('Base de Preços'!$C:$C,MATCH(20,$Z$8:$Z$458,0)+1)),"") | D27: =IFERROR(IF(INDEX('Base de Preços'!$E:$E,MATCH(20,$Z$8:$Z$458,0)+1)="","",INDEX('Base de Preços'!$E:$E,MATCH(20,$Z$8:$Z$458,0)+1)),"") | E27: =IFERROR(IF(INDEX('Base de Preços'!$F:$F,MATCH(20,$Z$8:$Z$458,0)+1)="","",INDEX('Base de Preços'!$F:$F,MATCH(20,$Z$8:$Z$458,0)+1)),"") | F27: =IFERROR(HYPERLINK(INDEX('Base de Preços'!$A:$A,MATCH(20,$Z$8:$Z$458,0)+1),"Abrir oferta"),"") | Y27: =SUBSTITUTE(SUBSTITUTE(SUBSTITUTE(SUBSTITUTE(SUBSTITUTE(SUBSTITUTE(SUBSTITUTE(SUBSTITUTE(SUBSTITUTE(SUBSTITUTE(SUBSTITUTE(SUBSTITUTE(SUBSTITUTE(SUBSTITUTE(LOWER('Base de Preços'!B21&" "&'Base de Preços'!C21&" "&'Base de Preços'!D21),"á","a"),"à","a"),"ã","a"),"â","a"),"é","e"),"ê","e"),"í","i"),"ó","o"),"ô","o"),"õ","o"),"ú","u"),"ç","c"),"-"," ")," ","") | Z27: =IF($Z$2="","",IF(AND(ISNUMBER(SEARCH($Z$2,Y27)),OR($Z$3="",ISNUMBER(SEARCH($Z$3,Y27))),OR($Z$4="",ISNUMBER(SEARCH($Z$4,Y27)))),MAX($Z$7:Z26)+1,""))
B28: =IFERROR(IF(INDEX('Base de Preços'!$B:$B,MATCH(21,$Z$8:$Z$458,0)+1)="","",INDEX('Base de Preços'!$B:$B,MATCH(21,$Z$8:$Z$458,0)+1)),"") | C28: =IFERROR(IF(INDEX('Base de Preços'!$C:$C,MATCH(21,$Z$8:$Z$458,0)+1)="","",INDEX('Base de Preços'!$C:$C,MATCH(21,$Z$8:$Z$458,0)+1)),"") | D28: =IFERROR(IF(INDEX('Base de Preços'!$E:$E,MATCH(21,$Z$8:$Z$458,0)+1)="","",INDEX('Base de Preços'!$E:$E,MATCH(21,$Z$8:$Z$458,0)+1)),"") | E28: =IFERROR(IF(INDEX('Base de Preços'!$F:$F,MATCH(21,$Z$8:$Z$458,0)+1)="","",INDEX('Base de Preços'!$F:$F,MATCH(21,$Z$8:$Z$458,0)+1)),"") | F28: =IFERROR(HYPERLINK(INDEX('Base de Preços'!$A:$A,MATCH(21,$Z$8:$Z$458,0)+1),"Abrir oferta"),"") | Y28: =SUBSTITUTE(SUBSTITUTE(SUBSTITUTE(SUBSTITUTE(SUBSTITUTE(SUBSTITUTE(SUBSTITUTE(SUBSTITUTE(SUBSTITUTE(SUBSTITUTE(SUBSTITUTE(SUBSTITUTE(SUBSTITUTE(SUBSTITUTE(LOWER('Base de Preços'!B22&" "&'Base de Preços'!C22&" "&'Base de Preços'!D22),"á","a"),"à","a"),"ã","a"),"â","a"),"é","e"),"ê","e"),"í","i"),"ó","o"),"ô","o"),"õ","o"),"ú","u"),"ç","c"),"-"," ")," ","") | Z28: =IF($Z$2="","",IF(AND(ISNUMBER(SEARCH($Z$2,Y28)),OR($Z$3="",ISNUMBER(SEARCH($Z$3,Y28))),OR($Z$4="",ISNUMBER(SEARCH($Z$4,Y28)))),MAX($Z$7:Z27)+1,""))
B29: =IFERROR(IF(INDEX('Base de Preços'!$B:$B,MATCH(22,$Z$8:$Z$458,0)+1)="","",INDEX('Base de Preços'!$B:$B,MATCH(22,$Z$8:$Z$458,0)+1)),"") | C29: =IFERROR(IF(INDEX('Base de Preços'!$C:$C,MATCH(22,$Z$8:$Z$458,0)+1)="","",INDEX('Base de Preços'!$C:$C,MATCH(22,$Z$8:$Z$458,0)+1)),"") | D29: =IFERROR(IF(INDEX('Base de Preços'!$E:$E,MATCH(22,$Z$8:$Z$458,0)+1)="","",INDEX('Base de Preços'!$E:$E,MATCH(22,$Z$8:$Z$458,0)+1)),"") | E29: =IFERROR(IF(INDEX('Base de Preços'!$F:$F,MATCH(22,$Z$8:$Z$458,0)+1)="","",INDEX('Base de Preços'!$F:$F,MATCH(22,$Z$8:$Z$458,0)+1)),"") | F29: =IFERROR(HYPERLINK(INDEX('Base de Preços'!$A:$A,MATCH(22,$Z$8:$Z$458,0)+1),"Abrir oferta"),"") | Y29: =SUBSTITUTE(SUBSTITUTE(SUBSTITUTE(SUBSTITUTE(SUBSTITUTE(SUBSTITUTE(SUBSTITUTE(SUBSTITUTE(SUBSTITUTE(SUBSTITUTE(SUBSTITUTE(SUBSTITUTE(SUBSTITUTE(SUBSTITUTE(LOWER('Base de Preços'!B23&" "&'Base de Preços'!C23&" "&'Base de Preços'!D23),"á","a"),"à","a"),"ã","a"),"â","a"),"é","e"),"ê","e"),"í","i"),"ó","o"),"ô","o"),"õ","o"),"ú","u"),"ç","c"),"-"," ")," ","") | Z29: =IF($Z$2="","",IF(AND(ISNUMBER(SEARCH($Z$2,Y29)),OR($Z$3="",ISNUMBER(SEARCH($Z$3,Y29))),OR($Z$4="",ISNUMBER(SEARCH($Z$4,Y29)))),MAX($Z$7:Z28)+1,""))
B30: =IFERROR(IF(INDEX('Base de Preços'!$B:$B,MATCH(23,$Z$8:$Z$458,0)+1)="","",INDEX('Base de Preços'!$B:$B,MATCH(23,$Z$8:$Z$458,0)+1)),"") | C30: =IFERROR(IF(INDEX('Base de Preços'!$C:$C,MATCH(23,$Z$8:$Z$458,0)+1)="","",INDEX('Base de Preços'!$C:$C,MATCH(23,$Z$8:$Z$458,0)+1)),"") | D30: =IFERROR(IF(INDEX('Base de Preços'!$E:$E,MATCH(23,$Z$8:$Z$458,0)+1)="","",INDEX('Base de Preços'!$E:$E,MATCH(23,$Z$8:$Z$458,0)+1)),"") | E30: =IFERROR(IF(INDEX('Base de Preços'!$F:$F,MATCH(23,$Z$8:$Z$458,0)+1)="","",INDEX('Base de Preços'!$F:$F,MATCH(23,$Z$8:$Z$458,0)+1)),"") | F30: =IFERROR(HYPERLINK(INDEX('Base de Preços'!$A:$A,MATCH(23,$Z$8:$Z$458,0)+1),"Abrir oferta"),"") | Y30: =SUBSTITUTE(SUBSTITUTE(SUBSTITUTE(SUBSTITUTE(SUBSTITUTE(SUBSTITUTE(SUBSTITUTE(SUBSTITUTE(SUBSTITUTE(SUBSTITUTE(SUBSTITUTE(SUBSTITUTE(SUBSTITUTE(SUBSTITUTE(LOWER('Base de Preços'!B24&" "&'Base de Preços'!C24&" "&'Base de Preços'!D24),"á","a"),"à","a"),"ã","a"),"â","a"),"é","e"),"ê","e"),"í","i"),"ó","o"),"ô","o"),"õ","o"),"ú","u"),"ç","c"),"-"," ")," ","") | Z30: =IF($Z$2="","",IF(AND(ISNUMBER(SEARCH($Z$2,Y30)),OR($Z$3="",ISNUMBER(SEARCH($Z$3,Y30))),OR($Z$4="",ISNUMBER(SEARCH($Z$4,Y30)))),MAX($Z$7:Z29)+1,""))
B31: =IFERROR(IF(INDEX('Base de Preços'!$B:$B,MATCH(24,$Z$8:$Z$458,0)+1)="","",INDEX('Base de Preços'!$B:$B,MATCH(24,$Z$8:$Z$458,0)+1)),"") | C31: =IFERROR(IF(INDEX('Base de Preços'!$C:$C,MATCH(24,$Z$8:$Z$458,0)+1)="","",INDEX('Base de Preços'!$C:$C,MATCH(24,$Z$8:$Z$458,0)+1)),"") | D31: =IFERROR(IF(INDEX('Base de Preços'!$E:$E,MATCH(24,$Z$8:$Z$458,0)+1)="","",INDEX('Base de Preços'!$E:$E,MATCH(24,$Z$8:$Z$458,0)+1)),"") | E31: =IFERROR(IF(INDEX('Base de Preços'!$F:$F,MATCH(24,$Z$8:$Z$458,0)+1)="","",INDEX('Base de Preços'!$F:$F,MATCH(24,$Z$8:$Z$458,0)+1)),"") | F31: =IFERROR(HYPERLINK(INDEX('Base de Preços'!$A:$A,MATCH(24,$Z$8:$Z$458,0)+1),"Abrir oferta"),"") | Y31: =SUBSTITUTE(SUBSTITUTE(SUBSTITUTE(SUBSTITUTE(SUBSTITUTE(SUBSTITUTE(SUBSTITUTE(SUBSTITUTE(SUBSTITUTE(SUBSTITUTE(SUBSTITUTE(SUBSTITUTE(SUBSTITUTE(SUBSTITUTE(LOWER('Base de Preços'!B25&" "&'Base de Preços'!C25&" "&'Base de Preços'!D25),"á","a"),"à","a"),"ã","a"),"â","a"),"é","e"),"ê","e"),"í","i"),"ó","o"),"ô","o"),"õ","o"),"ú","u"),"ç","c"),"-"," ")," ","") | Z31: =IF($Z$2="","",IF(AND(ISNUMBER(SEARCH($Z$2,Y31)),OR($Z$3="",ISNUMBER(SEARCH($Z$3,Y31))),OR($Z$4="",ISNUMBER(SEARCH($Z$4,Y31)))),MAX($Z$7:Z30)+1,""))
B32: =IFERROR(IF(INDEX('Base de Preços'!$B:$B,MATCH(25,$Z$8:$Z$458,0)+1)="","",INDEX('Base de Preços'!$B:$B,MATCH(25,$Z$8:$Z$458,0)+1)),"") | C32: =IFERROR(IF(INDEX('Base de Preços'!$C:$C,MATCH(25,$Z$8:$Z$458,0)+1)="","",INDEX('Base de Preços'!$C:$C,MATCH(25,$Z$8:$Z$458,0)+1)),"") | D32: =IFERROR(IF(INDEX('Base de Preços'!$E:$E,MATCH(25,$Z$8:$Z$458,0)+1)="","",INDEX('Base de Preços'!$E:$E,MATCH(25,$Z$8:$Z$458,0)+1)),"") | E32: =IFERROR(IF(INDEX('Base de Preços'!$F:$F,MATCH(25,$Z$8:$Z$458,0)+1)="","",INDEX('Base de Preços'!$F:$F,MATCH(25,$Z$8:$Z$458,0)+1)),"") | F32: =IFERROR(HYPERLINK(INDEX('Base de Preços'!$A:$A,MATCH(25,$Z$8:$Z$458,0)+1),"Abrir oferta"),"") | Y32: =SUBSTITUTE(SUBSTITUTE(SUBSTITUTE(SUBSTITUTE(SUBSTITUTE(SUBSTITUTE(SUBSTITUTE(SUBSTITUTE(SUBSTITUTE(SUBSTITUTE(SUBSTITUTE(SUBSTITUTE(SUBSTITUTE(SUBSTITUTE(LOWER('Base de Preços'!B26&" "&'Base de Preços'!C26&" "&'Base de Preços'!D26),"á","a"),"à","a"),"ã","a"),"â","a"),"é","e"),"ê","e"),"í","i"),"ó","o"),"ô","o"),"õ","o"),"ú","u"),"ç","c"),"-"," ")," ","") | Z32: =IF($Z$2="","",IF(AND(ISNUMBER(SEARCH($Z$2,Y32)),OR($Z$3="",ISNUMBER(SEARCH($Z$3,Y32))),OR($Z$4="",ISNUMBER(SEARCH($Z$4,Y32)))),MAX($Z$7:Z31)+1,""))
B33: =IFERROR(IF(INDEX('Base de Preços'!$B:$B,MATCH(26,$Z$8:$Z$458,0)+1)="","",INDEX('Base de Preços'!$B:$B,MATCH(26,$Z$8:$Z$458,0)+1)),"") | C33: =IFERROR(IF(INDEX('Base de Preços'!$C:$C,MATCH(26,$Z$8:$Z$458,0)+1)="","",INDEX('Base de Preços'!$C:$C,MATCH(26,$Z$8:$Z$458,0)+1)),"") | D33: =IFERROR(IF(INDEX('Base de Preços'!$E:$E,MATCH(26,$Z$8:$Z$458,0)+1)="","",INDEX('Base de Preços'!$E:$E,MATCH(26,$Z$8:$Z$458,0)+1)),"") | E33: =IFERROR(IF(INDEX('Base de Preços'!$F:$F,MATCH(26,$Z$8:$Z$458,0)+1)="","",INDEX('Base de Preços'!$F:$F,MATCH(26,$Z$8:$Z$458,0)+1)),"") | F33: =IFERROR(HYPERLINK(INDEX('Base de Preços'!$A:$A,MATCH(26,$Z$8:$Z$458,0)+1),"Abrir oferta"),"") | Y33: =SUBSTITUTE(SUBSTITUTE(SUBSTITUTE(SUBSTITUTE(SUBSTITUTE(SUBSTITUTE(SUBSTITUTE(SUBSTITUTE(SUBSTITUTE(SUBSTITUTE(SUBSTITUTE(SUBSTITUTE(SUBSTITUTE(SUBSTITUTE(LOWER('Base de Preços'!B27&" "&'Base de Preços'!C27&" "&'Base de Preços'!D27),"á","a"),"à","a"),"ã","a"),"â","a"),"é","e"),"ê","e"),"í","i"),"ó","o"),"ô","o"),"õ","o"),"ú","u"),"ç","c"),"-"," ")," ","") | Z33: =IF($Z$2="","",IF(AND(ISNUMBER(SEARCH($Z$2,Y33)),OR($Z$3="",ISNUMBER(SEARCH($Z$3,Y33))),OR($Z$4="",ISNUMBER(SEARCH($Z$4,Y33)))),MAX($Z$7:Z32)+1,""))
B34: =IFERROR(IF(INDEX('Base de Preços'!$B:$B,MATCH(27,$Z$8:$Z$458,0)+1)="","",INDEX('Base de Preços'!$B:$B,MATCH(27,$Z$8:$Z$458,0)+1)),"") | C34: =IFERROR(IF(INDEX('Base de Preços'!$C:$C,MATCH(27,$Z$8:$Z$458,0)+1)="","",INDEX('Base de Preços'!$C:$C,MATCH(27,$Z$8:$Z$458,0)+1)),"") | D34: =IFERROR(IF(INDEX('Base de Preços'!$E:$E,MATCH(27,$Z$8:$Z$458,0)+1)="","",INDEX('Base de Preços'!$E:$E,MATCH(27,$Z$8:$Z$458,0)+1)),"") | E34: =IFERROR(IF(INDEX('Base de Preços'!$F:$F,MATCH(27,$Z$8:$Z$458,0)+1)="","",INDEX('Base de Preços'!$F:$F,MATCH(27,$Z$8:$Z$458,0)+1)),"") | F34: =IFERROR(HYPERLINK(INDEX('Base de Preços'!$A:$A,MATCH(27,$Z$8:$Z$458,0)+1),"Abrir oferta"),"") | Y34: =SUBSTITUTE(SUBSTITUTE(SUBSTITUTE(SUBSTITUTE(SUBSTITUTE(SUBSTITUTE(SUBSTITUTE(SUBSTITUTE(SUBSTITUTE(SUBSTITUTE(SUBSTITUTE(SUBSTITUTE(SUBSTITUTE(SUBSTITUTE(LOWER('Base de Preços'!B28&" "&'Base de Preços'!C28&" "&'Base de Preços'!D28),"á","a"),"à","a"),"ã","a"),"â","a"),"é","e"),"ê","e"),"í","i"),"ó","o"),"ô","o"),"õ","o"),"ú","u"),"ç","c"),"-"," ")," ","") | Z34: =IF($Z$2="","",IF(AND(ISNUMBER(SEARCH($Z$2,Y34)),OR($Z$3="",ISNUMBER(SEARCH($Z$3,Y34))),OR($Z$4="",ISNUMBER(SEARCH($Z$4,Y34)))),MAX($Z$7:Z33)+1,""))
B35: =IFERROR(IF(INDEX('Base de Preços'!$B:$B,MATCH(28,$Z$8:$Z$458,0)+1)="","",INDEX('Base de Preços'!$B:$B,MATCH(28,$Z$8:$Z$458,0)+1)),"") | C35: =IFERROR(IF(INDEX('Base de Preços'!$C:$C,MATCH(28,$Z$8:$Z$458,0)+1)="","",INDEX('Base de Preços'!$C:$C,MATCH(28,$Z$8:$Z$458,0)+1)),"") | D35: =IFERROR(IF(INDEX('Base de Preços'!$E:$E,MATCH(28,$Z$8:$Z$458,0)+1)="","",INDEX('Base de Preços'!$E:$E,MATCH(28,$Z$8:$Z$458,0)+1)),"") | E35: =IFERROR(IF(INDEX('Base de Preços'!$F:$F,MATCH(28,$Z$8:$Z$458,0)+1)="","",INDEX('Base de Preços'!$F:$F,MATCH(28,$Z$8:$Z$458,0)+1)),"") | F35: =IFERROR(HYPERLINK(INDEX('Base de Preços'!$A:$A,MATCH(28,$Z$8:$Z$458,0)+1),"Abrir oferta"),"") | Y35: =SUBSTITUTE(SUBSTITUTE(SUBSTITUTE(SUBSTITUTE(SUBSTITUTE(SUBSTITUTE(SUBSTITUTE(SUBSTITUTE(SUBSTITUTE(SUBSTITUTE(SUBSTITUTE(SUBSTITUTE(SUBSTITUTE(SUBSTITUTE(LOWER('Base de Preços'!B29&" "&'Base de Preços'!C29&" "&'Base de Preços'!D29),"á","a"),"à","a"),"ã","a"),"â","a"),"é","e"),"ê","e"),"í","i"),"ó","o"),"ô","o"),"õ","o"),"ú","u"),"ç","c"),"-"," ")," ","") | Z35: =IF($Z$2="","",IF(AND(ISNUMBER(SEARCH($Z$2,Y35)),OR($Z$3="",ISNUMBER(SEARCH($Z$3,Y35))),OR($Z$4="",ISNUMBER(SEARCH($Z$4,Y35)))),MAX($Z$7:Z34)+1,""))
B36: =IFERROR(IF(INDEX('Base de Preços'!$B:$B,MATCH(29,$Z$8:$Z$458,0)+1)="","",INDEX('Base de Preços'!$B:$B,MATCH(29,$Z$8:$Z$458,0)+1)),"") | C36: =IFERROR(IF(INDEX('Base de Preços'!$C:$C,MATCH(29,$Z$8:$Z$458,0)+1)="","",INDEX('Base de Preços'!$C:$C,MATCH(29,$Z$8:$Z$458,0)+1)),"") | D36: =IFERROR(IF(INDEX('Base de Preços'!$E:$E,MATCH(29,$Z$8:$Z$458,0)+1)="","",INDEX('Base de Preços'!$E:$E,MATCH(29,$Z$8:$Z$458,0)+1)),"") | E36: =IFERROR(IF(INDEX('Base de Preços'!$F:$F,MATCH(29,$Z$8:$Z$458,0)+1)="","",INDEX('Base de Preços'!$F:$F,MATCH(29,$Z$8:$Z$458,0)+1)),"") | F36: =IFERROR(HYPERLINK(INDEX('Base de Preços'!$A:$A,MATCH(29,$Z$8:$Z$458,0)+1),"Abrir oferta"),"") | Y36: =SUBSTITUTE(SUBSTITUTE(SUBSTITUTE(SUBSTITUTE(SUBSTITUTE(SUBSTITUTE(SUBSTITUTE(SUBSTITUTE(SUBSTITUTE(SUBSTITUTE(SUBSTITUTE(SUBSTITUTE(SUBSTITUTE(SUBSTITUTE(LOWER('Base de Preços'!B30&" "&'Base de Preços'!C30&" "&'Base de Preços'!D30),"á","a"),"à","a"),"ã","a"),"â","a"),"é","e"),"ê","e"),"í","i"),"ó","o"),"ô","o"),"õ","o"),"ú","u"),"ç","c"),"-"," ")," ","") | Z36: =IF($Z$2="","",IF(AND(ISNUMBER(SEARCH($Z$2,Y36)),OR($Z$3="",ISNUMBER(SEARCH($Z$3,Y36))),OR($Z$4="",ISNUMBER(SEARCH($Z$4,Y36)))),MAX($Z$7:Z35)+1,""))
B37: =IFERROR(IF(INDEX('Base de Preços'!$B:$B,MATCH(30,$Z$8:$Z$458,0)+1)="","",INDEX('Base de Preços'!$B:$B,MATCH(30,$Z$8:$Z$458,0)+1)),"") | C37: =IFERROR(IF(INDEX('Base de Preços'!$C:$C,MATCH(30,$Z$8:$Z$458,0)+1)="","",INDEX('Base de Preços'!$C:$C,MATCH(30,$Z$8:$Z$458,0)+1)),"") | D37: =IFERROR(IF(INDEX('Base de Preços'!$E:$E,MATCH(30,$Z$8:$Z$458,0)+1)="","",INDEX('Base de Preços'!$E:$E,MATCH(30,$Z$8:$Z$458,0)+1)),"") | E37: =IFERROR(IF(INDEX('Base de Preços'!$F:$F,MATCH(30,$Z$8:$Z$458,0)+1)="","",INDEX('Base de Preços'!$F:$F,MATCH(30,$Z$8:$Z$458,0)+1)),"") | F37: =IFERROR(HYPERLINK(INDEX('Base de Preços'!$A:$A,MATCH(30,$Z$8:$Z$458,0)+1),"Abrir oferta"),"") | Y37: =SUBSTITUTE(SUBSTITUTE(SUBSTITUTE(SUBSTITUTE(SUBSTITUTE(SUBSTITUTE(SUBSTITUTE(SUBSTITUTE(SUBSTITUTE(SUBSTITUTE(SUBSTITUTE(SUBSTITUTE(SUBSTITUTE(SUBSTITUTE(LOWER('Base de Preços'!B31&" "&'Base de Preços'!C31&" "&'Base de Preços'!D31),"á","a"),"à","a"),"ã","a"),"â","a"),"é","e"),"ê","e"),"í","i"),"ó","o"),"ô","o"),"õ","o"),"ú","u"),"ç","c"),"-"," ")," ","") | Z37: =IF($Z$2="","",IF(AND(ISNUMBER(SEARCH($Z$2,Y37)),OR($Z$3="",ISNUMBER(SEARCH($Z$3,Y37))),OR($Z$4="",ISNUMBER(SEARCH($Z$4,Y37)))),MAX($Z$7:Z36)+1,""))
B38: =IFERROR(IF(INDEX('Base de Preços'!$B:$B,MATCH(31,$Z$8:$Z$458,0)+1)="","",INDEX('Base de Preços'!$B:$B,MATCH(31,$Z$8:$Z$458,0)+1)),"") | C38: =IFERROR(IF(INDEX('Base de Preços'!$C:$C,MATCH(31,$Z$8:$Z$458,0)+1)="","",INDEX('Base de Preços'!$C:$C,MATCH(31,$Z$8:$Z$458,0)+1)),"") | D38: =IFERROR(IF(INDEX('Base de Preços'!$E:$E,MATCH(31,$Z$8:$Z$458,0)+1)="","",INDEX('Base de Preços'!$E:$E,MATCH(31,$Z$8:$Z$458,0)+1)),"") | E38: =IFERROR(IF(INDEX('Base de Preços'!$F:$F,MATCH(31,$Z$8:$Z$458,0)+1)="","",INDEX('Base de Preços'!$F:$F,MATCH(31,$Z$8:$Z$458,0)+1)),"") | F38: =IFERROR(HYPERLINK(INDEX('Base de Preços'!$A:$A,MATCH(31,$Z$8:$Z$458,0)+1),"Abrir oferta"),"") | Y38: =SUBSTITUTE(SUBSTITUTE(SUBSTITUTE(SUBSTITUTE(SUBSTITUTE(SUBSTITUTE(SUBSTITUTE(SUBSTITUTE(SUBSTITUTE(SUBSTITUTE(SUBSTITUTE(SUBSTITUTE(SUBSTITUTE(SUBSTITUTE(LOWER('Base de Preços'!B32&" "&'Base de Preços'!C32&" "&'Base de Preços'!D32),"á","a"),"à","a"),"ã","a"),"â","a"),"é","e"),"ê","e"),"í","i"),"ó","o"),"ô","o"),"õ","o"),"ú","u"),"ç","c"),"-"," ")," ","") | Z38: =IF($Z$2="","",IF(AND(ISNUMBER(SEARCH($Z$2,Y38)),OR($Z$3="",ISNUMBER(SEARCH($Z$3,Y38))),OR($Z$4="",ISNUMBER(SEARCH($Z$4,Y38)))),MAX($Z$7:Z37)+1,""))
B39: =IFERROR(IF(INDEX('Base de Preços'!$B:$B,MATCH(32,$Z$8:$Z$458,0)+1)="","",INDEX('Base de Preços'!$B:$B,MATCH(32,$Z$8:$Z$458,0)+1)),"") | C39: =IFERROR(IF(INDEX('Base de Preços'!$C:$C,MATCH(32,$Z$8:$Z$458,0)+1)="","",INDEX('Base de Preços'!$C:$C,MATCH(32,$Z$8:$Z$458,0)+1)),"") | D39: =IFERROR(IF(INDEX('Base de Preços'!$E:$E,MATCH(32,$Z$8:$Z$458,0)+1)="","",INDEX('Base de Preços'!$E:$E,MATCH(32,$Z$8:$Z$458,0)+1)),"") | E39: =IFERROR(IF(INDEX('Base de Preços'!$F:$F,MATCH(32,$Z$8:$Z$458,0)+1)="","",INDEX('Base de Preços'!$F:$F,MATCH(32,$Z$8:$Z$458,0)+1)),"") | F39: =IFERROR(HYPERLINK(INDEX('Base de Preços'!$A:$A,MATCH(32,$Z$8:$Z$458,0)+1),"Abrir oferta"),"") | Y39: =SUBSTITUTE(SUBSTITUTE(SUBSTITUTE(SUBSTITUTE(SUBSTITUTE(SUBSTITUTE(SUBSTITUTE(SUBSTITUTE(SUBSTITUTE(SUBSTITUTE(SUBSTITUTE(SUBSTITUTE(SUBSTITUTE(SUBSTITUTE(LOWER('Base de Preços'!B33&" "&'Base de Preços'!C33&" "&'Base de Preços'!D33),"á","a"),"à","a"),"ã","a"),"â","a"),"é","e"),"ê","e"),"í","i"),"ó","o"),"ô","o"),"õ","o"),"ú","u"),"ç","c"),"-"," ")," ","") | Z39: =IF($Z$2="","",IF(AND(ISNUMBER(SEARCH($Z$2,Y39)),OR($Z$3="",ISNUMBER(SEARCH($Z$3,Y39))),OR($Z$4="",ISNUMBER(SEARCH($Z$4,Y39)))),MAX($Z$7:Z38)+1,""))
B40: =IFERROR(IF(INDEX('Base de Preços'!$B:$B,MATCH(33,$Z$8:$Z$458,0)+1)="","",INDEX('Base de Preços'!$B:$B,MATCH(33,$Z$8:$Z$458,0)+1)),"") | C40: =IFERROR(IF(INDEX('Base de Preços'!$C:$C,MATCH(33,$Z$8:$Z$458,0)+1)="","",INDEX('Base de Preços'!$C:$C,MATCH(33,$Z$8:$Z$458,0)+1)),"") | D40: =IFERROR(IF(INDEX('Base de Preços'!$E:$E,MATCH(33,$Z$8:$Z$458,0)+1)="","",INDEX('Base de Preços'!$E:$E,MATCH(33,$Z$8:$Z$458,0)+1)),"") | E40: =IFERROR(IF(INDEX('Base de Preços'!$F:$F,MATCH(33,$Z$8:$Z$458,0)+1)="","",INDEX('Base de Preços'!$F:$F,MATCH(33,$Z$8:$Z$458,0)+1)),"") | F40: =IFERROR(HYPERLINK(INDEX('Base de Preços'!$A:$A,MATCH(33,$Z$8:$Z$458,0)+1),"Abrir oferta"),"") | Y40: =SUBSTITUTE(SUBSTITUTE(SUBSTITUTE(SUBSTITUTE(SUBSTITUTE(SUBSTITUTE(SUBSTITUTE(SUBSTITUTE(SUBSTITUTE(SUBSTITUTE(SUBSTITUTE(SUBSTITUTE(SUBSTITUTE(SUBSTITUTE(LOWER('Base de Preços'!B34&" "&'Base de Preços'!C34&" "&'Base de Preços'!D34),"á","a"),"à","a"),"ã","a"),"â","a"),"é","e"),"ê","e"),"í","i"),"ó","o"),"ô","o"),"õ","o"),"ú","u"),"ç","c"),"-"," ")," ","") | Z40: =IF($Z$2="","",IF(AND(ISNUMBER(SEARCH($Z$2,Y40)),OR($Z$3="",ISNUMBER(SEARCH($Z$3,Y40))),OR($Z$4="",ISNUMBER(SEARCH($Z$4,Y40)))),MAX($Z$7:Z39)+1,""))
B41: =IFERROR(IF(INDEX('Base de Preços'!$B:$B,MATCH(34,$Z$8:$Z$458,0)+1)="","",INDEX('Base de Preços'!$B:$B,MATCH(34,$Z$8:$Z$458,0)+1)),"") | C41: =IFERROR(IF(INDEX('Base de Preços'!$C:$C,MATCH(34,$Z$8:$Z$458,0)+1)="","",INDEX('Base de Preços'!$C:$C,MATCH(34,$Z$8:$Z$458,0)+1)),"") | D41: =IFERROR(IF(INDEX('Base de Preços'!$E:$E,MATCH(34,$Z$8:$Z$458,0)+1)="","",INDEX('Base de Preços'!$E:$E,MATCH(34,$Z$8:$Z$458,0)+1)),"") | E41: =IFERROR(IF(INDEX('Base de Preços'!$F:$F,MATCH(34,$Z$8:$Z$458,0)+1)="","",INDEX('Base de Preços'!$F:$F,MATCH(34,$Z$8:$Z$458,0)+1)),"") | F41: =IFERROR(HYPERLINK(INDEX('Base de Preços'!$A:$A,MATCH(34,$Z$8:$Z$458,0)+1),"Abrir oferta"),"") | Y41: =SUBSTITUTE(SUBSTITUTE(SUBSTITUTE(SUBSTITUTE(SUBSTITUTE(SUBSTITUTE(SUBSTITUTE(SUBSTITUTE(SUBSTITUTE(SUBSTITUTE(SUBSTITUTE(SUBSTITUTE(SUBSTITUTE(SUBSTITUTE(LOWER('Base de Preços'!B35&" "&'Base de Preços'!C35&" "&'Base de Preços'!D35),"á","a"),"à","a"),"ã","a"),"â","a"),"é","e"),"ê","e"),"í","i"),"ó","o"),"ô","o"),"õ","o"),"ú","u"),"ç","c"),"-"," ")," ","") | Z41: =IF($Z$2="","",IF(AND(ISNUMBER(SEARCH($Z$2,Y41)),OR($Z$3="",ISNUMBER(SEARCH($Z$3,Y41))),OR($Z$4="",ISNUMBER(SEARCH($Z$4,Y41)))),MAX($Z$7:Z40)+1,""))
...

Sheet Base de Preços
A1: Link | B1: Nome do produto | C1: Categoria | D1: Loja | E1: Menor preço visto (com cupom) | F1: Vale a pena comprar até
A2: https://link.amazon/B0aYorDEH | B2: Power Whey Chocolate 15g | C2: 3 Corações | D2: Amazon | E2: 59.18 | F2: 78
A3: https://link.amazon/B02fqm9rS | B3: Power Whey Clássico 15g | C3: 3 Corações | D3: Amazon | E3: 60.47 | F3: 79
A4: https://link.amazon/B06yUQaaT | B4: Power Whey Cookies n'Cream 15g | C4: 3 Corações | D4: Amazon | E4: 65.48 | F4: 79
A5: https://link.amazon/B02rDCCA6 | B5: Power Whey Doce de Leite 15g | C5: 3 Corações | D5: Amazon | E5: 70.19 | F5: 78
A6: https://link.amazon/B09hamBn6 | B6: Power Whey Morango 15g | C6: 3 Corações | D6: Amazon | E6: 101.88 | F6: 78
A7: https://link.amazon/B03cKDMr4 | B7: 3VS Chocolate & Avelã | C7: 3VS | D7: Amazon | E7: 59.58 | F7: 39
A8: https://link.amazon/B0gMmNmxK | B8: 3VS Chocolate Branco | C8: 3VS | D8: Amazon | E8: 43 | F8: 39
A9: https://link.amazon/B0hyJfCf6 | B9: 3VS Chocolate Caramelo | C9: 3VS | D9: Amazon | E9: 59.58 | F9: 39
A10: https://link.amazon/B00o5X37H | B10: 3VS Cookies e Cream | C10: 3VS | D10: Amazon | E10: 43 | F10: 39
A11: https://link.amazon/B06VCsB9s | B11: 3VS Strawberry CheeseCake | C11: 3VS | D11: Amazon | E11: 69 | F11: 39
A12: https://link.amazon/B0dVDn0BW | B12: 3VS Strawberry ShortCake | C12: 3VS | D12: Amazon | E12: 38.7 | F12: 39
A13: https://link.amazon/B0bzSYQW9 | B13: Biscoito Bauducco Kit 100 saches | C13: Balduco | D13: Amazon | E13: 75 | F13: 71
... A79: https://link.amazon/B0ctyjnyV | B79: Bombom crocante | C79: BOLD | D79: Amazon | E79: 87.3 | F79: 86
A80: https://link.amazon/B06xyVash | B80: Brownie & Crispies | C80: BOLD | D80: Amazon | F80: 86
A81: https://link.amazon/B09DQM3SP | B81: Café & Doce de Leite | C81: BOLD | D81: Amazon | F81: 86
A82: https://link.amazon/B09ynnQiq | B82: Caixa Mista | C82: BOLD | D82: Amazon | E82: 123 | F82: 86
A83: https://link.amazon/B089mxvF4 | B83: Caixa Mista 10g | C83: BOLD | D83: Amazon | E83: 84.6 | F83: 86
A84: https://link.amazon/B0iUrrIwl | B84: Caixa Mista ZERO | C84: BOLD | D84: Amazon | E84: 123 | F84: 86
A85: https://link.amazon/B0gq5jJoz | B85: Cookies Black | C85: BOLD | D85: Amazon | E85: 134 | F85: 86
A86: https://link.amazon/B0j6bGBdh | B86: Cookies e Cream | C86: BOLD | D86: Amazon | E86: 91.8 | F86: 86
A87: https://link.amazon/B05bRCdAL | B87: Crunch Brigadeiro | C87: BOLD | D87: Amazon | E87: 117.73 | F87: 86
A88: https://link.amazon/B0fbKv32n | B88: Crunch Caixa Mista | C88: BOLD | D88: Amazon | E88: 121.5 | F88: 86
A89: https://link.amazon/B0hBg8a1r | B89: Crunch Cookies & Cream | C89: BOLD | D89: Amazon | E89: 132 | F89: 86
A90: https://link.amazon/B034xb6aQ | B90: Crunch Morango & Chantilly | C90: BOLD | D90: Amazon | E90: 130.41 | F90: 86
A91: https://link.amazon/B09JjRJXa | B91: Doce de Leite | C91: BOLD | D91: Amazon | E91: 88 | F91: 86
A92: https://link.amazon/B0ev8azv9 | B92: Leite & Avelã | C92: BOLD | D92: Amazon | E92: 168 | F92: 86
A93: https://link.amazon/B09a3Y1io | B93: Paçoca & Chocolate | C93: BOLD | D93: Amazon | F93: 86
A94: https://link.amazon/B09EvoAUE | B94: Speculoos 10g | C94: BOLD | D94: Amazon | E94: 103 | F94: 86
A95: https://link.amazon/B0gcav2Md | B95: Trufa de Chocolate | C95: BOLD | D95: Amazon | E95: 126 | F95: 86
A96: https://link.amazon/B0hi1owpt | B96: Trufa de Chocolate 10g | C96: BOLD | D96: Amazon | E96: 107.1 | F96: 86
A97: https://link.amazon/B06kakUDC | B97: Tube Avela | C97: BOLD | D97: Amazon | E97: 81 | F97: 86
A98: https://link.amazon/B0ebu3BVc | B98: Tube Pistache | C98: BOLD | D98: Amazon | E98: 92 | F98: 86
A99: https://link.amazon/B064cN9lI | B99: Amstel 350ml 12 un | C99: Cerveja | D99: Amazon | E99: 39 | F99: 36
A100: https://link.amazon/B09fuqOpc | B100: Amstel 473ml 12 un | C100: Cerveja | D100: Amazon | E100: 50 | F100: 40
A101: https://link.amazon/B05dp0syW | B101: Amstel Ultra 269ml 12un | C101: Cerveja | D101: Amazon | E101: 42 | F101: 38
A102: https://link.amazon/B02CFpyNZ | B102: Budweiser 350ml 12un | C102: Cerveja | D102: Amazon | E102: 45 | F102: 41
A103: https://link.amazon/B0fs7N7mU | B103: Corona, Lata 473ml 12un | C103: Cerveja | D103: Amazon | E103: 89 | F103: 81
A104: https://link.amazon/B0bO5LLMC | B104: Eisenbahn 350ml 12 latas | C104: Cerveja | D104: Amazon | E104: 41 | F104: 37
A105: https://link.amazon/B0haJTady | B105: Eisenbahn Preta 350ml 12 latas | C105: Cerveja | D105: Amazon | E105: 45.26 | F105: 45
...

Sheet Como usar
B1: Como usar — Vending Machine
B2: Buscar | C2: Digite parte do nome na caixa dourada. Pode usar mais de uma palavra, em qualquer ordem.
B3: Menor preço visto | C3: O menor preço FINAL (já com os cupons) que vimos desse produto.
B4: Vale a pena comprar até | C4: Se a oferta estiver nesse preço ou abaixo, vale a pena comprar.
B5: Atualização | C5: Atualizada em 28/09/2026. Sai uma nova toda semana.
B6: Contato | C6: iSee Hub · iseehub.com.br
