Workbook

Sheet Buscar
B1: Buscar produto — Vending Machine | Z1: =TRIM(SUBSTITUTE(SUBSTITUTE(SUBSTITUTE(SUBSTITUTE(SUBSTITUTE(SUBSTITUTE(SUBSTITUTE(SUBSTITUTE(SUBSTITUTE(SUBSTITUTE(SUBSTITUTE(SUBSTITUTE(SUBSTITUTE(LOWER($C$4),"á","a"),"à","a"),"ã","a"),"â","a"),"é","e"),"ê","e"),"í","i"),"ó","o"),"ô","o"),"õ","o"),"ú","u"),"ç","c"),"-"," "))
B2: iSee Hub · iseehub.com.br · Digite na caixa dourada e os produtos aparecem logo abaixo. | Z2: =TRIM(MID(SUBSTITUTE($Z$1," ",REPT(" ",100)),1,100))
Z3: =TRIM(MID(SUBSTITUTE($Z$1," ",REPT(" ",100)),101,100))
B4: 🔍 DIGITE AQUI: | Z4: =TRIM(MID(SUBSTITUTE($Z$1," ",REPT(" ",100)),201,100))
C5: =IF($Z$2="","Digite parte do nome ou da categoria. Pode usar mais de uma palavra, em qualquer ordem, com ou sem acento.",IF(MAX($Z$8:$Z$458)=0,"Nenhum produto encontrado. Tente só uma palavra, ou uma palavra menor.",MAX($Z$8:$Z$458)&IF(MAX($Z$8:$Z$458)=1," produto encontrado"," produtos encontrados")&IF(MAX($Z$8:$Z$458)>60," — mostrando os 60 primeiros, digite mais para filtrar","")))
B7: Produto | C7: Categoria | D7: Menor preço visto (com cupom) | E7: Vale a pena comprar até | F7: Link | Z7: aux
B8: =IFERROR(IF(INDEX('Base de Preços'!$B:$B,MATCH(1,$Z$8:$Z$458,0)+1)="","",INDEX('Base de Preços'!$B:$B,MATCH(1,$Z$8:$Z$458,0)+1)),"") | C8: =IFERROR(IF(INDEX('Base de Preços'!$C:$C,MATCH(1,$Z$8:$Z$458,0)+1)="","",INDEX('Base de Preços'!$C:$C,MATCH(1,$Z$8:$Z$458,0)+1)),"") | D8: =IFERROR(IF(INDEX('Base de Preços'!$E:$E,MATCH(1,$Z$8:$Z$458,0)+1)="","",INDEX('Base de Preços'!$E:$E,MATCH(1,$Z$8:$Z$458,0)+1)),"") | E8: =IFERROR(IF(INDEX('Base de Preços'!$F:$F,MATCH(1,$Z$8:$Z$458,0)+1)="","",INDEX('Base de Preços'!$F:$F,MATCH(1,$Z$8:$Z$458,0)+1)),"") | F8: =IFERROR(HYPERLINK(INDEX('Base de Preços'!$A:$A,MATCH(1,$Z$8:$Z$458,0)+1),"Abrir oferta"),"") | Y8: =SUBSTITUTE(SUBSTITUTE(SUBSTITUTE(SUBSTITUTE(SUBSTITUTE(SUBSTITUTE(SUBSTITUTE(SUBSTITUTE(SUBSTITUTE(SUBSTITUTE(SUBSTITUTE(SUBSTITUTE(SUBSTITUTE(SUBSTITUTE(LOWER('Base de Preços'!B2&" "&'Base de Preços'!C2&" "&'Base de Preços'!D2),"á","a"),"à","a"),"ã","a"),"â","a"),"é","e"),"ê","e"),"í","i"),"ó","o"),"ô","o"),"õ","o"),"ú","u"),"ç","c"),"-"," ")," ","") | Z8: =IF($Z$2="","",IF(AND(ISNUMBER(SEARCH($Z$2,Y8)),OR($Z$3="",ISNUMBER(SEARCH($Z$3,Y8))),OR($Z$4="",ISNUMBER(SEARCH($Z$4,Y8)))),MAX($Z$7:Z7)+1,""))
B9: =IFERROR(IF(INDEX('Base de Preços'!$B:$B,MATCH(2,$Z$8:$Z$458,0)+1)="","",INDEX('Base de Preços'!$B:$B,MATCH(2,$Z$8:$Z$458,0)+1)),"") | C9: =IFERROR(IF(INDEX('Base de Preços'!$C:$C,MATCH(2,$Z$8:$Z$458,0)+1)="","",INDEX('Base de Preços'!$C:$C,MATCH(2,$Z$8:$Z$458,0)+1)),"") | D9: =IFERROR(IF(INDEX('Base de Preços'!$E:$E,MATCH(2,$Z$8:$Z$458,0)+1)="","",INDEX('Base de Preços'!$E:$E,MATCH(2,$Z$8:$Z$458,0)+1)),"") | E9: =IFERROR(IF(INDEX('Base de Preços'!$F:$F,MATCH(2,$Z$8:$Z$458,0)+1)="","",INDEX('Base de Preços'!$F:$F,MATCH(2,$Z$8:$Z$458,0)+1)),"") | F9: =IFERROR(HYPERLINK(INDEX('Base de Preços'!$A:$A,MATCH(2,$Z$8:$Z$458,0)+1),"Abrir oferta"),"") | Y9: =SUBSTITUTE(SUBSTITUTE(SUBSTITUTE(SUBSTITUTE(SUBSTITUTE(SUBSTITUTE(SUBSTITUTE(SUBSTITUTE(SUBSTITUTE(SUBSTITUTE(SUBSTITUTE(SUBSTITUTE(SUBSTITUTE(SUBSTITUTE(LOWER('Base de Preços'!B3&" "&'Base de Preços'!C3&" "&'Base de Preços'!D3),"á","a"),"à","a"),"ã","a"),"â","a"),"é","e"),"ê","e"),"í","i"),"ó","o"),"ô","o"),"õ","o"),"ú","u"),"ç","c"),"-"," ")," ","") | Z9: =IF($Z$2="","",IF(AND(ISNUMBER(SEARCH($Z$2,Y9)),OR($Z$3="",ISNUMBER(SEARCH($Z$3,Y9))),OR($Z$4="",ISNUMBER(SEARCH($Z$4,Y9)))),MAX($Z$7:Z8)+1,""))
B10: =IFERROR(IF(INDEX('Base de Preços'!$B:$B,MATCH(3,$Z$8:$Z$458,0)+1)="","",INDEX('Base de Preços'!$B:$B,MATCH(3,$Z$8:$Z$458,0)+1)),"") | C10: =IFERROR(IF(INDEX('Base de Preços'!$C:$C,MATCH(3,$Z$8:$Z$458,0)+1)="","",INDEX('Base de Preços'!$C:$C,MATCH(3,$Z$8:$Z$458,0)+1)),"") | D10: =IFERROR(IF(INDEX('Base de Preços'!$E:$E,MATCH(3,$Z$8:$Z$458,0)+1)="","",INDEX('Base de Preços'!$E:$E,MATCH(3,$Z$8:$Z$458,0)+1)),"") | E10: =IFERROR(IF(INDEX('Base de Preços'!$F:$F,MATCH(3,$Z$8:$Z$458,0)+1)="","",INDEX('Base de Preços'!$F:$F,MATCH(3,$Z$8:$Z$458,0)+1)),"") | F10: =IFERROR(HYPERLINK(INDEX('Base de Preços'!$A:$A,MATCH(3,$Z$8:$Z$458,0)+1),"Abrir oferta"),"") | Y10: =SUBSTITUTE(SUBSTITUTE(SUBSTITUTE(SUBSTITUTE(SUBSTITUTE(SUBSTITUTE(SUBSTITUTE(SUBSTITUTE(SUBSTITUTE(SUBSTITUTE(SUBSTITUTE(SUBSTITUTE(SUBSTITUTE(SUBSTITUTE(LOWER('Base de Preços'!B4&" "&'Base de Preços'!C4&" "&'Base de Preços'!D4),"á","a"),"à","a"),"ã","a"),"â","a"),"é","e"),"ê","e"),"í","i"),"ó","o"),"ô","o"),"õ","o"),"ú","u"),"ç","c"),"-"," ")," ","") | Z10: =IF($Z$2="","",IF(AND(ISNUMBER(SEARCH($Z$2,Y10)),OR($Z$3="",ISNUMBER(SEARCH($Z$3,Y10))),OR($Z$4="",ISNUMBER(SEARCH($Z$4,Y10)))),MAX($Z$7:Z9)+1,""))
B11: =IFERROR(IF(INDEX('Base de Preços'!$B:$B,MATCH(4,$Z$8:$Z$458,0)+1)="","",INDEX('Base de Preços'!$B:$B,MATCH(4,$Z$8:$Z$458,0)+1)),"") | C11: =IFERROR(IF(INDEX('Base de Preços'!$C:$C,MATCH(4,$Z$8:$Z$458,0)+1)="","",INDEX('Base de Preços'!$C:$C,MATCH(4,$Z$8:$Z$458,0)+1)),"") | D11: =IFERROR(IF(INDEX('Base de Preços'!$E:$E,MATCH(4,$Z$8:$Z$458,0)+1)="","",INDEX('Base de Preços'!$E:$E,MATCH(4,$Z$8:$Z$458,0)+1)),"") | E11: =IFERROR(IF(INDEX('Base de Preços'!$F:$F,MATCH(4,$Z$8:$Z$458,0)+1)="","",INDEX('Base de Preços'!$F:$F,MATCH(4,$Z$8:$Z$458,0)+1)),"") | F11: =IFERROR(HYPERLINK(INDEX('Base de Preços'!$A:$A,MATCH(4,$Z$8:$Z$458,0)+1),"Abrir oferta"),"") | Y11: =SUBSTITUTE(SUBSTITUTE(SUBSTITUTE(SUBSTITUTE(SUBSTITUTE(SUBSTITUTE(SUBSTITUTE(SUBSTITUTE(SUBSTITUTE(SUBSTITUTE(SUBSTITUTE(SUBSTITUTE(SUBSTITUTE(SUBSTITUTE(LOWER('Base de Preços'!B5&" "&'Base de Preços'!C5&" "&'Base de Preços'!D5),"á","a"),"à","a"),"ã","a"),"â","a"),"é","e"),"ê","e"),"í","i"),"ó","o"),"ô","o"),"õ","o"),"ú","u"),"ç","c"),"-"," ")," ","") | Z11: =IF($Z$2="","",IF(AND(ISNUMBER(SEARCH($Z$2,Y11)),OR($Z$3="",ISNUMBER(SEARCH($Z$3,Y11))),OR($Z$4="",ISNUMBER(SEARCH($Z$4,Y11)))),MAX($Z$7:Z10)+1,""))
B12: =IFERROR(IF(INDEX('Base de Preços'!$B:$B,MATCH(5,$Z$8:$Z$458,0)+1)="","",INDEX('Base de Preços'!$B:$B,MATCH(5,$Z$8:$Z$458,0)+1)),"") | C12: =IFERROR(IF(INDEX('Base de Preços'!$C:$C,MATCH(5,$Z$8:$Z$458,0)+1)="","",INDEX('Base de Preços'!$C:$C,MATCH(5,$Z$8:$Z$458,0)+1)),"") | D12: =IFERROR(IF(INDEX('Base de Preços'!$E:$E,MATCH(5,$Z$8:$Z$458,0)+1)="","",INDEX('Base de Preços'!$E:$E,MATCH(5,$Z$8:$Z$458,0)+1)),"") | E12: =IFERROR(IF(INDEX('Base de Preços'!$F:$F,MATCH(5,$Z$8:$Z$458,0)+1)="","",INDEX('Base de Preços'!$F:$F,MATCH(5,$Z$8:$Z$458,0)+1)),"") | F12: =IFERROR(HYPERLINK(INDEX('Base de Preços'!$A:$A,MATCH(5,$Z$8:$Z$458,0)+1),"Abrir oferta"),"") | Y12: =SUBSTITUTE(SUBSTITUTE(SUBSTITUTE(SUBSTITUTE(SUBSTITUTE(SUBSTITUTE(SUBSTITUTE(SUBSTITUTE(SUBSTITUTE(SUBSTITUTE(SUBSTITUTE(SUBSTITUTE(SUBSTITUTE(SUBSTITUTE(LOWER('Base de Preços'!B6&" "&'Base de Preços'!C6&" "&'Base de Preços'!D6),"á","a"),"à","a"),"ã","a"),"â","a"),"é","e"),"ê","e"),"í","i"),"ó","o"),"ô","o"),"õ","o"),"ú","u"),"ç","c"),"-"," ")," ","") | Z12: =IF($Z$2="","",IF(AND(ISNUMBER(SEARCH($Z$2,Y12)),OR($Z$3="",ISNUMBER(SEARCH($Z$3,Y12))),OR($Z$4="",ISNUMBER(SEARCH($Z$4,Y12)))),MAX($Z$7:Z11)+1,""))
B13: =IFERROR(IF(INDEX('Base de Preços'!$B:$B,MATCH(6,$Z$8:$Z$458,0)+1)="","",INDEX('Base de Preços'!$B:$B,MATCH(6,$Z$8:$Z$458,0)+1)),"") | C13: =IFERROR(IF(INDEX('Base de Preços'!$C:$C,MATCH(6,$Z$8:$Z$458,0)+1)="","",INDEX('Base de Preços'!$C:$C,MATCH(6,$Z$8:$Z$458,0)+1)),"") | D13: =IFERROR(IF(INDEX('Base de Preços'!$E:$E,MATCH(6,$Z$8:$Z$458,0)+1)="","",INDEX('Base de Preços'!$E:$E,MATCH(6,$Z$8:$Z$458,0)+1)),"") | E13: =IFERROR(IF(INDEX('Base de Preços'!$F:$F,MATCH(6,$Z$8:$Z$458,0)+1)="","",INDEX('Base de Preços'!$F:$F,MATCH(6,$Z$8:$Z$458,0)+1)),"") | F13: =IFERROR(HYPERLINK(INDEX('Base de Preços'!$A:$A,MATCH(6,$Z$8:$Z$458,0)+1),"Abrir oferta"),"") | Y13: =SUBSTITUTE(SUBSTITUTE(SUBSTITUTE(SUBSTITUTE(SUBSTITUTE(SUBSTITUTE(SUBSTITUTE(SUBSTITUTE(SUBSTITUTE(SUBSTITUTE(SUBSTITUTE(SUBSTITUTE(SUBSTITUTE(SUBSTITUTE(LOWER('Base de Preços'!B7&" "&'Base de Preços'!C7&" "&'Base de Preços'!D7),"á","a"),"à","a"),"ã","a"),"â","a"),"é","e"),"ê","e"),"í","i"),"ó","o"),"ô","o"),"õ","o"),"ú","u"),"ç","c"),"-"," ")," ","") | Z13: =IF($Z$2="","",IF(AND(ISNUMBER(SEARCH($Z$2,Y13)),OR($Z$3="",ISNUMBER(SEARCH($Z$3,Y13))),OR($Z$4="",ISNUMBER(SEARCH($Z$4,Y13)))),MAX($Z$7:Z12)+1,""))
B14: =IFERROR(IF(INDEX('Base de Preços'!$B:$B,MATCH(7,$Z$8:$Z$458,0)+1)="","",INDEX('Base de Preços'!$B:$B,MATCH(7,$Z$8:$Z$458,0)+1)),"") | C14: =IFERROR(IF(INDEX('Base de Preços'!$C:$C,MATCH(7,$Z$8:$Z$458,0)+1)="","",INDEX('Base de Preços'!$C:$C,MATCH(7,$Z$8:$Z$458,0)+1)),"") | D14: =IFERROR(IF(INDEX('Base de Preços'!$E:$E,MATCH(7,$Z$8:$Z$458,0)+1)="","",INDEX('Base de Preços'!$E:$E,MATCH(7,$Z$8:$Z$458,0)+1)),"") | E14: =IFERROR(IF(INDEX('Base de Preços'!$F:$F,MATCH(7,$Z$8:$Z$458,0)+1)="","",INDEX('Base de Preços'!$F:$F,MATCH(7,$Z$8:$Z$458,0)+1)),"") | F14: =IFERROR(HYPERLINK(INDEX('Base de Preços'!$A:$A,MATCH(7,$Z$8:$Z$458,0)+1),"Abrir oferta"),"") | Y14: =SUBSTITUTE(SUBSTITUTE(SUBSTITUTE(SUBSTITUTE(SUBSTITUTE(SUBSTITUTE(SUBSTITUTE(SUBSTITUTE(SUBSTITUTE(SUBSTITUTE(SUBSTITUTE(SUBSTITUTE(SUBSTITUTE(SUBSTITUTE(LOWER('Base de Preços'!B8&" "&'Base de Preços'!C8&" "&'Base de Preços'!D8),"á","a"),"à","a"),"ã","a"),"â","a"),"é","e"),"ê","e"),"í","i"),"ó","o"),"ô","o"),"õ","o"),"ú","u"),"ç","c"),"-"," ")," ","") | Z14: =IF($Z$2="","",IF(AND(ISNUMBER(SEARCH($Z$2,Y14)),OR($Z$3="",ISNUMBER(SEARCH($Z$3,Y14))),OR($Z$4="",ISNUMBER(SEARCH($Z$4,Y14)))),MAX($Z$7:Z13)+1,""))
B15: =IFERROR(IF(INDEX('Base de Preços'!$B:$B,MATCH(8,$Z$8:$Z$458,0)+1)="","",INDEX('Base de Preços'!$B:$B,MATCH(8,$Z$8:$Z$458,0)+1)),"") | C15: =IFERROR(IF(INDEX('Base de Preços'!$C:$C,MATCH(8,$Z$8:$Z$458,0)+1)="","",INDEX('Base de Preços'!$C:$C,MATCH(8,$Z$8:$Z$458,0)+1)),"") | D15: =IFERROR(IF(INDEX('Base de Preços'!$E:$E,MATCH(8,$Z$8:$Z$458,0)+1)="","",INDEX('Base de Preços'!$E:$E,MATCH(8,$Z$8:$Z$458,0)+1)),"") | E15: =IFERROR(IF(INDEX('Base de Preços'!$F:$F,MATCH(8,$Z$8:$Z$458,0)+1)="","",INDEX('Base de Preços'!$F:$F,MATCH(8,$Z$8:$Z$458,0)+1)),"") | F15: =IFERROR(HYPERLINK(INDEX('Base de Preços'!$A:$A,MATCH(8,$Z$8:$Z$458,0)+1),"Abrir oferta"),"") | Y15: =SUBSTITUTE(SUBSTITUTE(SUBSTITUTE(SUBSTITUTE(SUBSTITUTE(SUBSTITUTE(SUBSTITUTE(SUBSTITUTE(SUBSTITUTE(SUBSTITUTE(SUBSTITUTE(SUBSTITUTE(SUBSTITUTE(SUBSTITUTE(LOWER('Base de Preços'!B9&" "&'Base de Preços'!C9&" "&'Base de Preços'!D9),"á","a"),"à","a"),"ã","a"),"â","a"),"é","e"),"ê","e"),"í","i"),"ó","o"),"ô","o"),"õ","o"),"ú","u"),"ç","c"),"-"," ")," ","") | Z15: =IF($Z$2="","",IF(AND(ISNUMBER(SEARCH($Z$2,Y15)),OR($Z$3="",ISNUMBER(SEARCH($Z$3,Y15))),OR($Z$4="",ISNUMBER(SEARCH($Z$4,Y15)))),MAX($Z$7:Z14)+1,""))
B16: =IFERROR(IF(INDEX('Base de Preços'!$B:$B,MATCH(9,$Z$8:$Z$458,0)+1)="","",INDEX('Base de Preços'!$B:$B,MATCH(9,$Z$8:$Z$458,0)+1)),"") | C16: =IFERROR(IF(INDEX('Base de Preços'!$C:$C,MATCH(9,$Z$8:$Z$458,0)+1)="","",INDEX('Base de Preços'!$C:$C,MATCH(9,$Z$8:$Z$458,0)+1)),"") | D16: =IFERROR(IF(INDEX('Base de Preços'!$E:$E,MATCH(9,$Z$8:$Z$458,0)+1)="","",INDEX('Base de Preços'!$E:$E,MATCH(9,$Z$8:$Z$458,0)+1)),"") | E16: =IFERROR(IF(INDEX('Base de Preços'!$F:$F,MATCH(9,$Z$8:$Z$458,0)+1)="","",INDEX('Base de Preços'!$F:$F,MATCH(9,$Z$8:$Z$458,0)+1)),"") | F16: =IFERROR(HYPERLINK(INDEX('Base de Preços'!$A:$A,MATCH(9,$Z$8:$Z$458,0)+1),"Abrir oferta"),"") | Y16: =SUBSTITUTE(SUBSTITUTE(SUBSTITUTE(SUBSTITUTE(SUBSTITUTE(SUBSTITUTE(SUBSTITUTE(SUBSTITUTE(SUBSTITUTE(SUBSTITUTE(SUBSTITUTE(SUBSTITUTE(SUBSTITUTE(SUBSTITUTE(LOWER('Base de Preços'!B10&" "&'Base de Preços'!C10&" "&'Base de Preços'!D10),"á","a"),"à","a"),"ã","a"),"â","a"),"é","e"),"ê","e"),"í","i"),"ó","o"),"ô","o"),"õ","o"),"ú","u"),"ç","c"),"-"," ")," ","") | Z16: =IF($Z$2="","",IF(AND(ISNUMBER(SEARCH($Z$2,Y16)),OR($Z$3="",ISNUMBER(SEARCH($Z$3,Y16))),OR($Z$4="",ISNUMBER(SEARCH($Z$4,Y16)))),MAX($Z$7:Z15)+1,""))
B17: =IFERROR(IF(INDEX('Base de Preços'!$B:$B,MATCH(10,$Z$8:$Z$458,0)+1)="","",INDEX('Base de Preços'!$B:$B,MATCH(10,$Z$8:$Z$458,0)+1)),"") | C17: =IFERROR(IF(INDEX('Base de Preços'!$C:$C,MATCH(10,$Z$8:$Z$458,0)+1)="","",INDEX('Base de Preços'!$C:$C,MATCH(10,$Z$8:$Z$458,0)+1)),"") | D17: =IFERROR(IF(INDEX('Base de Preços'!$E:$E,MATCH(10,$Z$8:$Z$458,0)+1)="","",INDEX('Base de Preços'!$E:$E,MATCH(10,$Z$8:$Z$458,0)+1)),"") | E17: =IFERROR(IF(INDEX('Base de Preços'!$F:$F,MATCH(10,$Z$8:$Z$458,0)+1)="","",INDEX('Base de Preços'!$F:$F,MATCH(10,$Z$8:$Z$458,0)+1)),"") | F17: =IFERROR(HYPERLINK(INDEX('Base de Preços'!$A:$A,MATCH(10,$Z$8:$Z$458,0)+1),"Abrir oferta"),"") | Y17: =SUBSTITUTE(SUBSTITUTE(SUBSTITUTE(SUBSTITUTE(SUBSTITUTE(SUBSTITUTE(SUBSTITUTE(SUBSTITUTE(SUBSTITUTE(SUBSTITUTE(SUBSTITUTE(SUBSTITUTE(SUBSTITUTE(SUBSTITUTE(LOWER('Base de Preços'!B11&" "&'Base de Preços'!C11&" "&'Base de Preços'!D11),"á","a"),"à","a"),"ã","a"),"â","a"),"é","e"),"ê","e"),"í","i"),"ó","o"),"ô","o"),"õ","o"),"ú","u"),"ç","c"),"-"," ")," ","") | Z17: =IF($Z$2="","",IF(AND(ISNUMBER(SEARCH($Z$2,Y17)),OR($Z$3="",ISNUMBER(SEARCH($Z$3,Y17))),OR($Z$4="",ISNUMBER(SEARCH($Z$4,Y17)))),MAX($Z$7:Z16)+1,""))
B18: =IFERROR(IF(INDEX('Base de Preços'!$B:$B,MATCH(11,$Z$8:$Z$458,0)+1)="","",INDEX('Base de Preços'!$B:$B,MATCH(11,$Z$8:$Z$458,0)+1)),"") | C18: =IFERROR(IF(INDEX('Base de Preços'!$C:$C,MATCH(11,$Z$8:$Z$458,0)+1)="","",INDEX('Base de Preços'!$C:$C,MATCH(11,$Z$8:$Z$458,0)+1)),"") | D18: =IFERROR(IF(INDEX('Base de Preços'!$E:$E,MATCH(11,$Z$8:$Z$458,0)+1)="","",INDEX('Base de Preços'!$E:$E,MATCH(11,$Z$8:$Z$458,0)+1)),"") | E18: =IFERROR(IF(INDEX('Base de Preços'!$F:$F,MATCH(11,$Z$8:$Z$458,0)+1)="","",INDEX('Base de Preços'!$F:$F,MATCH(11,$Z$8:$Z$458,0)+1)),"") | F18: =IFERROR(HYPERLINK(INDEX('Base de Preços'!$A:$A,MATCH(11,$Z$8:$Z$458,0)+1),"Abrir oferta"),"") | Y18: =SUBSTITUTE(SUBSTITUTE(SUBSTITUTE(SUBSTITUTE(SUBSTITUTE(SUBSTITUTE(SUBSTITUTE(SUBSTITUTE(SUBSTITUTE(SUBSTITUTE(SUBSTITUTE(SUBSTITUTE(SUBSTITUTE(SUBSTITUTE(LOWER('Base de Preços'!B12&" "&'Base de Preços'!C12&" "&'Base de Preços'!D12),"á","a"),"à","a"),"ã","a"),"â","a"),"é","e"),"ê","e"),"í","i"),"ó","o"),"ô","o"),"õ","o"),"ú","u"),"ç","c"),"-"," ")," ","") | Z18: =IF($Z$2="","",IF(AND(ISNUMBER(SEARCH($Z$2,Y18)),OR($Z$3="",ISNUMBER(SEARCH($Z$3,Y18))),OR($Z$4="",ISNUMBER(SEARCH($Z$4,Y18)))),MAX($Z$7:Z17)+1,""))
B19: =IFERROR(IF(INDEX('Base de Preços'!$B:$B,MATCH(12,$Z$8:$Z$458,0)+1)="","",INDEX('Base de Preços'!$B:$B,MATCH(12,$Z$8:$Z$458,0)+1)),"") | C19: =IFERROR(IF(INDEX('Base de Preços'!$C:$C,MATCH(12,$Z$8:$Z$458,0)+1)="","",INDEX('Base de Preços'!$C:$C,MATCH(12,$Z$8:$Z$458,0)+1)),"") | D19: =IFERROR(IF(INDEX('Base de Preços'!$E:$E,MATCH(12,$Z$8:$Z$458,0)+1)="","",INDEX('Base de Preços'!$E:$E,MATCH(12,$Z$8:$Z$458,0)+1)),"") | E19: =IFERROR(IF(INDEX('Base de Preços'!$F:$F,MATCH(12,$Z$8:$Z$458,0)+1)="","",INDEX('Base de Preços'!$F:$F,MATCH(12,$Z$8:$Z$458,0)+1)),"") | F19: =IFERROR(HYPERLINK(INDEX('Base de Preços'!$A:$A,MATCH(12,$Z$8:$Z$458,0)+1),"Abrir oferta"),"") | Y19: =SUBSTITUTE(SUBSTITUTE(SUBSTITUTE(SUBSTITUTE(SUBSTITUTE(SUBSTITUTE(SUBSTITUTE(SUBSTITUTE(SUBSTITUTE(SUBSTITUTE(SUBSTITUTE(SUBSTITUTE(SUBSTITUTE(SUBSTITUTE(LOWER('Base de Preços'!B13&" "&'Base de Preços'!C13&" "&'Base de Preços'!D13),"á","a"),"à","a"),"ã","a"),"â","a"),"é","e"),"ê","e"),"í","i"),"ó","o"),"ô","o"),"õ","o"),"ú","u"),"ç","c"),"-"," ")," ","") | Z19: =IF($Z$2="","",IF(AND(ISNUMBER(SEARCH($Z$2,Y19)),OR($Z$3="",ISNUMBER(SEARCH($Z$3,Y19))),OR($Z$4="",ISNUMBER(SEARCH($Z$4,Y19)))),MAX($Z$7:Z18)+1,""))
B20: =IFERROR(IF(INDEX('Base de Preços'!$B:$B,MATCH(13,$Z$8:$Z$458,0)+1)="","",INDEX('Base de Preços'!$B:$B,MATCH(13,$Z$8:$Z$458,0)+1)),"") | C20: =IFERROR(IF(INDEX('Base de Preços'!$C:$C,MATCH(13,$Z$8:$Z$458,0)+1)="","",INDEX('Base de Preços'!$C:$C,MATCH(13,$Z$8:$Z$458,0)+1)),"") | D20: =IFERROR(IF(INDEX('Base de Preços'!$E:$E,MATCH(13,$Z$8:$Z$458,0)+1)="","",INDEX('Base de Preços'!$E:$E,MATCH(13,$Z$8:$Z$458,0)+1)),"") | E20: =IFERROR(IF(INDEX('Base de Preços'!$F:$F,MATCH(13,$Z$8:$Z$458,0)+1)="","",INDEX('Base de Preços'!$F:$F,MATCH(13,$Z$8:$Z$458,0)+1)),"") | F20: =IFERROR(HYPERLINK(INDEX('Base de Preços'!$A:$A,MATCH(13,$Z$8:$Z$458,0)+1),"Abrir oferta"),"") | Y20: =SUBSTITUTE(SUBSTITUTE(SUBSTITUTE(SUBSTITUTE(SUBSTITUTE(SUBSTITUTE(SUBSTITUTE(SUBSTITUTE(SUBSTITUTE(SUBSTITUTE(SUBSTITUTE(SUBSTITUTE(SUBSTITUTE(SUBSTITUTE(LOWER('Base de Preços'!B14&" "&'Base de Preços'!C14&" "&'Base de Preços'!D14),"á","a"),"à","a"),"ã","a"),"â","a"),"é","e"),"ê","e"),"í","i"),"ó","o"),"ô","o"),"õ","o"),"ú","u"),"ç","c"),"-"," ")," ","") | Z20: =IF($Z$2="","",IF(AND(ISNUMBER(SEARCH($Z$2,Y20)),OR($Z$3="",ISNUMBER(SEARCH($Z$3,Y20))),OR($Z$4="",ISNUMBER(SEARCH($Z$4,Y20)))),MAX($Z$7:Z19)+1,""))
B21: =IFERROR(IF(INDEX('Base de Preços'!$B:$B,MATCH(14,$Z$8:$Z$458,0)+1)="","",INDEX('Base de Preços'!$B:$B,MATCH(14,$Z$8:$Z$458,0)+1)),"") | C21: =IFERROR(IF(INDEX('Base de Preços'!$C:$C,MATCH(14,$Z$8:$Z$458,0)+1)="","",INDEX('Base de Preços'!$C:$C,MATCH(14,$Z$8:$Z$458,0)+1)),"") | D21: =IFERROR(IF(INDEX('Base de Preços'!$E:$E,MATCH(14,$Z$8:$Z$458,0)+1)="","",INDEX('Base de Preços'!$E:$E,MATCH(14,$Z$8:$Z$458,0)+1)),"") | E21: =IFERROR(IF(INDEX('Base de Preços'!$F:$F,MATCH(14,$Z$8:$Z$458,0)+1)="","",INDEX('Base de Preços'!$F:$F,MATCH(14,$Z$8:$Z$458,0)+1)),"") | F21: =IFERROR(HYPERLINK(INDEX('Base de Preços'!$A:$A,MATCH(14,$Z$8:$Z$458,0)+1),"Abrir oferta"),"") | Y21: =SUBSTITUTE(SUBSTITUTE(SUBSTITUTE(SUBSTITUTE(SUBSTITUTE(SUBSTITUTE(SUBSTITUTE(SUBSTITUTE(SUBSTITUTE(SUBSTITUTE(SUBSTITUTE(SUBSTITUTE(SUBSTITUTE(SUBSTITUTE(LOWER('Base de Preços'!B15&" "&'Base de Preços'!C15&" "&'Base de Preços'!D15),"á","a"),"à","a"),"ã","a"),"â","a"),"é","e"),"ê","e"),"í","i"),"ó","o"),"ô","o"),"õ","o"),"ú","u"),"ç","c"),"-"," ")," ","") | Z21: =IF($Z$2="","",IF(AND(ISNUMBER(SEARCH($Z$2,Y21)),OR($Z$3="",ISNUMBER(SEARCH($Z$3,Y21))),OR($Z$4="",ISNUMBER(SEARCH($Z$4,Y21)))),MAX($Z$7:Z20)+1,""))
B22: =IFERROR(IF(INDEX('Base de Preços'!$B:$B,MATCH(15,$Z$8:$Z$458,0)+1)="","",INDEX('Base de Preços'!$B:$B,MATCH(15,$Z$8:$Z$458,0)+1)),"") | C22: =IFERROR(IF(INDEX('Base de Preços'!$C:$C,MATCH(15,$Z$8:$Z$458,0)+1)="","",INDEX('Base de Preços'!$C:$C,MATCH(15,$Z$8:$Z$458,0)+1)),"") | D22: =IFERROR(IF(INDEX('Base de Preços'!$E:$E,MATCH(15,$Z$8:$Z$458,0)+1)="","",INDEX('Base de Preços'!$E:$E,MATCH(15,$Z$8:$Z$458,0)+1)),"") | E22: =IFERROR(IF(INDEX('Base de Preços'!$F:$F,MATCH(15,$Z$8:$Z$458,0)+1)="","",INDEX('Base de Preços'!$F:$F,MATCH(15,$Z$8:$Z$458,0)+1)),"") | F22: =IFERROR(HYPERLINK(INDEX('Base de Preços'!$A:$A,MATCH(15,$Z$8:$Z$458,0)+1),"Abrir oferta"),"") | Y22: =SUBSTITUTE(SUBSTITUTE(SUBSTITUTE(SUBSTITUTE(SUBSTITUTE(SUBSTITUTE(SUBSTITUTE(SUBSTITUTE(SUBSTITUTE(SUBSTITUTE(SUBSTITUTE(SUBSTITUTE(SUBSTITUTE(SUBSTITUTE(LOWER('Base de Preços'!B16&" "&'Base de Preços'!C16&" "&'Base de Preços'!D16),"á","a"),"à","a"),"ã","a"),"â","a"),"é","e"),"ê","e"),"í","i"),"ó","o"),"ô","o"),"õ","o"),"ú","u"),"ç","c"),"-"," ")," ","") | Z22: =IF($Z$2="","",IF(AND(ISNUMBER(SEARCH($Z$2,Y22)),OR($Z$3="",ISNUMBER(SEARCH($Z$3,Y22))),OR($Z$4="",ISNUMBER(SEARCH($Z$4,Y22)))),MAX($Z$7:Z21)+1,""))
B23: =IFERROR(IF(INDEX('Base de Preços'!$B:$B,MATCH(16,$Z$8:$Z$458,0)+1)="","",INDEX('Base de Preços'!$B:$B,MATCH(16,$Z$8:$Z$458,0)+1)),"") | C23: =IFERROR(IF(INDEX('Base de Preços'!$C:$C,MATCH(16,$Z$8:$Z$458,0)+1)="","",INDEX('Base de Preços'!$C:$C,MATCH(16,$Z$8:$Z$458,0)+1)),"") | D23: =IFERROR(IF(INDEX('Base de Preços'!$E:$E,MATCH(16,$Z$8:$Z$458,0)+1)="","",INDEX('Base de Preços'!$E:$E,MATCH(16,$Z$8:$Z$458,0)+1)),"") | E23: =IFERROR(IF(INDEX('Base de Preços'!$F:$F,MATCH(16,$Z$8:$Z$458,0)+1)="","",INDEX('Base de Preços'!$F:$F,MATCH(16,$Z$8:$Z$458,0)+1)),"") | F23: =IFERROR(HYPERLINK(INDEX('Base de Preços'!$A:$A,MATCH(16,$Z$8:$Z$458,0)+1),"Abrir oferta"),"") | Y23: =SUBSTITUTE(SUBSTITUTE(SUBSTITUTE(SUBSTITUTE(SUBSTITUTE(SUBSTITUTE(SUBSTITUTE(SUBSTITUTE(SUBSTITUTE(SUBSTITUTE(SUBSTITUTE(SUBSTITUTE(SUBSTITUTE(SUBSTITUTE(LOWER('Base de Preços'!B17&" "&'Base de Preços'!C17&" "&'Base de Preços'!D17),"á","a"),"à","a"),"ã","a"),"â","a"),"é","e"),"ê","e"),"í","i"),"ó","o"),"ô","o"),"õ","o"),"ú","u"),"ç","c"),"-"," ")," ","") | Z23: =IF($Z$2="","",IF(AND(ISNUMBER(SEARCH($Z$2,Y23)),OR($Z$3="",ISNUMBER(SEARCH($Z$3,Y23))),OR($Z$4="",ISNUMBER(SEARCH($Z$4,Y23)))),MAX($Z$7:Z22)+1,""))
B24: =IFERROR(IF(INDEX('Base de Preços'!$B:$B,MATCH(17,$Z$8:$Z$458,0)+1)="","",INDEX('Base de Preços'!$B:$B,MATCH(17,$Z$8:$Z$458,0)+1)),"") | C24: =IFERROR(IF(INDEX('Base de Preços'!$C:$C,MATCH(17,$Z$8:$Z$458,0)+1)="","",INDEX('Base de Preços'!$C:$C,MATCH(17,$Z$8:$Z$458,0)+1)),"") | D24: =IFERROR(IF(INDEX('Base de Preços'!$E:$E,MATCH(17,$Z$8:$Z$458,0)+1)="","",INDEX('Base de Preços'!$E:$E,MATCH(17,$Z$8:$Z$458,0)+1)),"") | E24: =IFERROR(IF(INDEX('Base de Preços'!$F:$F,MATCH(17,$Z$8:$Z$458,0)+1)="","",INDEX('Base de Preços'!$F:$F,MATCH(17,$Z$8:$Z$458,0)+1)),"") | F24: =IFERROR(HYPERLINK(INDEX('Base de Preços'!$A:$A,MATCH(17,$Z$8:$Z$458,0)+1),"Abrir oferta"),"") | Y24: =SUBSTITUTE(SUBSTITUTE(SUBSTITUTE(SUBSTITUTE(SUBSTITUTE(SUBSTITUTE(SUBSTITUTE(SUBSTITUTE(SUBSTITUTE(SUBSTITUTE(SUBSTITUTE(SUBSTITUTE(SUBSTITUTE(SUBSTITUTE(LOWER('Base de Preços'!B18&" "&'Base de Preços'!C18&" "&'Base de Preços'!D18),"á","a"),"à","a"),"ã","a"),"â","a"),"é","e"),"ê","e"),"í","i"),"ó","o"),"ô","o"),"õ","o"),"ú","u"),"ç","c"),"-"," ")," ","") | Z24: =IF($Z$2="","",IF(AND(ISNUMBER(SEARCH($Z$2,Y24)),OR($Z$3="",ISNUMBER(SEARCH($Z$3,Y24))),OR($Z$4="",ISNUMBER(SEARCH($Z$4,Y24)))),MAX($Z$7:Z23)+1,""))
B25: =IFERROR(IF(INDEX('Base de Preços'!$B:$B,MATCH(18,$Z$8:$Z$458,0)+1)="","",INDEX('Base de Preços'!$B:$B,MATCH(18,$Z$8:$Z$458,0)+1)),"") | C25: =IFERROR(IF(INDEX('Base de Preços'!$C:$C,MATCH(18,$Z$8:$Z$458,0)+1)="","",INDEX('Base de Preços'!$C:$C,MATCH(18,$Z$8:$Z$458,0)+1)),"") | D25: =IFERROR(IF(INDEX('Base de Preços'!$E:$E,MATCH(18,$Z$8:$Z$458,0)+1)="","",INDEX('Base de Preços'!$E:$E,MATCH(18,$Z$8:$Z$458,0)+1)),"") | E25: =IFERROR(IF(INDEX('Base de Preços'!$F:$F,MATCH(18,$Z$8:$Z$458,0)+1)="","",INDEX('Base de Preços'!$F:$F,MATCH(18,$Z$8:$Z$458,0)+1)),"") | F25: =IFERROR(HYPERLINK(INDEX('Base de Preços'!$A:$A,MATCH(18,$Z$8:$Z$458,0)+1),"Abrir oferta"),"") | Y25: =SUBSTITUTE(SUBSTITUTE(SUBSTITUTE(SUBSTITUTE(SUBSTITUTE(SUBSTITUTE(SUBSTITUTE(SUBSTITUTE(SUBSTITUTE(SUBSTITUTE(SUBSTITUTE(SUBSTITUTE(SUBSTITUTE(SUBSTITUTE(LOWER('Base de Preços'!B19&" "&'Base de Preços'!C19&" "&'Base de Preços'!D19),"á","a"),"à","a"),"ã","a"),"â","a"),"é","e"),"ê","e"),"í","i"),"ó","o"),"ô","o"),"õ","o"),"ú","u"),"ç","c"),"-"," ")," ","") | Z25: =IF($Z$2="","",IF(AND(ISNUMBER(SEARCH($Z$2,Y25)),OR($Z$3="",ISNUMBER(SEARCH($Z$3,Y25))),OR($Z$4="",ISNUMBER(SEARCH($Z$4,Y25)))),MAX($Z$7:Z24)+1,""))
B26: =IFERROR(IF(INDEX('Base de Preços'!$B:$B,MATCH(19,$Z$8:$Z$458,0)+1)="","",INDEX('Base de Preços'!$B:$B,MATCH(19,$Z$8:$Z$458,0)+1)),"") | C26: =IFERROR(IF(INDEX('Base de Preços'!$C:$C,MATCH(19,$Z$8:$Z$458,0)+1)="","",INDEX('Base de Preços'!$C:$C,MATCH(19,$Z$8:$Z$458,0)+1)),"") | D26: =IFERROR(IF(INDEX('Base de Preços'!$E:$E,MATCH(19,$Z$8:$Z$458,0)+1)="","",INDEX('Base de Preços'!$E:$E,MATCH(19,$Z$8:$Z$458,0)+1)),"") | E26: =IFERROR(IF(INDEX('Base de Preços'!$F:$F,MATCH(19,$Z$8:$Z$458,0)+1)="","",INDEX('Base de Preços'!$F:$F,MATCH(19,$Z$8:$Z$458,0)+1)),"") | F26: =IFERROR(HYPERLINK(INDEX('Base de Preços'!$A:$A,MATCH(19,$Z$8:$Z$458,0)+1),"Abrir oferta"),"") | Y26: =SUBSTITUTE(SUBSTITUTE(SUBSTITUTE(SUBSTITUTE(SUBSTITUTE(SUBSTITUTE(SUBSTITUTE(SUBSTITUTE(SUBSTITUTE(SUBSTITUTE(SUBSTITUTE(SUBSTITUTE(SUBSTITUTE(SUBSTITUTE(LOWER('Base de Preços'!B20&" "&'Base de Preços'!C20&" "&'Base de Preços'!D20),"á","a"),"à","a"),"ã","a"),"â","a"),"é","e"),"ê","e"),"í","i"),"ó","o"),"ô","o"),"õ","o"),"ú","u"),"ç","c"),"-"," ")," ","") | Z26: =IF($Z$2="","",IF(AND(ISNUMBER(SEARCH($Z$2,Y26)),OR($Z$3="",ISNUMBER(SEARCH($Z$3,Y26))),OR($Z$4="",ISNUMBER(SEARCH($Z$4,Y26)))),MAX($Z$7:Z25)+1,""))
B27: =IFERROR(IF(INDEX('Base de Preços'!$B:$B,MATCH(20,$Z$8:$Z$458,0)+1)="","",INDEX('Base de Preços'!$B:$B,MATCH(20,$Z$8:$Z$458,0)+1)),"") | C27: =IFERROR(IF(INDEX('Base de Preços'!$C:$C,MATCH(20,$Z$8:$Z$458,0)+1)="","",INDEX('Base de Preços'!$C:$C,MATCH(20,$Z$8:$Z$458,0)+1)),"") | D27: =IFERROR(IF(INDEX('Base de Preços'!$E:$E,MATCH(20,$Z$8:$Z$458,0)+1)="","",INDEX('Base de Preços'!$E:$E,MATCH(20,$Z$8:$Z$458,0)+1)),"") | E27: =IFERROR(IF(INDEX('Base de Preços'!$F:$F,MATCH(20,$Z$8:$Z$458,0)+1)="","",INDEX('Base de Preços'!$F:$F,MATCH(20,$Z$8:$Z$458,0)+1)),"") | F27: =IFERROR(HYPERLINK(INDEX('Base de Preços'!$A:$A,MATCH(20,$Z$8:$Z$458,0)+1),"Abrir oferta"),"") | Y27: =SUBSTITUTE(SUBSTITUTE(SUBSTITUTE(SUBSTITUTE(SUBSTITUTE(SUBSTITUTE(SUBSTITUTE(SUBSTITUTE(SUBSTITUTE(SUBSTITUTE(SUBSTITUTE(SUBSTITUTE(SUBSTITUTE(SUBSTITUTE(LOWER('Base de Preços'!B21&" "&'Base de Preços'!C21&" "&'Base de Preços'!D21),"á","a"),"à","a"),"ã","a"),"â","a"),"é","e"),"ê","e"),"í","i"),"ó","o"),"ô","o"),"õ","o"),"ú","u"),"ç","c"),"-"," ")," ","") | Z27: =IF($Z$2="","",IF(AND(ISNUMBER(SEARCH($Z$2,Y27)),OR($Z$3="",ISNUMBER(SEARCH($Z$3,Y27))),OR($Z$4="",ISNUMBER(SEARCH($Z$4,Y27)))),MAX($Z$7:Z26)+1,""))
B28: =IFERROR(IF(INDEX('Base de Preços'!$B:$B,MATCH(21,$Z$8:$Z$458,0)+1)="","",INDEX('Base de Preços'!$B:$B,MATCH(21,$Z$8:$Z$458,0)+1)),"") | C28: =IFERROR(IF(INDEX('Base de Preços'!$C:$C,MATCH(21,$Z$8:$Z$458,0)+1)="","",INDEX('Base de Preços'!$C:$C,MATCH(21,$Z$8:$Z$458,0)+1)),"") | D28: =IFERROR(IF(INDEX('Base de Preços'!$E:$E,MATCH(21,$Z$8:$Z$458,0)+1)="","",INDEX('Base de Preços'!$E:$E,MATCH(21,$Z$8:$Z$458,0)+1)),"") | E28: =IFERROR(IF(INDEX('Base de Preços'!$F:$F,MATCH(21,$Z$8:$Z$458,0)+1)="","",INDEX('Base de Preços'!$F:$F,MATCH(21,$Z$8:$Z$458,0)+1)),"") | F28: =IFERROR(HYPERLINK(INDEX('Base de Preços'!$A:$A,MATCH(21,$Z$8:$Z$458,0)+1),"Abrir oferta"),"") | Y28: =SUBSTITUTE(SUBSTITUTE(SUBSTITUTE(SUBSTITUTE(SUBSTITUTE(SUBSTITUTE(SUBSTITUTE(SUBSTITUTE(SUBSTITUTE(SUBSTITUTE(SUBSTITUTE(SUBSTITUTE(SUBSTITUTE(SUBSTITUTE(LOWER('Base de Preços'!B22&" "&'Base de Preços'!C22&" "&'Base de Preços'!D22),"á","a"),"à","a"),"ã","a"),"â","a"),"é","e"),"ê","e"),"í","i"),"ó","o"),"ô","o"),"õ","o"),"ú","u"),"ç","c"),"-"," ")," ","") | Z28: =IF($Z$2="","",IF(AND(ISNUMBER(SEARCH($Z$2,Y28)),OR($Z$3="",ISNUMBER(SEARCH($Z$3,Y28))),OR($Z$4="",ISNUMBER(SEARCH($Z$4,Y28)))),MAX($Z$7:Z27)+1,""))
B29: =IFERROR(IF(INDEX('Base de Preços'!$B:$B,MATCH(22,$Z$8:$Z$458,0)+1)="","",INDEX('Base de Preços'!$B:$B,MATCH(22,$Z$8:$Z$458,0)+1)),"") | C29: =IFERROR(IF(INDEX('Base de Preços'!$C:$C,MATCH(22,$Z$8:$Z$458,0)+1)="","",INDEX('Base de Preços'!$C:$C,MATCH(22,$Z$8:$Z$458,0)+1)),"") | D29: =IFERROR(IF(INDEX('Base de Preços'!$E:$E,MATCH(22,$Z$8:$Z$458,0)+1)="","",INDEX('Base de Preços'!$E:$E,MATCH(22,$Z$8:$Z$458,0)+1)),"") | E29: =IFERROR(IF(INDEX('Base de Preços'!$F:$F,MATCH(22,$Z$8:$Z$458,0)+1)="","",INDEX('Base de Preços'!$F:$F,MATCH(22,$Z$8:$Z$458,0)+1)),"") | F29: =IFERROR(HYPERLINK(INDEX('Base de Preços'!$A:$A,MATCH(22,$Z$8:$Z$458,0)+1),"Abrir oferta"),"") | Y29: =SUBSTITUTE(SUBSTITUTE(SUBSTITUTE(SUBSTITUTE(SUBSTITUTE(SUBSTITUTE(SUBSTITUTE(SUBSTITUTE(SUBSTITUTE(SUBSTITUTE(SUBSTITUTE(SUBSTITUTE(SUBSTITUTE(SUBSTITUTE(LOWER('Base de Preços'!B23&" "&'Base de Preços'!C23&" "&'Base de Preços'!D23),"á","a"),"à","a"),"ã","a"),"â","a"),"é","e"),"ê","e"),"í","i"),"ó","o"),"ô","o"),"õ","o"),"ú","u"),"ç","c"),"-"," ")," ","") | Z29: =IF($Z$2="","",IF(AND(ISNUMBER(SEARCH($Z$2,Y29)),OR($Z$3="",ISNUMBER(SEARCH($Z$3,Y29))),OR($Z$4="",ISNUMBER(SEARCH($Z$4,Y29)))),MAX($Z$7:Z28)+1,""))
B30: =IFERROR(IF(INDEX('Base de Preços'!$B:$B,MATCH(23,$Z$8:$Z$458,0)+1)="","",INDEX('Base de Preços'!$B:$B,MATCH(23,$Z$8:$Z$458,0)+1)),"") | C30: =IFERROR(IF(INDEX('Base de Preços'!$C:$C,MATCH(23,$Z$8:$Z$458,0)+1)="","",INDEX('Base de Preços'!$C:$C,MATCH(23,$Z$8:$Z$458,0)+1)),"") | D30: =IFERROR(IF(INDEX('Base de Preços'!$E:$E,MATCH(23,$Z$8:$Z$458,0)+1)="","",INDEX('Base de Preços'!$E:$E,MATCH(23,$Z$8:$Z$458,0)+1)),"") | E30: =IFERROR(IF(INDEX('Base de Preços'!$F:$F,MATCH(23,$Z$8:$Z$458,0)+1)="","",INDEX('Base de Preços'!$F:$F,MATCH(23,$Z$8:$Z$458,0)+1)),"") | F30: =IFERROR(HYPERLINK(INDEX('Base de Preços'!$A:$A,MATCH(23,$Z$8:$Z$458,0)+1),"Abrir oferta"),"") | Y30: =SUBSTITUTE(SUBSTITUTE(SUBSTITUTE(SUBSTITUTE(SUBSTITUTE(SUBSTITUTE(SUBSTITUTE(SUBSTITUTE(SUBSTITUTE(SUBSTITUTE(SUBSTITUTE(SUBSTITUTE(SUBSTITUTE(SUBSTITUTE(LOWER('Base de Preços'!B24&" "&'Base de Preços'!C24&" "&'Base de Preços'!D24),"á","a"),"à","a"),"ã","a"),"â","a"),"é","e"),"ê","e"),"í","i"),"ó","o"),"ô","o"),"õ","o"),"ú","u"),"ç","c"),"-"," ")," ","") | Z30: =IF($Z$2="","",IF(AND(ISNUMBER(SEARCH($Z$2,Y30)),OR($Z$3="",ISNUMBER(SEARCH($Z$3,Y30))),OR($Z$4="",ISNUMBER(SEARCH($Z$4,Y30)))),MAX($Z$7:Z29)+1,""))
B31: =IFERROR(IF(INDEX('Base de Preços'!$B:$B,MATCH(24,$Z$8:$Z$458,0)+1)="","",INDEX('Base de Preços'!$B:$B,MATCH(24,$Z$8:$Z$458,0)+1)),"") | C31: =IFERROR(IF(INDEX('Base de Preços'!$C:$C,MATCH(24,$Z$8:$Z$458,0)+1)="","",INDEX('Base de Preços'!$C:$C,MATCH(24,$Z$8:$Z$458,0)+1)),"") | D31: =IFERROR(IF(INDEX('Base de Preços'!$E:$E,MATCH(24,$Z$8:$Z$458,0)+1)="","",INDEX('Base de Preços'!$E:$E,MATCH(24,$Z$8:$Z$458,0)+1)),"") | E31: =IFERROR(IF(INDEX('Base de Preços'!$F:$F,MATCH(24,$Z$8:$Z$458,0)+1)="","",INDEX('Base de Preços'!$F:$F,MATCH(24,$Z$8:$Z$458,0)+1)),"") | F31: =IFERROR(HYPERLINK(INDEX('Base de Preços'!$A:$A,MATCH(24,$Z$8:$Z$458,0)+1),"Abrir oferta"),"") | Y31: =SUBSTITUTE(SUBSTITUTE(SUBSTITUTE(SUBSTITUTE(SUBSTITUTE(SUBSTITUTE(SUBSTITUTE(SUBSTITUTE(SUBSTITUTE(SUBSTITUTE(SUBSTITUTE(SUBSTITUTE(SUBSTITUTE(SUBSTITUTE(LOWER('Base de Preços'!B25&" "&'Base de Preços'!C25&" "&'Base de Preços'!D25),"á","a"),"à","a"),"ã","a"),"â","a"),"é","e"),"ê","e"),"í","i"),"ó","o"),"ô","o"),"õ","o"),"ú","u"),"ç","c"),"-"," ")," ","") | Z31: =IF($Z$2="","",IF(AND(ISNUMBER(SEARCH($Z$2,Y31)),OR($Z$3="",ISNUMBER(SEARCH($Z$3,Y31))),OR($Z$4="",ISNUMBER(SEARCH($Z$4,Y31)))),MAX($Z$7:Z30)+1,""))
B32: =IFERROR(IF(INDEX('Base de Preços'!$B:$B,MATCH(25,$Z$8:$Z$458,0)+1)="","",INDEX('Base de Preços'!$B:$B,MATCH(25,$Z$8:$Z$458,0)+1)),"") | C32: =IFERROR(IF(INDEX('Base de Preços'!$C:$C,MATCH(25,$Z$8:$Z$458,0)+1)="","",INDEX('Base de Preços'!$C:$C,MATCH(25,$Z$8:$Z$458,0)+1)),"") | D32: =IFERROR(IF(INDEX('Base de Preços'!$E:$E,MATCH(25,$Z$8:$Z$458,0)+1)="","",INDEX('Base de Preços'!$E:$E,MATCH(25,$Z$8:$Z$458,0)+1)),"") | E32: =IFERROR(IF(INDEX('Base de Preços'!$F:$F,MATCH(25,$Z$8:$Z$458,0)+1)="","",INDEX('Base de Preços'!$F:$F,MATCH(25,$Z$8:$Z$458,0)+1)),"") | F32: =IFERROR(HYPERLINK(INDEX('Base de Preços'!$A:$A,MATCH(25,$Z$8:$Z$458,0)+1),"Abrir oferta"),"") | Y32: =SUBSTITUTE(SUBSTITUTE(SUBSTITUTE(SUBSTITUTE(SUBSTITUTE(SUBSTITUTE(SUBSTITUTE(SUBSTITUTE(SUBSTITUTE(SUBSTITUTE(SUBSTITUTE(SUBSTITUTE(SUBSTITUTE(SUBSTITUTE(LOWER('Base de Preços'!B26&" "&'Base de Preços'!C26&" "&'Base de Preços'!D26),"á","a"),"à","a"),"ã","a"),"â","a"),"é","e"),"ê","e"),"í","i"),"ó","o"),"ô","o"),"õ","o"),"ú","u"),"ç","c"),"-"," ")," ","") | Z32: =IF($Z$2="","",IF(AND(ISNUMBER(SEARCH($Z$2,Y32)),OR($Z$3="",ISNUMBER(SEARCH($Z$3,Y32))),OR($Z$4="",ISNUMBER(SEARCH($Z$4,Y32)))),MAX($Z$7:Z31)+1,""))
B33: =IFERROR(IF(INDEX('Base de Preços'!$B:$B,MATCH(26,$Z$8:$Z$458,0)+1)="","",INDEX('Base de Preços'!$B:$B,MATCH(26,$Z$8:$Z$458,0)+1)),"") | C33: =IFERROR(IF(INDEX('Base de Preços'!$C:$C,MATCH(26,$Z$8:$Z$458,0)+1)="","",INDEX('Base de Preços'!$C:$C,MATCH(26,$Z$8:$Z$458,0)+1)),"") | D33: =IFERROR(IF(INDEX('Base de Preços'!$E:$E,MATCH(26,$Z$8:$Z$458,0)+1)="","",INDEX('Base de Preços'!$E:$E,MATCH(26,$Z$8:$Z$458,0)+1)),"") | E33: =IFERROR(IF(INDEX('Base de Preços'!$F:$F,MATCH(26,$Z$8:$Z$458,0)+1)="","",INDEX('Base de Preços'!$F:$F,MATCH(26,$Z$8:$Z$458,0)+1)),"") | F33: =IFERROR(HYPERLINK(INDEX('Base de Preços'!$A:$A,MATCH(26,$Z$8:$Z$458,0)+1),"Abrir oferta"),"") | Y33: =SUBSTITUTE(SUBSTITUTE(SUBSTITUTE(SUBSTITUTE(SUBSTITUTE(SUBSTITUTE(SUBSTITUTE(SUBSTITUTE(SUBSTITUTE(SUBSTITUTE(SUBSTITUTE(SUBSTITUTE(SUBSTITUTE(SUBSTITUTE(LOWER('Base de Preços'!B27&" "&'Base de Preços'!C27&" "&'Base de Preços'!D27),"á","a"),"à","a"),"ã","a"),"â","a"),"é","e"),"ê","e"),"í","i"),"ó","o"),"ô","o"),"õ","o"),"ú","u"),"ç","c"),"-"," ")," ","") | Z33: =IF($Z$2="","",IF(AND(ISNUMBER(SEARCH($Z$2,Y33)),OR($Z$3="",ISNUMBER(SEARCH($Z$3,Y33))),OR($Z$4="",ISNUMBER(SEARCH($Z$4,Y33)))),MAX($Z$7:Z32)+1,""))
B34: =IFERROR(IF(INDEX('Base de Preços'!$B:$B,MATCH(27,$Z$8:$Z$458,0)+1)="","",INDEX('Base de Preços'!$B:$B,MATCH(27,$Z$8:$Z$458,0)+1)),"") | C34: =IFERROR(IF(INDEX('Base de Preços'!$C:$C,MATCH(27,$Z$8:$Z$458,0)+1)="","",INDEX('Base de Preços'!$C:$C,MATCH(27,$Z$8:$Z$458,0)+1)),"") | D34: =IFERROR(IF(INDEX('Base de Preços'!$E:$E,MATCH(27,$Z$8:$Z$458,0)+1)="","",INDEX('Base de Preços'!$E:$E,MATCH(27,$Z$8:$Z$458,0)+1)),"") | E34: =IFERROR(IF(INDEX('Base de Preços'!$F:$F,MATCH(27,$Z$8:$Z$458,0)+1)="","",INDEX('Base de Preços'!$F:$F,MATCH(27,$Z$8:$Z$458,0)+1)),"") | F34: =IFERROR(HYPERLINK(INDEX('Base de Preços'!$A:$A,MATCH(27,$Z$8:$Z$458,0)+1),"Abrir oferta"),"") | Y34: =SUBSTITUTE(SUBSTITUTE(SUBSTITUTE(SUBSTITUTE(SUBSTITUTE(SUBSTITUTE(SUBSTITUTE(SUBSTITUTE(SUBSTITUTE(SUBSTITUTE(SUBSTITUTE(SUBSTITUTE(SUBSTITUTE(SUBSTITUTE(LOWER('Base de Preços'!B28&" "&'Base de Preços'!C28&" "&'Base de Preços'!D28),"á","a"),"à","a"),"ã","a"),"â","a"),"é","e"),"ê","e"),"í","i"),"ó","o"),"ô","o"),"õ","o"),"ú","u"),"ç","c"),"-"," ")," ","") | Z34: =IF($Z$2="","",IF(AND(ISNUMBER(SEARCH($Z$2,Y34)),OR($Z$3="",ISNUMBER(SEARCH($Z$3,Y34))),OR($Z$4="",ISNUMBER(SEARCH($Z$4,Y34)))),MAX($Z$7:Z33)+1,""))
B35: =IFERROR(IF(INDEX('Base de Preços'!$B:$B,MATCH(28,$Z$8:$Z$458,0)+1)="","",INDEX('Base de Preços'!$B:$B,MATCH(28,$Z$8:$Z$458,0)+1)),"") | C35: =IFERROR(IF(INDEX('Base de Preços'!$C:$C,MATCH(28,$Z$8:$Z$458,0)+1)="","",INDEX('Base de Preços'!$C:$C,MATCH(28,$Z$8:$Z$458,0)+1)),"") | D35: =IFERROR(IF(INDEX('Base de Preços'!$E:$E,MATCH(28,$Z$8:$Z$458,0)+1)="","",INDEX('Base de Preços'!$E:$E,MATCH(28,$Z$8:$Z$458,0)+1)),"") | E35: =IFERROR(IF(INDEX('Base de Preços'!$F:$F,MATCH(28,$Z$8:$Z$458,0)+1)="","",INDEX('Base de Preços'!$F:$F,MATCH(28,$Z$8:$Z$458,0)+1)),"") | F35: =IFERROR(HYPERLINK(INDEX('Base de Preços'!$A:$A,MATCH(28,$Z$8:$Z$458,0)+1),"Abrir oferta"),"") | Y35: =SUBSTITUTE(SUBSTITUTE(SUBSTITUTE(SUBSTITUTE(SUBSTITUTE(SUBSTITUTE(SUBSTITUTE(SUBSTITUTE(SUBSTITUTE(SUBSTITUTE(SUBSTITUTE(SUBSTITUTE(SUBSTITUTE(SUBSTITUTE(LOWER('Base de Preços'!B29&" "&'Base de Preços'!C29&" "&'Base de Preços'!D29),"á","a"),"à","a"),"ã","a"),"â","a"),"é","e"),"ê","e"),"í","i"),"ó","o"),"ô","o"),"õ","o"),"ú","u"),"ç","c"),"-"," ")," ","") | Z35: =IF($Z$2="","",IF(AND(ISNUMBER(SEARCH($Z$2,Y35)),OR($Z$3="",ISNUMBER(SEARCH($Z$3,Y35))),OR($Z$4="",ISNUMBER(SEARCH($Z$4,Y35)))),MAX($Z$7:Z34)+1,""))
B36: =IFERROR(IF(INDEX('Base de Preços'!$B:$B,MATCH(29,$Z$8:$Z$458,0)+1)="","",INDEX('Base de Preços'!$B:$B,MATCH(29,$Z$8:$Z$458,0)+1)),"") | C36: =IFERROR(IF(INDEX('Base de Preços'!$C:$C,MATCH(29,$Z$8:$Z$458,0)+1)="","",INDEX('Base de Preços'!$C:$C,MATCH(29,$Z$8:$Z$458,0)+1)),"") | D36: =IFERROR(IF(INDEX('Base de Preços'!$E:$E,MATCH(29,$Z$8:$Z$458,0)+1)="","",INDEX('Base de Preços'!$E:$E,MATCH(29,$Z$8:$Z$458,0)+1)),"") | E36: =IFERROR(IF(INDEX('Base de Preços'!$F:$F,MATCH(29,$Z$8:$Z$458,0)+1)="","",INDEX('Base de Preços'!$F:$F,MATCH(29,$Z$8:$Z$458,0)+1)),"") | F36: =IFERROR(HYPERLINK(INDEX('Base de Preços'!$A:$A,MATCH(29,$Z$8:$Z$458,0)+1),"Abrir oferta"),"") | Y36: =SUBSTITUTE(SUBSTITUTE(SUBSTITUTE(SUBSTITUTE(SUBSTITUTE(SUBSTITUTE(SUBSTITUTE(SUBSTITUTE(SUBSTITUTE(SUBSTITUTE(SUBSTITUTE(SUBSTITUTE(SUBSTITUTE(SUBSTITUTE(LOWER('Base de Preços'!B30&" "&'Base de Preços'!C30&" "&'Base de Preços'!D30),"á","a"),"à","a"),"ã","a"),"â","a"),"é","e"),"ê","e"),"í","i"),"ó","o"),"ô","o"),"õ","o"),"ú","u"),"ç","c"),"-"," ")," ","") | Z36: =IF($Z$2="","",IF(AND(ISNUMBER(SEARCH($Z$2,Y36)),OR($Z$3="",ISNUMBER(SEARCH($Z$3,Y36))),OR($Z$4="",ISNUMBER(SEARCH($Z$4,Y36)))),MAX($Z$7:Z35)+1,""))
B37: =IFERROR(IF(INDEX('Base de Preços'!$B:$B,MATCH(30,$Z$8:$Z$458,0)+1)="","",INDEX('Base de Preços'!$B:$B,MATCH(30,$Z$8:$Z$458,0)+1)),"") | C37: =IFERROR(IF(INDEX('Base de Preços'!$C:$C,MATCH(30,$Z$8:$Z$458,0)+1)="","",INDEX('Base de Preços'!$C:$C,MATCH(30,$Z$8:$Z$458,0)+1)),"") | D37: =IFERROR(IF(INDEX('Base de Preços'!$E:$E,MATCH(30,$Z$8:$Z$458,0)+1)="","",INDEX('Base de Preços'!$E:$E,MATCH(30,$Z$8:$Z$458,0)+1)),"") | E37: =IFERROR(IF(INDEX('Base de Preços'!$F:$F,MATCH(30,$Z$8:$Z$458,0)+1)="","",INDEX('Base de Preços'!$F:$F,MATCH(30,$Z$8:$Z$458,0)+1)),"") | F37: =IFERROR(HYPERLINK(INDEX('Base de Preços'!$A:$A,MATCH(30,$Z$8:$Z$458,0)+1),"Abrir oferta"),"") | Y37: =SUBSTITUTE(SUBSTITUTE(SUBSTITUTE(SUBSTITUTE(SUBSTITUTE(SUBSTITUTE(SUBSTITUTE(SUBSTITUTE(SUBSTITUTE(SUBSTITUTE(SUBSTITUTE(SUBSTITUTE(SUBSTITUTE(SUBSTITUTE(LOWER('Base de Preços'!B31&" "&'Base de Preços'!C31&" "&'Base de Preços'!D31),"á","a"),"à","a"),"ã","a"),"â","a"),"é","e"),"ê","e"),"í","i"),"ó","o"),"ô","o"),"õ","o"),"ú","u"),"ç","c"),"-"," ")," ","") | Z37: =IF($Z$2="","",IF(AND(ISNUMBER(SEARCH($Z$2,Y37)),OR($Z$3="",ISNUMBER(SEARCH($Z$3,Y37))),OR($Z$4="",ISNUMBER(SEARCH($Z$4,Y37)))),MAX($Z$7:Z36)+1,""))
B38: =IFERROR(IF(INDEX('Base de Preços'!$B:$B,MATCH(31,$Z$8:$Z$458,0)+1)="","",INDEX('Base de Preços'!$B:$B,MATCH(31,$Z$8:$Z$458,0)+1)),"") | C38: =IFERROR(IF(INDEX('Base de Preços'!$C:$C,MATCH(31,$Z$8:$Z$458,0)+1)="","",INDEX('Base de Preços'!$C:$C,MATCH(31,$Z$8:$Z$458,0)+1)),"") | D38: =IFERROR(IF(INDEX('Base de Preços'!$E:$E,MATCH(31,$Z$8:$Z$458,0)+1)="","",INDEX('Base de Preços'!$E:$E,MATCH(31,$Z$8:$Z$458,0)+1)),"") | E38: =IFERROR(IF(INDEX('Base de Preços'!$F:$F,MATCH(31,$Z$8:$Z$458,0)+1)="","",INDEX('Base de Preços'!$F:$F,MATCH(31,$Z$8:$Z$458,0)+1)),"") | F38: =IFERROR(HYPERLINK(INDEX('Base de Preços'!$A:$A,MATCH(31,$Z$8:$Z$458,0)+1),"Abrir oferta"),"") | Y38: =SUBSTITUTE(SUBSTITUTE(SUBSTITUTE(SUBSTITUTE(SUBSTITUTE(SUBSTITUTE(SUBSTITUTE(SUBSTITUTE(SUBSTITUTE(SUBSTITUTE(SUBSTITUTE(SUBSTITUTE(SUBSTITUTE(SUBSTITUTE(LOWER('Base de Preços'!B32&" "&'Base de Preços'!C32&" "&'Base de Preços'!D32),"á","a"),"à","a"),"ã","a"),"â","a"),"é","e"),"ê","e"),"í","i"),"ó","o"),"ô","o"),"õ","o"),"ú","u"),"ç","c"),"-"," ")," ","") | Z38: =IF($Z$2="","",IF(AND(ISNUMBER(SEARCH($Z$2,Y38)),OR($Z$3="",ISNUMBER(SEARCH($Z$3,Y38))),OR($Z$4="",ISNUMBER(SEARCH($Z$4,Y38)))),MAX($Z$7:Z37)+1,""))
B39: =IFERROR(IF(INDEX('Base de Preços'!$B:$B,MATCH(32,$Z$8:$Z$458,0)+1)="","",INDEX('Base de Preços'!$B:$B,MATCH(32,$Z$8:$Z$458,0)+1)),"") | C39: =IFERROR(IF(INDEX('Base de Preços'!$C:$C,MATCH(32,$Z$8:$Z$458,0)+1)="","",INDEX('Base de Preços'!$C:$C,MATCH(32,$Z$8:$Z$458,0)+1)),"") | D39: =IFERROR(IF(INDEX('Base de Preços'!$E:$E,MATCH(32,$Z$8:$Z$458,0)+1)="","",INDEX('Base de Preços'!$E:$E,MATCH(32,$Z$8:$Z$458,0)+1)),"") | E39: =IFERROR(IF(INDEX('Base de Preços'!$F:$F,MATCH(32,$Z$8:$Z$458,0)+1)="","",INDEX('Base de Preços'!$F:$F,MATCH(32,$Z$8:$Z$458,0)+1)),"") | F39: =IFERROR(HYPERLINK(INDEX('Base de Preços'!$A:$A,MATCH(32,$Z$8:$Z$458,0)+1),"Abrir oferta"),"") | Y39: =SUBSTITUTE(SUBSTITUTE(SUBSTITUTE(SUBSTITUTE(SUBSTITUTE(SUBSTITUTE(SUBSTITUTE(SUBSTITUTE(SUBSTITUTE(SUBSTITUTE(SUBSTITUTE(SUBSTITUTE(SUBSTITUTE(SUBSTITUTE(LOWER('Base de Preços'!B33&" "&'Base de Preços'!C33&" "&'Base de Preços'!D33),"á","a"),"à","a"),"ã","a"),"â","a"),"é","e"),"ê","e"),"í","i"),"ó","o"),"ô","o"),"õ","o"),"ú","u"),"ç","c"),"-"," ")," ","") | Z39: =IF($Z$2="","",IF(AND(ISNUMBER(SEARCH($Z$2,Y39)),OR($Z$3="",ISNUMBER(SEARCH($Z$3,Y39))),OR($Z$4="",ISNUMBER(SEARCH($Z$4,Y39)))),MAX($Z$7:Z38)+1,""))
B40: =IFERROR(IF(INDEX('Base de Preços'!$B:$B,MATCH(33,$Z$8:$Z$458,0)+1)="","",INDEX('Base de Preços'!$B:$B,MATCH(33,$Z$8:$Z$458,0)+1)),"") | C40: =IFERROR(IF(INDEX('Base de Preços'!$C:$C,MATCH(33,$Z$8:$Z$458,0)+1)="","",INDEX('Base de Preços'!$C:$C,MATCH(33,$Z$8:$Z$458,0)+1)),"") | D40: =IFERROR(IF(INDEX('Base de Preços'!$E:$E,MATCH(33,$Z$8:$Z$458,0)+1)="","",INDEX('Base de Preços'!$E:$E,MATCH(33,$Z$8:$Z$458,0)+1)),"") | E40: =IFERROR(IF(INDEX('Base de Preços'!$F:$F,MATCH(33,$Z$8:$Z$458,0)+1)="","",INDEX('Base de Preços'!$F:$F,MATCH(33,$Z$8:$Z$458,0)+1)),"") | F40: =IFERROR(HYPERLINK(INDEX('Base de Preços'!$A:$A,MATCH(33,$Z$8:$Z$458,0)+1),"Abrir oferta"),"") | Y40: =SUBSTITUTE(SUBSTITUTE(SUBSTITUTE(SUBSTITUTE(SUBSTITUTE(SUBSTITUTE(SUBSTITUTE(SUBSTITUTE(SUBSTITUTE(SUBSTITUTE(SUBSTITUTE(SUBSTITUTE(SUBSTITUTE(SUBSTITUTE(LOWER('Base de Preços'!B34&" "&'Base de Preços'!C34&" "&'Base de Preços'!D34),"á","a"),"à","a"),"ã","a"),"â","a"),"é","e"),"ê","e"),"í","i"),"ó","o"),"ô","o"),"õ","o"),"ú","u"),"ç","c"),"-"," ")," ","") | Z40: =IF($Z$2="","",IF(AND(ISNUMBER(SEARCH($Z$2,Y40)),OR($Z$3="",ISNUMBER(SEARCH($Z$3,Y40))),OR($Z$4="",ISNUMBER(SEARCH($Z$4,Y40)))),MAX($Z$7:Z39)+1,""))
B41: =IFERROR(IF(INDEX('Base de Preços'!$B:$B,MATCH(34,$Z$8:$Z$458,0)+1)="","",INDEX('Base de Preços'!$B:$B,MATCH(34,$Z$8:$Z$458,0)+1)),"") | C41: =IFERROR(IF(INDEX('Base de Preços'!$C:$C,MATCH(34,$Z$8:$Z$458,0)+1)="","",INDEX('Base de Preços'!$C:$C,MATCH(34,$Z$8:$Z$458,0)+1)),"") | D41: =IFERROR(IF(INDEX('Base de Preços'!$E:$E,MATCH(34,$Z$8:$Z$458,0)+1)="","",INDEX('Base de Preços'!$E:$E,MATCH(34,$Z$8:$Z$458,0)+1)),"") | E41: =IFERROR(IF(INDEX('Base de Preços'!$F:$F,MATCH(34,$Z$8:$Z$458,0)+1)="","",INDEX('Base de Preços'!$F:$F,MATCH(34,$Z$8:$Z$458,0)+1)),"") | F41: =IFERROR(HYPERLINK(INDEX('Base de Preços'!$A:$A,MATCH(34,$Z$8:$Z$458,0)+1),"Abrir oferta"),"") | Y41: =SUBSTITUTE(SUBSTITUTE(SUBSTITUTE(SUBSTITUTE(SUBSTITUTE(SUBSTITUTE(SUBSTITUTE(SUBSTITUTE(SUBSTITUTE(SUBSTITUTE(SUBSTITUTE(SUBSTITUTE(SUBSTITUTE(SUBSTITUTE(LOWER('Base de Preços'!B35&" "&'Base de Preços'!C35&" "&'Base de Preços'!D35),"á","a"),"à","a"),"ã","a"),"â","a"),"é","e"),"ê","e"),"í","i"),"ó","o"),"ô","o"),"õ","o"),"ú","u"),"ç","c"),"-"," ")," ","") | Z41: =IF($Z$2="","",IF(AND(ISNUMBER(SEARCH($Z$2,Y41)),OR($Z$3="",ISNUMBER(SEARCH($Z$3,Y41))),OR($Z$4="",ISNUMBER(SEARCH($Z$4,Y41)))),MAX($Z$7:Z40)+1,""))
B42: =IFERROR(IF(INDEX('Base de Preços'!$B:$B,MATCH(35,$Z$8:$Z$458,0)+1)="","",INDEX('Base de Preços'!$B:$B,MATCH(35,$Z$8:$Z$458,0)+1)),"") | C42: =IFERROR(IF(INDEX('Base de Preços'!$C:$C,MATCH(35,$Z$8:$Z$458,0)+1)="","",INDEX('Base de Preços'!$C:$C,MATCH(35,$Z$8:$Z$458,0)+1)),"") | D42: =IFERROR(IF(INDEX('Base de Preços'!$E:$E,MATCH(35,$Z$8:$Z$458,0)+1)="","",INDEX('Base de Preços'!$E:$E,MATCH(35,$Z$8:$Z$458,0)+1)),"") | E42: =IFERROR(IF(INDEX('Base de Preços'!$F:$F,MATCH(35,$Z$8:$Z$458,0)+1)="","",INDEX('Base de Preços'!$F:$F,MATCH(35,$Z$8:$Z$458,0)+1)),"") | F42: =IFERROR(HYPERLINK(INDEX('Base de Preços'!$A:$A,MATCH(35,$Z$8:$Z$458,0)+1),"Abrir oferta"),"") | Y42: =SUBSTITUTE(SUBSTITUTE(SUBSTITUTE(SUBSTITUTE(SUBSTITUTE(SUBSTITUTE(SUBSTITUTE(SUBSTITUTE(SUBSTITUTE(SUBSTITUTE(SUBSTITUTE(SUBSTITUTE(SUBSTITUTE(SUBSTITUTE(LOWER('Base de Preços'!B36&" "&'Base de Preços'!C36&" "&'Base de Preços'!D36),"á","a"),"à","a"),"ã","a"),"â","a"),"é","e"),"ê","e"),"í","i"),"ó","o"),"ô","o"),"õ","o"),"ú","u"),"ç","c"),"-"," ")," ","") | Z42: =IF($Z$2="","",IF(AND(ISNUMBER(SEARCH($Z$2,Y42)),OR($Z$3="",ISNUMBER(SEARCH($Z$3,Y42))),OR($Z$4="",ISNUMBER(SEARCH($Z$4,Y42)))),MAX($Z$7:Z41)+1,""))
B43: =IFERROR(IF(INDEX('Base de Preços'!$B:$B,MATCH(36,$Z$8:$Z$458,0)+1)="","",INDEX('Base de Preços'!$B:$B,MATCH(36,$Z$8:$Z$458,0)+1)),"") | C43: =IFERROR(IF(INDEX('Base de Preços'!$C:$C,MATCH(36,$Z$8:$Z$458,0)+1)="","",INDEX('Base de Preços'!$C:$C,MATCH(36,$Z$8:$Z$458,0)+1)),"") | D43: =IFERROR(IF(INDEX('Base de Preços'!$E:$E,MATCH(36,$Z$8:$Z$458,0)+1)="","",INDEX('Base de Preços'!$E:$E,MATCH(36,$Z$8:$Z$458,0)+1)),"") | E43: =IFERROR(IF(INDEX('Base de Preços'!$F:$F,MATCH(36,$Z$8:$Z$458,0)+1)="","",INDEX('Base de Preços'!$F:$F,MATCH(36,$Z$8:$Z$458,0)+1)),"") | F43: =IFERROR(HYPERLINK(INDEX('Base de Preços'!$A:$A,MATCH(36,$Z$8:$Z$458,0)+1),"Abrir oferta"),"") | Y43: =SUBSTITUTE(SUBSTITUTE(SUBSTITUTE(SUBSTITUTE(SUBSTITUTE(SUBSTITUTE(SUBSTITUTE(SUBSTITUTE(SUBSTITUTE(SUBSTITUTE(SUBSTITUTE(SUBSTITUTE(SUBSTITUTE(SUBSTITUTE(LOWER('Base de Preços'!B37&" "&'Base de Preços'!C37&" "&'Base de Preços'!D37),"á","a"),"à","a"),"ã","a"),"â","a"),"é","e"),"ê","e"),"í","i"),"ó","o"),"ô","o"),"õ","o"),"ú","u"),"ç","c"),"-"," ")," ","") | Z43: =IF($Z$2="","",IF(AND(ISNUMBER(SEARCH($Z$2,Y43)),OR($Z$3="",ISNUMBER(SEARCH($Z$3,Y43))),OR($Z$4="",ISNUMBER(SEARCH($Z$4,Y43)))),MAX($Z$7:Z42)+1,""))
B44: =IFERROR(IF(INDEX('Base de Preços'!$B:$B,MATCH(37,$Z$8:$Z$458,0)+1)="","",INDEX('Base de Preços'!$B:$B,MATCH(37,$Z$8:$Z$458,0)+1)),"") | C44: =IFERROR(IF(INDEX('Base de Preços'!$C:$C,MATCH(37,$Z$8:$Z$458,0)+1)="","",INDEX('Base de Preços'!$C:$C,MATCH(37,$Z$8:$Z$458,0)+1)),"") | D44: =IFERROR(IF(INDEX('Base de Preços'!$E:$E,MATCH(37,$Z$8:$Z$458,0)+1)="","",INDEX('Base de Preços'!$E:$E,MATCH(37,$Z$8:$Z$458,0)+1)),"") | E44: =IFERROR(IF(INDEX('Base de Preços'!$F:$F,MATCH(37,$Z$8:$Z$458,0)+1)="","",INDEX('Base de Preços'!$F:$F,MATCH(37,$Z$8:$Z$458,0)+1)),"") | F44: =IFERROR(HYPERLINK(INDEX('Base de Preços'!$A:$A,MATCH(37,$Z$8:$Z$458,0)+1),"Abrir oferta"),"") | Y44: =SUBSTITUTE(SUBSTITUTE(SUBSTITUTE(SUBSTITUTE(SUBSTITUTE(SUBSTITUTE(SUBSTITUTE(SUBSTITUTE(SUBSTITUTE(SUBSTITUTE(SUBSTITUTE(SUBSTITUTE(SUBSTITUTE(SUBSTITUTE(LOWER('Base de Preços'!B38&" "&'Base de Preços'!C38&" "&'Base de Preços'!D38),"á","a"),"à","a"),"ã","a"),"â","a"),"é","e"),"ê","e"),"í","i"),"ó","o"),"ô","o"),"õ","o"),"ú","u"),"ç","c"),"-"," ")," ","") | Z44: =IF($Z$2="","",IF(AND(ISNUMBER(SEARCH($Z$2,Y44)),OR($Z$3="",ISNUMBER(SEARCH($Z$3,Y44))),OR($Z$4="",ISNUMBER(SEARCH($Z$4,Y44)))),MAX($Z$7:Z43)+1,""))
B45: =IFERROR(IF(INDEX('Base de Preços'!$B:$B,MATCH(38,$Z$8:$Z$458,0)+1)="","",INDEX('Base de Preços'!$B:$B,MATCH(38,$Z$8:$Z$458,0)+1)),"") | C45: =IFERROR(IF(INDEX('Base de Preços'!$C:$C,MATCH(38,$Z$8:$Z$458,0)+1)="","",INDEX('Base de Preços'!$C:$C,MATCH(38,$Z$8:$Z$458,0)+1)),"") | D45: =IFERROR(IF(INDEX('Base de Preços'!$E:$E,MATCH(38,$Z$8:$Z$458,0)+1)="","",INDEX('Base de Preços'!$E:$E,MATCH(38,$Z$8:$Z$458,0)+1)),"") | E45: =IFERROR(IF(INDEX('Base de Preços'!$F:$F,MATCH(38,$Z$8:$Z$458,0)+1)="","",INDEX('Base de Preços'!$F:$F,MATCH(38,$Z$8:$Z$458,0)+1)),"") | F45: =IFERROR(HYPERLINK(INDEX('Base de Preços'!$A:$A,MATCH(38,$Z$8:$Z$458,0)+1),"Abrir oferta"),"") | Y45: =SUBSTITUTE(SUBSTITUTE(SUBSTITUTE(SUBSTITUTE(SUBSTITUTE(SUBSTITUTE(SUBSTITUTE(SUBSTITUTE(SUBSTITUTE(SUBSTITUTE(SUBSTITUTE(SUBSTITUTE(SUBSTITUTE(SUBSTITUTE(LOWER('Base de Preços'!B39&" "&'Base de Preços'!C39&" "&'Base de Preços'!D39),"á","a"),"à","a"),"ã","a"),"â","a"),"é","e"),"ê","e"),"í","i"),"ó","o"),"ô","o"),"õ","o"),"ú","u"),"ç","c"),"-"," ")," ","") | Z45: =IF($Z$2="","",IF(AND(ISNUMBER(SEARCH($Z$2,Y45)),OR($Z$3="",ISNUMBER(SEARCH($Z$3,Y45))),OR($Z$4="",ISNUMBER(SEARCH($Z$4,Y45)))),MAX($Z$7:Z44)+1,""))
B46: =IFERROR(IF(INDEX('Base de Preços'!$B:$B,MATCH(39,$Z$8:$Z$458,0)+1)="","",INDEX('Base de Preços'!$B:$B,MATCH(39,$Z$8:$Z$458,0)+1)),"") | C46: =IFERROR(IF(INDEX('Base de Preços'!$C:$C,MATCH(39,$Z$8:$Z$458,0)+1)="","",INDEX('Base de Preços'!$C:$C,MATCH(39,$Z$8:$Z$458,0)+1)),"") | D46: =IFERROR(IF(INDEX('Base de Preços'!$E:$E,MATCH(39,$Z$8:$Z$458,0)+1)="","",INDEX('Base de Preços'!$E:$E,MATCH(39,$Z$8:$Z$458,0)+1)),"") | E46: =IFERROR(IF(INDEX('Base de Preços'!$F:$F,MATCH(39,$Z$8:$Z$458,0)+1)="","",INDEX('Base de Preços'!$F:$F,MATCH(39,$Z$8:$Z$458,0)+1)),"") | F46: =IFERROR(HYPERLINK(INDEX('Base de Preços'!$A:$A,MATCH(39,$Z$8:$Z$458,0)+1),"Abrir oferta"),"") | Y46: =SUBSTITUTE(SUBSTITUTE(SUBSTITUTE(SUBSTITUTE(SUBSTITUTE(SUBSTITUTE(SUBSTITUTE(SUBSTITUTE(SUBSTITUTE(SUBSTITUTE(SUBSTITUTE(SUBSTITUTE(SUBSTITUTE(SUBSTITUTE(LOWER('Base de Preços'!B40&" "&'Base de Preços'!C40&" "&'Base de Preços'!D40),"á","a"),"à","a"),"ã","a"),"â","a"),"é","e"),"ê","e"),"í","i"),"ó","o"),"ô","o"),"õ","o"),"ú","u"),"ç","c"),"-"," ")," ","") | Z46: =IF($Z$2="","",IF(AND(ISNUMBER(SEARCH($Z$2,Y46)),OR($Z$3="",ISNUMBER(SEARCH($Z$3,Y46))),OR($Z$4="",ISNUMBER(SEARCH($Z$4,Y46)))),MAX($Z$7:Z45)+1,""))
B47: =IFERROR(IF(INDEX('Base de Preços'!$B:$B,MATCH(40,$Z$8:$Z$458,0)+1)="","",INDEX('Base de Preços'!$B:$B,MATCH(40,$Z$8:$Z$458,0)+1)),"") | C47: =IFERROR(IF(INDEX('Base de Preços'!$C:$C,MATCH(40,$Z$8:$Z$458,0)+1)="","",INDEX('Base de Preços'!$C:$C,MATCH(40,$Z$8:$Z$458,0)+1)),"") | D47: =IFERROR(IF(INDEX('Base de Preços'!$E:$E,MATCH(40,$Z$8:$Z$458,0)+1)="","",INDEX('Base de Preços'!$E:$E,MATCH(40,$Z$8:$Z$458,0)+1)),"") | E47: =IFERROR(IF(INDEX('Base de Preços'!$F:$F,MATCH(40,$Z$8:$Z$458,0)+1)="","",INDEX('Base de Preços'!$F:$F,MATCH(40,$Z$8:$Z$458,0)+1)),"") | F47: =IFERROR(HYPERLINK(INDEX('Base de Preços'!$A:$A,MATCH(40,$Z$8:$Z$458,0)+1),"Abrir oferta"),"") | Y47: =SUBSTITUTE(SUBSTITUTE(SUBSTITUTE(SUBSTITUTE(SUBSTITUTE(SUBSTITUTE(SUBSTITUTE(SUBSTITUTE(SUBSTITUTE(SUBSTITUTE(SUBSTITUTE(SUBSTITUTE(SUBSTITUTE(SUBSTITUTE(LOWER('Base de Preços'!B41&" "&'Base de Preços'!C41&" "&'Base de Preços'!D41),"á","a"),"à","a"),"ã","a"),"â","a"),"é","e"),"ê","e"),"í","i"),"ó","o"),"ô","o"),"õ","o"),"ú","u"),"ç","c"),"-"," ")," ","") | Z47: =IF($Z$2="","",IF(AND(ISNUMBER(SEARCH($Z$2,Y47)),OR($Z$3="",ISNUMBER(SEARCH($Z$3,Y47))),OR($Z$4="",ISNUMBER(SEARCH($Z$4,Y47)))),MAX($Z$7:Z46)+1,""))
B48: =IFERROR(IF(INDEX('Base de Preços'!$B:$B,MATCH(41,$Z$8:$Z$458,0)+1)="","",INDEX('Base de Preços'!$B:$B,MATCH(41,$Z$8:$Z$458,0)+1)),"") | C48: =IFERROR(IF(INDEX('Base de Preços'!$C:$C,MATCH(41,$Z$8:$Z$458,0)+1)="","",INDEX('Base de Preços'!$C:$C,MATCH(41,$Z$8:$Z$458,0)+1)),"") | D48: =IFERROR(IF(INDEX('Base de Preços'!$E:$E,MATCH(41,$Z$8:$Z$458,0)+1)="","",INDEX('Base de Preços'!$E:$E,MATCH(41,$Z$8:$Z$458,0)+1)),"") | E48: =IFERROR(IF(INDEX('Base de Preços'!$F:$F,MATCH(41,$Z$8:$Z$458,0)+1)="","",INDEX('Base de Preços'!$F:$F,MATCH(41,$Z$8:$Z$458,0)+1)),"") | F48: =IFERROR(HYPERLINK(INDEX('Base de Preços'!$A:$A,MATCH(41,$Z$8:$Z$458,0)+1),"Abrir oferta"),"") | Y48: =SUBSTITUTE(SUBSTITUTE(SUBSTITUTE(SUBSTITUTE(SUBSTITUTE(SUBSTITUTE(SUBSTITUTE(SUBSTITUTE(SUBSTITUTE(SUBSTITUTE(SUBSTITUTE(SUBSTITUTE(SUBSTITUTE(SUBSTITUTE(LOWER('Base de Preços'!B42&" "&'Base de Preços'!C42&" "&'Base de Preços'!D42),"á","a"),"à","a"),"ã","a"),"â","a"),"é","e"),"ê","e"),"í","i"),"ó","o"),"ô","o"),"õ","o"),"ú","u"),"ç","c"),"-"," ")," ","") | Z48: =IF($Z$2="","",IF(AND(ISNUMBER(SEARCH($Z$2,Y48)),OR($Z$3="",ISNUMBER(SEARCH($Z$3,Y48))),OR($Z$4="",ISNUMBER(SEARCH($Z$4,Y48)))),MAX($Z$7:Z47)+1,""))
B49: =IFERROR(IF(INDEX('Base de Preços'!$B:$B,MATCH(42,$Z$8:$Z$458,0)+1)="","",INDEX('Base de Preços'!$B:$B,MATCH(42,$Z$8:$Z$458,0)+1)),"") | C49: =IFERROR(IF(INDEX('Base de Preços'!$C:$C,MATCH(42,$Z$8:$Z$458,0)+1)="","",INDEX('Base de Preços'!$C:$C,MATCH(42,$Z$8:$Z$458,0)+1)),"") | D49: =IFERROR(IF(INDEX('Base de Preços'!$E:$E,MATCH(42,$Z$8:$Z$458,0)+1)="","",INDEX('Base de Preços'!$E:$E,MATCH(42,$Z$8:$Z$458,0)+1)),"") | E49: =IFERROR(IF(INDEX('Base de Preços'!$F:$F,MATCH(42,$Z$8:$Z$458,0)+1)="","",INDEX('Base de Preços'!$F:$F,MATCH(42,$Z$8:$Z$458,0)+1)),"") | F49: =IFERROR(HYPERLINK(INDEX('Base de Preços'!$A:$A,MATCH(42,$Z$8:$Z$458,0)+1),"Abrir oferta"),"") | Y49: =SUBSTITUTE(SUBSTITUTE(SUBSTITUTE(SUBSTITUTE(SUBSTITUTE(SUBSTITUTE(SUBSTITUTE(SUBSTITUTE(SUBSTITUTE(SUBSTITUTE(SUBSTITUTE(SUBSTITUTE(SUBSTITUTE(SUBSTITUTE(LOWER('Base de Preços'!B43&" "&'Base de Preços'!C43&" "&'Base de Preços'!D43),"á","a"),"à","a"),"ã","a"),"â","a"),"é","e"),"ê","e"),"í","i"),"ó","o"),"ô","o"),"õ","o"),"ú","u"),"ç","c"),"-"," ")," ","") | Z49: =IF($Z$2="","",IF(AND(ISNUMBER(SEARCH($Z$2,Y49)),OR($Z$3="",ISNUMBER(SEARCH($Z$3,Y49))),OR($Z$4="",ISNUMBER(SEARCH($Z$4,Y49)))),MAX($Z$7:Z48)+1,""))
B50: =IFERROR(IF(INDEX('Base de Preços'!$B:$B,MATCH(43,$Z$8:$Z$458,0)+1)="","",INDEX('Base de Preços'!$B:$B,MATCH(43,$Z$8:$Z$458,0)+1)),"") | C50: =IFERROR(IF(INDEX('Base de Preços'!$C:$C,MATCH(43,$Z$8:$Z$458,0)+1)="","",INDEX('Base de Preços'!$C:$C,MATCH(43,$Z$8:$Z$458,0)+1)),"") | D50: =IFERROR(IF(INDEX('Base de Preços'!$E:$E,MATCH(43,$Z$8:$Z$458,0)+1)="","",INDEX('Base de Preços'!$E:$E,MATCH(43,$Z$8:$Z$458,0)+1)),"") | E50: =IFERROR(IF(INDEX('Base de Preços'!$F:$F,MATCH(43,$Z$8:$Z$458,0)+1)="","",INDEX('Base de Preços'!$F:$F,MATCH(43,$Z$8:$Z$458,0)+1)),"") | F50: =IFERROR(HYPERLINK(INDEX('Base de Preços'!$A:$A,MATCH(43,$Z$8:$Z$458,0)+1),"Abrir oferta"),"") | Y50: =SUBSTITUTE(SUBSTITUTE(SUBSTITUTE(SUBSTITUTE(SUBSTITUTE(SUBSTITUTE(SUBSTITUTE(SUBSTITUTE(SUBSTITUTE(SUBSTITUTE(SUBSTITUTE(SUBSTITUTE(SUBSTITUTE(SUBSTITUTE(LOWER('Base de Preços'!B44&" "&'Base de Preços'!C44&" "&'Base de Preços'!D44),"á","a"),"à","a"),"ã","a"),"â","a"),"é","e"),"ê","e"),"í","i"),"ó","o"),"ô","o"),"õ","o"),"ú","u"),"ç","c"),"-"," ")," ","") | Z50: =IF($Z$2="","",IF(AND(ISNUMBER(SEARCH($Z$2,Y50)),OR($Z$3="",ISNUMBER(SEARCH($Z$3,Y50))),OR($Z$4="",ISNUMBER(SEARCH($Z$4,Y50)))),MAX($Z$7:Z49)+1,""))
B51: =IFERROR(IF(INDEX('Base de Preços'!$B:$B,MATCH(44,$Z$8:$Z$458,0)+1)="","",INDEX('Base de Preços'!$B:$B,MATCH(44,$Z$8:$Z$458,0)+1)),"") | C51: =IFERROR(IF(INDEX('Base de Preços'!$C:$C,MATCH(44,$Z$8:$Z$458,0)+1)="","",INDEX('Base de Preços'!$C:$C,MATCH(44,$Z$8:$Z$458,0)+1)),"") | D51: =IFERROR(IF(INDEX('Base de Preços'!$E:$E,MATCH(44,$Z$8:$Z$458,0)+1)="","",INDEX('Base de Preços'!$E:$E,MATCH(44,$Z$8:$Z$458,0)+1)),"") | E51: =IFERROR(IF(INDEX('Base de Preços'!$F:$F,MATCH(44,$Z$8:$Z$458,0)+1)="","",INDEX('Base de Preços'!$F:$F,MATCH(44,$Z$8:$Z$458,0)+1)),"") | F51: =IFERROR(HYPERLINK(INDEX('Base de Preços'!$A:$A,MATCH(44,$Z$8:$Z$458,0)+1),"Abrir oferta"),"") | Y51: =SUBSTITUTE(SUBSTITUTE(SUBSTITUTE(SUBSTITUTE(SUBSTITUTE(SUBSTITUTE(SUBSTITUTE(SUBSTITUTE(SUBSTITUTE(SUBSTITUTE(SUBSTITUTE(SUBSTITUTE(SUBSTITUTE(SUBSTITUTE(LOWER('Base de Preços'!B45&" "&'Base de Preços'!C45&" "&'Base de Preços'!D45),"á","a"),"à","a"),"ã","a"),"â","a"),"é","e"),"ê","e"),"í","i"),"ó","o"),"ô","o"),"õ","o"),"ú","u"),"ç","c"),"-"," ")," ","") | Z51: =IF($Z$2="","",IF(AND(ISNUMBER(SEARCH($Z$2,Y51)),OR($Z$3="",ISNUMBER(SEARCH($Z$3,Y51))),OR($Z$4="",ISNUMBER(SEARCH($Z$4,Y51)))),MAX($Z$7:Z50)+1,""))
B52: =IFERROR(IF(INDEX('Base de Preços'!$B:$B,MATCH(45,$Z$8:$Z$458,0)+1)="","",INDEX('Base de Preços'!$B:$B,MATCH(45,$Z$8:$Z$458,0)+1)),"") | C52: =IFERROR(IF(INDEX('Base de Preços'!$C:$C,MATCH(45,$Z$8:$Z$458,0)+1)="","",INDEX('Base de Preços'!$C:$C,MATCH(45,$Z$8:$Z$458,0)+1)),"") | D52: =IFERROR(IF(INDEX('Base de Preços'!$E:$E,MATCH(45,$Z$8:$Z$458,0)+1)="","",INDEX('Base de Preços'!$E:$E,MATCH(45,$Z$8:$Z$458,0)+1)),"") | E52: =IFERROR(IF(INDEX('Base de Preços'!$F:$F,MATCH(45,$Z$8:$Z$458,0)+1)="","",INDEX('Base de Preços'!$F:$F,MATCH(45,$Z$8:$Z$458,0)+1)),"") | F52: =IFERROR(HYPERLINK(INDEX('Base de Preços'!$A:$A,MATCH(45,$Z$8:$Z$458,0)+1),"Abrir oferta"),"") | Y52: =SUBSTITUTE(SUBSTITUTE(SUBSTITUTE(SUBSTITUTE(SUBSTITUTE(SUBSTITUTE(SUBSTITUTE(SUBSTITUTE(SUBSTITUTE(SUBSTITUTE(SUBSTITUTE(SUBSTITUTE(SUBSTITUTE(SUBSTITUTE(LOWER('Base de Preços'!B46&" "&'Base de Preços'!C46&" "&'Base de Preços'!D46),"á","a"),"à","a"),"ã","a"),"â","a"),"é","e"),"ê","e"),"í","i"),"ó","o"),"ô","o"),"õ","o"),"ú","u"),"ç","c"),"-"," ")," ","") | Z52: =IF($Z$2="","",IF(AND(ISNUMBER(SEARCH($Z$2,Y52)),OR($Z$3="",ISNUMBER(SEARCH($Z$3,Y52))),OR($Z$4="",ISNUMBER(SEARCH($Z$4,Y52)))),MAX($Z$7:Z51)+1,""))
B53: =IFERROR(IF(INDEX('Base de Preços'!$B:$B,MATCH(46,$Z$8:$Z$458,0)+1)="","",INDEX('Base de Preços'!$B:$B,MATCH(46,$Z$8:$Z$458,0)+1)),"") | C53: =IFERROR(IF(INDEX('Base de Preços'!$C:$C,MATCH(46,$Z$8:$Z$458,0)+1)="","",INDEX('Base de Preços'!$C:$C,MATCH(46,$Z$8:$Z$458,0)+1)),"") | D53: =IFERROR(IF(INDEX('Base de Preços'!$E:$E,MATCH(46,$Z$8:$Z$458,0)+1)="","",INDEX('Base de Preços'!$E:$E,MATCH(46,$Z$8:$Z$458,0)+1)),"") | E53: =IFERROR(IF(INDEX('Base de Preços'!$F:$F,MATCH(46,$Z$8:$Z$458,0)+1)="","",INDEX('Base de Preços'!$F:$F,MATCH(46,$Z$8:$Z$458,0)+1)),"") | F53: =IFERROR(HYPERLINK(INDEX('Base de Preços'!$A:$A,MATCH(46,$Z$8:$Z$458,0)+1),"Abrir oferta"),"") | Y53: =SUBSTITUTE(SUBSTITUTE(SUBSTITUTE(SUBSTITUTE(SUBSTITUTE(SUBSTITUTE(SUBSTITUTE(SUBSTITUTE(SUBSTITUTE(SUBSTITUTE(SUBSTITUTE(SUBSTITUTE(SUBSTITUTE(SUBSTITUTE(LOWER('Base de Preços'!B47&" "&'Base de Preços'!C47&" "&'Base de Preços'!D47),"á","a"),"à","a"),"ã","a"),"â","a"),"é","e"),"ê","e"),"í","i"),"ó","o"),"ô","o"),"õ","o"),"ú","u"),"ç","c"),"-"," ")," ","") | Z53: =IF($Z$2="","",IF(AND(ISNUMBER(SEARCH($Z$2,Y53)),OR($Z$3="",ISNUMBER(SEARCH($Z$3,Y53))),OR($Z$4="",ISNUMBER(SEARCH($Z$4,Y53)))),MAX($Z$7:Z52)+1,""))
B54: =IFERROR(IF(INDEX('Base de Preços'!$B:$B,MATCH(47,$Z$8:$Z$458,0)+1)="","",INDEX('Base de Preços'!$B:$B,MATCH(47,$Z$8:$Z$458,0)+1)),"") | C54: =IFERROR(IF(INDEX('Base de Preços'!$C:$C,MATCH(47,$Z$8:$Z$458,0)+1)="","",INDEX('Base de Preços'!$C:$C,MATCH(47,$Z$8:$Z$458,0)+1)),"") | D54: =IFERROR(IF(INDEX('Base de Preços'!$E:$E,MATCH(47,$Z$8:$Z$458,0)+1)="","",INDEX('Base de Preços'!$E:$E,MATCH(47,$Z$8:$Z$458,0)+1)),"") | E54: =IFERROR(IF(INDEX('Base de Preços'!$F:$F,MATCH(47,$Z$8:$Z$458,0)+1)="","",INDEX('Base de Preços'!$F:$F,MATCH(47,$Z$8:$Z$458,0)+1)),"") | F54: =IFERROR(HYPERLINK(INDEX('Base de Preços'!$A:$A,MATCH(47,$Z$8:$Z$458,0)+1),"Abrir oferta"),"") | Y54: =SUBSTITUTE(SUBSTITUTE(SUBSTITUTE(SUBSTITUTE(SUBSTITUTE(SUBSTITUTE(SUBSTITUTE(SUBSTITUTE(SUBSTITUTE(SUBSTITUTE(SUBSTITUTE(SUBSTITUTE(SUBSTITUTE(SUBSTITUTE(LOWER('Base de Preços'!B48&" "&'Base de Preços'!C48&" "&'Base de Preços'!D48),"á","a"),"à","a"),"ã","a"),"â","a"),"é","e"),"ê","e"),"í","i"),"ó","o"),"ô","o"),"õ","o"),"ú","u"),"ç","c"),"-"," ")," ","") | Z54: =IF($Z$2="","",IF(AND(ISNUMBER(SEARCH($Z$2,Y54)),OR($Z$3="",ISNUMBER(SEARCH($Z$3,Y54))),OR($Z$4="",ISNUMBER(SEARCH($Z$4,Y54)))),MAX($Z$7:Z53)+1,""))
B55: =IFERROR(IF(INDEX('Base de Preços'!$B:$B,MATCH(48,$Z$8:$Z$458,0)+1)="","",INDEX('Base de Preços'!$B:$B,MATCH(48,$Z$8:$Z$458,0)+1)),"") | C55: =IFERROR(IF(INDEX('Base de Preços'!$C:$C,MATCH(48,$Z$8:$Z$458,0)+1)="","",INDEX('Base de Preços'!$C:$C,MATCH(48,$Z$8:$Z$458,0)+1)),"") | D55: =IFERROR(IF(INDEX('Base de Preços'!$E:$E,MATCH(48,$Z$8:$Z$458,0)+1)="","",INDEX('Base de Preços'!$E:$E,MATCH(48,$Z$8:$Z$458,0)+1)),"") | E55: =IFERROR(IF(INDEX('Base de Preços'!$F:$F,MATCH(48,$Z$8:$Z$458,0)+1)="","",INDEX('Base de Preços'!$F:$F,MATCH(48,$Z$8:$Z$458,0)+1)),"") | F55: =IFERROR(HYPERLINK(INDEX('Base de Preços'!$A:$A,MATCH(48,$Z$8:$Z$458,0)+1),"Abrir oferta"),"") | Y55: =SUBSTITUTE(SUBSTITUTE(SUBSTITUTE(SUBSTITUTE(SUBSTITUTE(SUBSTITUTE(SUBSTITUTE(SUBSTITUTE(SUBSTITUTE(SUBSTITUTE(SUBSTITUTE(SUBSTITUTE(SUBSTITUTE(SUBSTITUTE(LOWER('Base de Preços'!B49&" "&'Base de Preços'!C49&" "&'Base de Preços'!D49),"á","a"),"à","a"),"ã","a"),"â","a"),"é","e"),"ê","e"),"í","i"),"ó","o"),"ô","o"),"õ","o"),"ú","u"),"ç","c"),"-"," ")," ","") | Z55: =IF($Z$2="","",IF(AND(ISNUMBER(SEARCH($Z$2,Y55)),OR($Z$3="",ISNUMBER(SEARCH($Z$3,Y55))),OR($Z$4="",ISNUMBER(SEARCH($Z$4,Y55)))),MAX($Z$7:Z54)+1,""))
B56: =IFERROR(IF(INDEX('Base de Preços'!$B:$B,MATCH(49,$Z$8:$Z$458,0)+1)="","",INDEX('Base de Preços'!$B:$B,MATCH(49,$Z$8:$Z$458,0)+1)),"") | C56: =IFERROR(IF(INDEX('Base de Preços'!$C:$C,MATCH(49,$Z$8:$Z$458,0)+1)="","",INDEX('Base de Preços'!$C:$C,MATCH(49,$Z$8:$Z$458,0)+1)),"") | D56: =IFERROR(IF(INDEX('Base de Preços'!$E:$E,MATCH(49,$Z$8:$Z$458,0)+1)="","",INDEX('Base de Preços'!$E:$E,MATCH(49,$Z$8:$Z$458,0)+1)),"") | E56: =IFERROR(IF(INDEX('Base de Preços'!$F:$F,MATCH(49,$Z$8:$Z$458,0)+1)="","",INDEX('Base de Preços'!$F:$F,MATCH(49,$Z$8:$Z$458,0)+1)),"") | F56: =IFERROR(HYPERLINK(INDEX('Base de Preços'!$A:$A,MATCH(49,$Z$8:$Z$458,0)+1),"Abrir oferta"),"") | Y56: =SUBSTITUTE(SUBSTITUTE(SUBSTITUTE(SUBSTITUTE(SUBSTITUTE(SUBSTITUTE(SUBSTITUTE(SUBSTITUTE(SUBSTITUTE(SUBSTITUTE(SUBSTITUTE(SUBSTITUTE(SUBSTITUTE(SUBSTITUTE(LOWER('Base de Preços'!B50&" "&'Base de Preços'!C50&" "&'Base de Preços'!D50),"á","a"),"à","a"),"ã","a"),"â","a"),"é","e"),"ê","e"),"í","i"),"ó","o"),"ô","o"),"õ","o"),"ú","u"),"ç","c"),"-"," ")," ","") | Z56: =IF($Z$2="","",IF(AND(ISNUMBER(SEARCH($Z$2,Y56)),OR($Z$3="",ISNUMBER(SEARCH($Z$3,Y56))),OR($Z$4="",ISNUMBER(SEARCH($Z$4,Y56)))),MAX($Z$7:Z55)+1,""))
B57: =IFERROR(IF(INDEX('Base de Preços'!$B:$B,MATCH(50,$Z$8:$Z$458,0)+1)="","",INDEX('Base de Preços'!$B:$B,MATCH(50,$Z$8:$Z$458,0)+1)),"") | C57: =IFERROR(IF(INDEX('Base de Preços'!$C:$C,MATCH(50,$Z$8:$Z$458,0)+1)="","",INDEX('Base de Preços'!$C:$C,MATCH(50,$Z$8:$Z$458,0)+1)),"") | D57: =IFERROR(IF(INDEX('Base de Preços'!$E:$E,MATCH(50,$Z$8:$Z$458,0)+1)="","",INDEX('Base de Preços'!$E:$E,MATCH(50,$Z$8:$Z$458,0)+1)),"") | E57: =IFERROR(IF(INDEX('Base de Preços'!$F:$F,MATCH(50,$Z$8:$Z$458,0)+1)="","",INDEX('Base de Preços'!$F:$F,MATCH(50,$Z$8:$Z$458,0)+1)),"") | F57: =IFERROR(HYPERLINK(INDEX('Base de Preços'!$A:$A,MATCH(50,$Z$8:$Z$458,0)+1),"Abrir oferta"),"") | Y57: =SUBSTITUTE(SUBSTITUTE(SUBSTITUTE(SUBSTITUTE(SUBSTITUTE(SUBSTITUTE(SUBSTITUTE(SUBSTITUTE(SUBSTITUTE(SUBSTITUTE(SUBSTITUTE(SUBSTITUTE(SUBSTITUTE(SUBSTITUTE(LOWER('Base de Preços'!B51&" "&'Base de Preços'!C51&" "&'Base de Preços'!D51),"á","a"),"à","a"),"ã","a"),"â","a"),"é","e"),"ê","e"),"í","i"),"ó","o"),"ô","o"),"õ","o"),"ú","u"),"ç","c"),"-"," ")," ","") | Z57: =IF($Z$2="","",IF(AND(ISNUMBER(SEARCH($Z$2,Y57)),OR($Z$3="",ISNUMBER(SEARCH($Z$3,Y57))),OR($Z$4="",ISNUMBER(SEARCH($Z$4,Y57)))),MAX($Z$7:Z56)+1,""))
B58: =IFERROR(IF(INDEX('Base de Preços'!$B:$B,MATCH(51,$Z$8:$Z$458,0)+1)="","",INDEX('Base de Preços'!$B:$B,MATCH(51,$Z$8:$Z$458,0)+1)),"") | C58: =IFERROR(IF(INDEX('Base de Preços'!$C:$C,MATCH(51,$Z$8:$Z$458,0)+1)="","",INDEX('Base de Preços'!$C:$C,MATCH(51,$Z$8:$Z$458,0)+1)),"") | D58: =IFERROR(IF(INDEX('Base de Preços'!$E:$E,MATCH(51,$Z$8:$Z$458,0)+1)="","",INDEX('Base de Preços'!$E:$E,MATCH(51,$Z$8:$Z$458,0)+1)),"") | E58: =IFERROR(IF(INDEX('Base de Preços'!$F:$F,MATCH(51,$Z$8:$Z$458,0)+1)="","",INDEX('Base de Preços'!$F:$F,MATCH(51,$Z$8:$Z$458,0)+1)),"") | F58: =IFERROR(HYPERLINK(INDEX('Base de Preços'!$A:$A,MATCH(51,$Z$8:$Z$458,0)+1),"Abrir oferta"),"") | Y58: =SUBSTITUTE(SUBSTITUTE(SUBSTITUTE(SUBSTITUTE(SUBSTITUTE(SUBSTITUTE(SUBSTITUTE(SUBSTITUTE(SUBSTITUTE(SUBSTITUTE(SUBSTITUTE(SUBSTITUTE(SUBSTITUTE(SUBSTITUTE(LOWER('Base de Preços'!B52&" "&'Base de Preços'!C52&" "&'Base de Preços'!D52),"á","a"),"à","a"),"ã","a"),"â","a"),"é","e"),"ê","e"),"í","i"),"ó","o"),"ô","o"),"õ","o"),"ú","u"),"ç","c"),"-"," ")," ","") | Z58: =IF($Z$2="","",IF(AND(ISNUMBER(SEARCH($Z$2,Y58)),OR($Z$3="",ISNUMBER(SEARCH($Z$3,Y58))),OR($Z$4="",ISNUMBER(SEARCH($Z$4,Y58)))),MAX($Z$7:Z57)+1,""))
B59: =IFERROR(IF(INDEX('Base de Preços'!$B:$B,MATCH(52,$Z$8:$Z$458,0)+1)="","",INDEX('Base de Preços'!$B:$B,MATCH(52,$Z$8:$Z$458,0)+1)),"") | C59: =IFERROR(IF(INDEX('Base de Preços'!$C:$C,MATCH(52,$Z$8:$Z$458,0)+1)="","",INDEX('Base de Preços'!$C:$C,MATCH(52,$Z$8:$Z$458,0)+1)),"") | D59: =IFERROR(IF(INDEX('Base de Preços'!$E:$E,MATCH(52,$Z$8:$Z$458,0)+1)="","",INDEX('Base de Preços'!$E:$E,MATCH(52,$Z$8:$Z$458,0)+1)),"") | E59: =IFERROR(IF(INDEX('Base de Preços'!$F:$F,MATCH(52,$Z$8:$Z$458,0)+1)="","",INDEX('Base de Preços'!$F:$F,MATCH(52,$Z$8:$Z$458,0)+1)),"") | F59: =IFERROR(HYPERLINK(INDEX('Base de Preços'!$A:$A,MATCH(52,$Z$8:$Z$458,0)+1),"Abrir oferta"),"") | Y59: =SUBSTITUTE(SUBSTITUTE(SUBSTITUTE(SUBSTITUTE(SUBSTITUTE(SUBSTITUTE(SUBSTITUTE(SUBSTITUTE(SUBSTITUTE(SUBSTITUTE(SUBSTITUTE(SUBSTITUTE(SUBSTITUTE(SUBSTITUTE(LOWER('Base de Preços'!B53&" "&'Base de Preços'!C53&" "&'Base de Preços'!D53),"á","a"),"à","a"),"ã","a"),"â","a"),"é","e"),"ê","e"),"í","i"),"ó","o"),"ô","o"),"õ","o"),"ú","u"),"ç","c"),"-"," ")," ","") | Z59: =IF($Z$2="","",IF(AND(ISNUMBER(SEARCH($Z$2,Y59)),OR($Z$3="",ISNUMBER(SEARCH($Z$3,Y59))),OR($Z$4="",ISNUMBER(SEARCH($Z$4,Y59)))),MAX($Z$7:Z58)+1,""))
B60: =IFERROR(IF(INDEX('Base de Preços'!$B:$B,MATCH(53,$Z$8:$Z$458,0)+1)="","",INDEX('Base de Preços'!$B:$B,MATCH(53,$Z$8:$Z$458,0)+1)),"") | C60: =IFERROR(IF(INDEX('Base de Preços'!$C:$C,MATCH(53,$Z$8:$Z$458,0)+1)="","",INDEX('Base de Preços'!$C:$C,MATCH(53,$Z$8:$Z$458,0)+1)),"") | D60: =IFERROR(IF(INDEX('Base de Preços'!$E:$E,MATCH(53,$Z$8:$Z$458,0)+1)="","",INDEX('Base de Preços'!$E:$E,MATCH(53,$Z$8:$Z$458,0)+1)),"") | E60: =IFERROR(IF(INDEX('Base de Preços'!$F:$F,MATCH(53,$Z$8:$Z$458,0)+1)="","",INDEX('Base de Preços'!$F:$F,MATCH(53,$Z$8:$Z$458,0)+1)),"") | F60: =IFERROR(HYPERLINK(INDEX('Base de Preços'!$A:$A,MATCH(53,$Z$8:$Z$458,0)+1),"Abrir oferta"),"") | Y60: =SUBSTITUTE(SUBSTITUTE(SUBSTITUTE(SUBSTITUTE(SUBSTITUTE(SUBSTITUTE(SUBSTITUTE(SUBSTITUTE(SUBSTITUTE(SUBSTITUTE(SUBSTITUTE(SUBSTITUTE(SUBSTITUTE(SUBSTITUTE(LOWER('Base de Preços'!B54&" "&'Base de Preços'!C54&" "&'Base de Preços'!D54),"á","a"),"à","a"),"ã","a"),"â","a"),"é","e"),"ê","e"),"í","i"),"ó","o"),"ô","o"),"õ","o"),"ú","u"),"ç","c"),"-"," ")," ","") | Z60: =IF($Z$2="","",IF(AND(ISNUMBER(SEARCH($Z$2,Y60)),OR($Z$3="",ISNUMBER(SEARCH($Z$3,Y60))),OR($Z$4="",ISNUMBER(SEARCH($Z$4,Y60)))),MAX($Z$7:Z59)+1,""))
B61: =IFERROR(IF(INDEX('Base de Preços'!$B:$B,MATCH(54,$Z$8:$Z$458,0)+1)="","",INDEX('Base de Preços'!$B:$B,MATCH(54,$Z$8:$Z$458,0)+1)),"") | C61: =IFERROR(IF(INDEX('Base de Preços'!$C:$C,MATCH(54,$Z$8:$Z$458,0)+1)="","",INDEX('Base de Preços'!$C:$C,MATCH(54,$Z$8:$Z$458,0)+1)),"") | D61: =IFERROR(IF(INDEX('Base de Preços'!$E:$E,MATCH(54,$Z$8:$Z$458,0)+1)="","",INDEX('Base de Preços'!$E:$E,MATCH(54,$Z$8:$Z$458,0)+1)),"") | E61: =IFERROR(IF(INDEX('Base de Preços'!$F:$F,MATCH(54,$Z$8:$Z$458,0)+1)="","",INDEX('Base de Preços'!$F:$F,MATCH(54,$Z$8:$Z$458,0)+1)),"") | F61: =IFERROR(HYPERLINK(INDEX('Base de Preços'!$A:$A,MATCH(54,$Z$8:$Z$458,0)+1),"Abrir oferta"),"") | Y61: =SUBSTITUTE(SUBSTITUTE(SUBSTITUTE(SUBSTITUTE(SUBSTITUTE(SUBSTITUTE(SUBSTITUTE(SUBSTITUTE(SUBSTITUTE(SUBSTITUTE(SUBSTITUTE(SUBSTITUTE(SUBSTITUTE(SUBSTITUTE(LOWER('Base de Preços'!B55&" "&'Base de Preços'!C55&" "&'Base de Preços'!D55),"á","a"),"à","a"),"ã","a"),"â","a"),"é","e"),"ê","e"),"í","i"),"ó","o"),"ô","o"),"õ","o"),"ú","u"),"ç","c"),"-"," ")," ","") | Z61: =IF($Z$2="","",IF(AND(ISNUMBER(SEARCH($Z$2,Y61)),OR($Z$3="",ISNUMBER(SEARCH($Z$3,Y61))),OR($Z$4="",ISNUMBER(SEARCH($Z$4,Y61)))),MAX($Z$7:Z60)+1,""))
B62: =IFERROR(IF(INDEX('Base de Preços'!$B:$B,MATCH(55,$Z$8:$Z$458,0)+1)="","",INDEX('Base de Preços'!$B:$B,MATCH(55,$Z$8:$Z$458,0)+1)),"") | C62: =IFERROR(IF(INDEX('Base de Preços'!$C:$C,MATCH(55,$Z$8:$Z$458,0)+1)="","",INDEX('Base de Preços'!$C:$C,MATCH(55,$Z$8:$Z$458,0)+1)),"") | D62: =IFERROR(IF(INDEX('Base de Preços'!$E:$E,MATCH(55,$Z$8:$Z$458,0)+1)="","",INDEX('Base de Preços'!$E:$E,MATCH(55,$Z$8:$Z$458,0)+1)),"") | E62: =IFERROR(IF(INDEX('Base de Preços'!$F:$F,MATCH(55,$Z$8:$Z$458,0)+1)="","",INDEX('Base de Preços'!$F:$F,MATCH(55,$Z$8:$Z$458,0)+1)),"") | F62: =IFERROR(HYPERLINK(INDEX('Base de Preços'!$A:$A,MATCH(55,$Z$8:$Z$458,0)+1),"Abrir oferta"),"") | Y62: =SUBSTITUTE(SUBSTITUTE(SUBSTITUTE(SUBSTITUTE(SUBSTITUTE(SUBSTITUTE(SUBSTITUTE(SUBSTITUTE(SUBSTITUTE(SUBSTITUTE(SUBSTITUTE(SUBSTITUTE(SUBSTITUTE(SUBSTITUTE(LOWER('Base de Preços'!B56&" "&'Base de Preços'!C56&" "&'Base de Preços'!D56),"á","a"),"à","a"),"ã","a"),"â","a"),"é","e"),"ê","e"),"í","i"),"ó","o"),"ô","o"),"õ","o"),"ú","u"),"ç","c"),"-"," ")," ","") | Z62: =IF($Z$2="","",IF(AND(ISNUMBER(SEARCH($Z$2,Y62)),OR($Z$3="",ISNUMBER(SEARCH($Z$3,Y62))),OR($Z$4="",ISNUMBER(SEARCH($Z$4,Y62)))),MAX($Z$7:Z61)+1,""))
B63: =IFERROR(IF(INDEX('Base de Preços'!$B:$B,MATCH(56,$Z$8:$Z$458,0)+1)="","",INDEX('Base de Preços'!$B:$B,MATCH(56,$Z$8:$Z$458,0)+1)),"") | C63: =IFERROR(IF(INDEX('Base de Preços'!$C:$C,MATCH(56,$Z$8:$Z$458,0)+1)="","",INDEX('Base de Preços'!$C:$C,MATCH(56,$Z$8:$Z$458,0)+1)),"") | D63: =IFERROR(IF(INDEX('Base de Preços'!$E:$E,MATCH(56,$Z$8:$Z$458,0)+1)="","",INDEX('Base de Preços'!$E:$E,MATCH(56,$Z$8:$Z$458,0)+1)),"") | E63: =IFERROR(IF(INDEX('Base de Preços'!$F:$F,MATCH(56,$Z$8:$Z$458,0)+1)="","",INDEX('Base de Preços'!$F:$F,MATCH(56,$Z$8:$Z$458,0)+1)),"") | F63: =IFERROR(HYPERLINK(INDEX('Base de Preços'!$A:$A,MATCH(56,$Z$8:$Z$458,0)+1),"Abrir oferta"),"") | Y63: =SUBSTITUTE(SUBSTITUTE(SUBSTITUTE(SUBSTITUTE(SUBSTITUTE(SUBSTITUTE(SUBSTITUTE(SUBSTITUTE(SUBSTITUTE(SUBSTITUTE(SUBSTITUTE(SUBSTITUTE(SUBSTITUTE(SUBSTITUTE(LOWER('Base de Preços'!B57&" "&'Base de Preços'!C57&" "&'Base de Preços'!D57),"á","a"),"à","a"),"ã","a"),"â","a"),"é","e"),"ê","e"),"í","i"),"ó","o"),"ô","o"),"õ","o"),"ú","u"),"ç","c"),"-"," ")," ","") | Z63: =IF($Z$2="","",IF(AND(ISNUMBER(SEARCH($Z$2,Y63)),OR($Z$3="",ISNUMBER(SEARCH($Z$3,Y63))),OR($Z$4="",ISNUMBER(SEARCH($Z$4,Y63)))),MAX($Z$7:Z62)+1,""))
B64: =IFERROR(IF(INDEX('Base de Preços'!$B:$B,MATCH(57,$Z$8:$Z$458,0)+1)="","",INDEX('Base de Preços'!$B:$B,MATCH(57,$Z$8:$Z$458,0)+1)),"") | C64: =IFERROR(IF(INDEX('Base de Preços'!$C:$C,MATCH(57,$Z$8:$Z$458,0)+1)="","",INDEX('Base de Preços'!$C:$C,MATCH(57,$Z$8:$Z$458,0)+1)),"") | D64: =IFERROR(IF(INDEX('Base de Preços'!$E:$E,MATCH(57,$Z$8:$Z$458,0)+1)="","",INDEX('Base de Preços'!$E:$E,MATCH(57,$Z$8:$Z$458,0)+1)),"") | E64: =IFERROR(IF(INDEX('Base de Preços'!$F:$F,MATCH(57,$Z$8:$Z$458,0)+1)="","",INDEX('Base de Preços'!$F:$F,MATCH(57,$Z$8:$Z$458,0)+1)),"") | F64: =IFERROR(HYPERLINK(INDEX('Base de Preços'!$A:$A,MATCH(57,$Z$8:$Z$458,0)+1),"Abrir oferta"),"") | Y64: =SUBSTITUTE(SUBSTITUTE(SUBSTITUTE(SUBSTITUTE(SUBSTITUTE(SUBSTITUTE(SUBSTITUTE(SUBSTITUTE(SUBSTITUTE(SUBSTITUTE(SUBSTITUTE(SUBSTITUTE(SUBSTITUTE(SUBSTITUTE(LOWER('Base de Preços'!B58&" "&'Base de Preços'!C58&" "&'Base de Preços'!D58),"á","a"),"à","a"),"ã","a"),"â","a"),"é","e"),"ê","e"),"í","i"),"ó","o"),"ô","o"),"õ","o"),"ú","u"),"ç","c"),"-"," ")," ","") | Z64: =IF($Z$2="","",IF(AND(ISNUMBER(SEARCH($Z$2,Y64)),OR($Z$3="",ISNUMBER(SEARCH($Z$3,Y64))),OR($Z$4="",ISNUMBER(SEARCH($Z$4,Y64)))),MAX($Z$7:Z63)+1,""))
B65: =IFERROR(IF(INDEX('Base de Preços'!$B:$B,MATCH(58,$Z$8:$Z$458,0)+1)="","",INDEX('Base de Preços'!$B:$B,MATCH(58,$Z$8:$Z$458,0)+1)),"") | C65: =IFERROR(IF(INDEX('Base de Preços'!$C:$C,MATCH(58,$Z$8:$Z$458,0)+1)="","",INDEX('Base de Preços'!$C:$C,MATCH(58,$Z$8:$Z$458,0)+1)),"") | D65: =IFERROR(IF(INDEX('Base de Preços'!$E:$E,MATCH(58,$Z$8:$Z$458,0)+1)="","",INDEX('Base de Preços'!$E:$E,MATCH(58,$Z$8:$Z$458,0)+1)),"") | E65: =IFERROR(IF(INDEX('Base de Preços'!$F:$F,MATCH(58,$Z$8:$Z$458,0)+1)="","",INDEX('Base de Preços'!$F:$F,MATCH(58,$Z$8:$Z$458,0)+1)),"") | F65: =IFERROR(HYPERLINK(INDEX('Base de Preços'!$A:$A,MATCH(58,$Z$8:$Z$458,0)+1),"Abrir oferta"),"") | Y65: =SUBSTITUTE(SUBSTITUTE(SUBSTITUTE(SUBSTITUTE(SUBSTITUTE(SUBSTITUTE(SUBSTITUTE(SUBSTITUTE(SUBSTITUTE(SUBSTITUTE(SUBSTITUTE(SUBSTITUTE(SUBSTITUTE(SUBSTITUTE(LOWER('Base de Preços'!B59&" "&'Base de Preços'!C59&" "&'Base de Preços'!D59),"á","a"),"à","a"),"ã","a"),"â","a"),"é","e"),"ê","e"),"í","i"),"ó","o"),"ô","o"),"õ","o"),"ú","u"),"ç","c"),"-"," ")," ","") | Z65: =IF($Z$2="","",IF(AND(ISNUMBER(SEARCH($Z$2,Y65)),OR($Z$3="",ISNUMBER(SEARCH($Z$3,Y65))),OR($Z$4="",ISNUMBER(SEARCH($Z$4,Y65)))),MAX($Z$7:Z64)+1,""))
B66: =IFERROR(IF(INDEX('Base de Preços'!$B:$B,MATCH(59,$Z$8:$Z$458,0)+1)="","",INDEX('Base de Preços'!$B:$B,MATCH(59,$Z$8:$Z$458,0)+1)),"") | C66: =IFERROR(IF(INDEX('Base de Preços'!$C:$C,MATCH(59,$Z$8:$Z$458,0)+1)="","",INDEX('Base de Preços'!$C:$C,MATCH(59,$Z$8:$Z$458,0)+1)),"") | D66: =IFERROR(IF(INDEX('Base de Preços'!$E:$E,MATCH(59,$Z$8:$Z$458,0)+1)="","",INDEX('Base de Preços'!$E:$E,MATCH(59,$Z$8:$Z$458,0)+1)),"") | E66: =IFERROR(IF(INDEX('Base de Preços'!$F:$F,MATCH(59,$Z$8:$Z$458,0)+1)="","",INDEX('Base de Preços'!$F:$F,MATCH(59,$Z$8:$Z$458,0)+1)),"") | F66: =IFERROR(HYPERLINK(INDEX('Base de Preços'!$A:$A,MATCH(59,$Z$8:$Z$458,0)+1),"Abrir oferta"),"") | Y66: =SUBSTITUTE(SUBSTITUTE(SUBSTITUTE(SUBSTITUTE(SUBSTITUTE(SUBSTITUTE(SUBSTITUTE(SUBSTITUTE(SUBSTITUTE(SUBSTITUTE(SUBSTITUTE(SUBSTITUTE(SUBSTITUTE(SUBSTITUTE(LOWER('Base de Preços'!B60&" "&'Base de Preços'!C60&" "&'Base de Preços'!D60),"á","a"),"à","a"),"ã","a"),"â","a"),"é","e"),"ê","e"),"í","i"),"ó","o"),"ô","o"),"õ","o"),"ú","u"),"ç","c"),"-"," ")," ","") | Z66: =IF($Z$2="","",IF(AND(ISNUMBER(SEARCH($Z$2,Y66)),OR($Z$3="",ISNUMBER(SEARCH($Z$3,Y66))),OR($Z$4="",ISNUMBER(SEARCH($Z$4,Y66)))),MAX($Z$7:Z65)+1,""))
B67: =IFERROR(IF(INDEX('Base de Preços'!$B:$B,MATCH(60,$Z$8:$Z$458,0)+1)="","",INDEX('Base de Preços'!$B:$B,MATCH(60,$Z$8:$Z$458,0)+1)),"") | C67: =IFERROR(IF(INDEX('Base de Preços'!$C:$C,MATCH(60,$Z$8:$Z$458,0)+1)="","",INDEX('Base de Preços'!$C:$C,MATCH(60,$Z$8:$Z$458,0)+1)),"") | D67: =IFERROR(IF(INDEX('Base de Preços'!$E:$E,MATCH(60,$Z$8:$Z$458,0)+1)="","",INDEX('Base de Preços'!$E:$E,MATCH(60,$Z$8:$Z$458,0)+1)),"") | E67: =IFERROR(IF(INDEX('Base de Preços'!$F:$F,MATCH(60,$Z$8:$Z$458,0)+1)="","",INDEX('Base de Preços'!$F:$F,MATCH(60,$Z$8:$Z$458,0)+1)),"") | F67: =IFERROR(HYPERLINK(INDEX('Base de Preços'!$A:$A,MATCH(60,$Z$8:$Z$458,0)+1),"Abrir oferta"),"") | Y67: =SUBSTITUTE(SUBSTITUTE(SUBSTITUTE(SUBSTITUTE(SUBSTITUTE(SUBSTITUTE(SUBSTITUTE(SUBSTITUTE(SUBSTITUTE(SUBSTITUTE(SUBSTITUTE(SUBSTITUTE(SUBSTITUTE(SUBSTITUTE(LOWER('Base de Preços'!B61&" "&'Base de Preços'!C61&" "&'Base de Preços'!D61),"á","a"),"à","a"),"ã","a"),"â","a"),"é","e"),"ê","e"),"í","i"),"ó","o"),"ô","o"),"õ","o"),"ú","u"),"ç","c"),"-"," ")," ","") | Z67: =IF($Z$2="","",IF(AND(ISNUMBER(SEARCH($Z$2,Y67)),OR($Z$3="",ISNUMBER(SEARCH($Z$3,Y67))),OR($Z$4="",ISNUMBER(SEARCH($Z$4,Y67)))),MAX($Z$7:Z66)+1,""))
Y68: =SUBSTITUTE(SUBSTITUTE(SUBSTITUTE(SUBSTITUTE(SUBSTITUTE(SUBSTITUTE(SUBSTITUTE(SUBSTITUTE(SUBSTITUTE(SUBSTITUTE(SUBSTITUTE(SUBSTITUTE(SUBSTITUTE(SUBSTITUTE(LOWER('Base de Preços'!B62&" "&'Base de Preços'!C62&" "&'Base de Preços'!D62),"á","a"),"à","a"),"ã","a"),"â","a"),"é","e"),"ê","e"),"í","i"),"ó","o"),"ô","o"),"õ","o"),"ú","u"),"ç","c"),"-"," ")," ","") | Z68: =IF($Z$2="","",IF(AND(ISNUMBER(SEARCH($Z$2,Y68)),OR($Z$3="",ISNUMBER(SEARCH($Z$3,Y68))),OR($Z$4="",ISNUMBER(SEARCH($Z$4,Y68)))),MAX($Z$7:Z67)+1,""))
Y69: =SUBSTITUTE(SUBSTITUTE(SUBSTITUTE(SUBSTITUTE(SUBSTITUTE(SUBSTITUTE(SUBSTITUTE(SUBSTITUTE(SUBSTITUTE(SUBSTITUTE(SUBSTITUTE(SUBSTITUTE(SUBSTITUTE(SUBSTITUTE(LOWER('Base de Preços'!B63&" "&'Base de Preços'!C63&" "&'Base de Preços'!D63),"á","a"),"à","a"),"ã","a"),"â","a"),"é","e"),"ê","e"),"í","i"),"ó","o"),"ô","o"),"õ","o"),"ú","u"),"ç","c"),"-"," ")," ","") | Z69: =IF($Z$2="","",IF(AND(ISNUMBER(SEARCH($Z$2,Y69)),OR($Z$3="",ISNUMBER(SEARCH($Z$3,Y69))),OR($Z$4="",ISNUMBER(SEARCH($Z$4,Y69)))),MAX($Z$7:Z68)+1,""))
Y70: =SUBSTITUTE(SUBSTITUTE(SUBSTITUTE(SUBSTITUTE(SUBSTITUTE(SUBSTITUTE(SUBSTITUTE(SUBSTITUTE(SUBSTITUTE(SUBSTITUTE(SUBSTITUTE(SUBSTITUTE(SUBSTITUTE(SUBSTITUTE(LOWER('Base de Preços'!B64&" "&'Base de Preços'!C64&" "&'Base de Preços'!D64),"á","a"),"à","a"),"ã","a"),"â","a"),"é","e"),"ê","e"),"í","i"),"ó","o"),"ô","o"),"õ","o"),"ú","u"),"ç","c"),"-"," ")," ","") | Z70: =IF($Z$2="","",IF(AND(ISNUMBER(SEARCH($Z$2,Y70)),OR($Z$3="",ISNUMBER(SEARCH($Z$3,Y70))),OR($Z$4="",ISNUMBER(SEARCH($Z$4,Y70)))),MAX($Z$7:Z69)+1,""))
Y71: =SUBSTITUTE(SUBSTITUTE(SUBSTITUTE(SUBSTITUTE(SUBSTITUTE(SUBSTITUTE(SUBSTITUTE(SUBSTITUTE(SUBSTITUTE(SUBSTITUTE(SUBSTITUTE(SUBSTITUTE(SUBSTITUTE(SUBSTITUTE(LOWER('Base de Preços'!B65&" "&'Base de Preços'!C65&" "&'Base de Preços'!D65),"á","a"),"à","a"),"ã","a"),"â","a"),"é","e"),"ê","e"),"í","i"),"ó","o"),"ô","o"),"õ","o"),"ú","u"),"ç","c"),"-"," ")," ","") | Z71: =IF($Z$2="","",IF(AND(ISNUMBER(SEARCH($Z$2,Y71)),OR($Z$3="",ISNUMBER(SEARCH($Z$3,Y71))),OR($Z$4="",ISNUMBER(SEARCH($Z$4,Y71)))),MAX($Z$7:Z70)+1,""))
Y72: =SUBSTITUTE(SUBSTITUTE(SUBSTITUTE(SUBSTITUTE(SUBSTITUTE(SUBSTITUTE(SUBSTITUTE(SUBSTITUTE(SUBSTITUTE(SUBSTITUTE(SUBSTITUTE(SUBSTITUTE(SUBSTITUTE(SUBSTITUTE(LOWER('Base de Preços'!B66&" "&'Base de Preços'!C66&" "&'Base de Preços'!D66),"á","a"),"à","a"),"ã","a"),"â","a"),"é","e"),"ê","e"),"í","i"),"ó","o"),"ô","o"),"õ","o"),"ú","u"),"ç","c"),"-"," ")," ","") | Z72: =IF($Z$2="","",IF(AND(ISNUMBER(SEARCH($Z$2,Y72)),OR($Z$3="",ISNUMBER(SEARCH($Z$3,Y72))),OR($Z$4="",ISNUMBER(SEARCH($Z$4,Y72)))),MAX($Z$7:Z71)+1,""))
Y73: =SUBSTITUTE(SUBSTITUTE(SUBSTITUTE(SUBSTITUTE(SUBSTITUTE(SUBSTITUTE(SUBSTITUTE(SUBSTITUTE(SUBSTITUTE(SUBSTITUTE(SUBSTITUTE(SUBSTITUTE(SUBSTITUTE(SUBSTITUTE(LOWER('Base de Preços'!B67&" "&'Base de Preços'!C67&" "&'Base de Preços'!D67),"á","a"),"à","a"),"ã","a"),"â","a"),"é","e"),"ê","e"),"í","i"),"ó","o"),"ô","o"),"õ","o"),"ú","u"),"ç","c"),"-"," ")," ","") | Z73: =IF($Z$2="","",IF(AND(ISNUMBER(SEARCH($Z$2,Y73)),OR($Z$3="",ISNUMBER(SEARCH($Z$3,Y73))),OR($Z$4="",ISNUMBER(SEARCH($Z$4,Y73)))),MAX($Z$7:Z72)+1,""))
Y74: =SUBSTITUTE(SUBSTITUTE(SUBSTITUTE(SUBSTITUTE(SUBSTITUTE(SUBSTITUTE(SUBSTITUTE(SUBSTITUTE(SUBSTITUTE(SUBSTITUTE(SUBSTITUTE(SUBSTITUTE(SUBSTITUTE(SUBSTITUTE(LOWER('Base de Preços'!B68&" "&'Base de Preços'!C68&" "&'Base de Preços'!D68),"á","a"),"à","a"),"ã","a"),"â","a"),"é","e"),"ê","e"),"í","i"),"ó","o"),"ô","o"),"õ","o"),"ú","u"),"ç","c"),"-"," ")," ","") | Z74: =IF($Z$2="","",IF(AND(ISNUMBER(SEARCH($Z$2,Y74)),OR($Z$3="",ISNUMBER(SEARCH($Z$3,Y74))),OR($Z$4="",ISNUMBER(SEARCH($Z$4,Y74)))),MAX($Z$7:Z73)+1,""))
Y75: =SUBSTITUTE(SUBSTITUTE(SUBSTITUTE(SUBSTITUTE(SUBSTITUTE(SUBSTITUTE(SUBSTITUTE(SUBSTITUTE(SUBSTITUTE(SUBSTITUTE(SUBSTITUTE(SUBSTITUTE(SUBSTITUTE(SUBSTITUTE(LOWER('Base de Preços'!B69&" "&'Base de Preços'!C69&" "&'Base de Preços'!D69),"á","a"),"à","a"),"ã","a"),"â","a"),"é","e"),"ê","e"),"í","i"),"ó","o"),"ô","o"),"õ","o"),"ú","u"),"ç","c"),"-"," ")," ","") | Z75: =IF($Z$2="","",IF(AND(ISNUMBER(SEARCH($Z$2,Y75)),OR($Z$3="",ISNUMBER(SEARCH($Z$3,Y75))),OR($Z$4="",ISNUMBER(SEARCH($Z$4,Y75)))),MAX($Z$7:Z74)+1,""))
Y76: =SUBSTITUTE(SUBSTITUTE(SUBSTITUTE(SUBSTITUTE(SUBSTITUTE(SUBSTITUTE(SUBSTITUTE(SUBSTITUTE(SUBSTITUTE(SUBSTITUTE(SUBSTITUTE(SUBSTITUTE(SUBSTITUTE(SUBSTITUTE(LOWER('Base de Preços'!B70&" "&'Base de Preços'!C70&" "&'Base de Preços'!D70),"á","a"),"à","a"),"ã","a"),"â","a"),"é","e"),"ê","e"),"í","i"),"ó","o"),"ô","o"),"õ","o"),"ú","u"),"ç","c"),"-"," ")," ","") | Z76: =IF($Z$2="","",IF(AND(ISNUMBER(SEARCH($Z$2,Y76)),OR($Z$3="",ISNUMBER(SEARCH($Z$3,Y76))),OR($Z$4="",ISNUMBER(SEARCH($Z$4,Y76)))),MAX($Z$7:Z75)+1,""))
Y77: =SUBSTITUTE(SUBSTITUTE(SUBSTITUTE(SUBSTITUTE(SUBSTITUTE(SUBSTITUTE(SUBSTITUTE(SUBSTITUTE(SUBSTITUTE(SUBSTITUTE(SUBSTITUTE(SUBSTITUTE(SUBSTITUTE(SUBSTITUTE(LOWER('Base de Preços'!B71&" "&'Base de Preços'!C71&" "&'Base de Preços'!D71),"á","a"),"à","a"),"ã","a"),"â","a"),"é","e"),"ê","e"),"í","i"),"ó","o"),"ô","o"),"õ","o"),"ú","u"),"ç","c"),"-"," ")," ","") | Z77: =IF($Z$2="","",IF(AND(ISNUMBER(SEARCH($Z$2,Y77)),OR($Z$3="",ISNUMBER(SEARCH($Z$3,Y77))),OR($Z$4="",ISNUMBER(SEARCH($Z$4,Y77)))),MAX($Z$7:Z76)+1,""))
Y78: =SUBSTITUTE(SUBSTITUTE(SUBSTITUTE(SUBSTITUTE(SUBSTITUTE(SUBSTITUTE(SUBSTITUTE(SUBSTITUTE(SUBSTITUTE(SUBSTITUTE(SUBSTITUTE(SUBSTITUTE(SUBSTITUTE(SUBSTITUTE(LOWER('Base de Preços'!B72&" "&'Base de Preços'!C72&" "&'Base de Preços'!D72),"á","a"),"à","a"),"ã","a"),"â","a"),"é","e"),"ê","e"),"í","i"),"ó","o"),"ô","o"),"õ","o"),"ú","u"),"ç","c"),"-"," ")," ","") | Z78: =IF($Z$2="","",IF(AND(ISNUMBER(SEARCH($Z$2,Y78)),OR($Z$3="",ISNUMBER(SEARCH($Z$3,Y78))),OR($Z$4="",ISNUMBER(SEARCH($Z$4,Y78)))),MAX($Z$7:Z77)+1,""))
Y79: =SUBSTITUTE(SUBSTITUTE(SUBSTITUTE(SUBSTITUTE(SUBSTITUTE(SUBSTITUTE(SUBSTITUTE(SUBSTITUTE(SUBSTITUTE(SUBSTITUTE(SUBSTITUTE(SUBSTITUTE(SUBSTITUTE(SUBSTITUTE(LOWER('Base de Preços'!B73&" "&'Base de Preços'!C73&" "&'Base de Preços'!D73),"á","a"),"à","a"),"ã","a"),"â","a"),"é","e"),"ê","e"),"í","i"),"ó","o"),"ô","o"),"õ","o"),"ú","u"),"ç","c"),"-"," ")," ","") | Z79: =IF($Z$2="","",IF(AND(ISNUMBER(SEARCH($Z$2,Y79)),OR($Z$3="",ISNUMBER(SEARCH($Z$3,Y79))),OR($Z$4="",ISNUMBER(SEARCH($Z$4,Y79)))),MAX($Z$7:Z78)+1,""))
... Y458: =SUBSTITUTE(SUBSTITUTE(SUBSTITUTE(SUBSTITUTE(SUBSTITUTE(SUBSTITUTE(SUBSTITUTE(SUBSTITUTE(SUBSTITUTE(SUBSTITUTE(SUBSTITUTE(SUBSTITUTE(SUBSTITUTE(SUBSTITUTE(LOWER('Base de Preços'!B452&" "&'Base de Preços'!C452&" "&'Base de Preços'!D452),"á","a"),"à","a"),"ã","a"),"â","a"),"é","e"),"ê","e"),"í","i"),"ó","o"),"ô","o"),"õ","o"),"ú","u"),"ç","c"),"-"," ")," ","") | Z458: =IF($Z$2="","",IF(AND(ISNUMBER(SEARCH($Z$2,Y458)),OR($Z$3="",ISNUMBER(SEARCH($Z$3,Y458))),OR($Z$4="",ISNUMBER(SEARCH($Z$4,Y458)))),MAX($Z$7:Z457)+1,""))

Sheet Base de Preços
A1: Link | B1: Nome do produto | C1: Categoria | D1: Loja | E1: Menor preço visto (com cupom) | F1: Vale a pena comprar até
A2: https://link.amazon/B0aYorDEH | B2: Power Whey Chocolate 15g | C2: 3 Corações | D2: Amazon | E2: 59.18 | F2: 78
A3: https://link.amazon/B02fqm9rS | B3: Power Whey Clássico 15g | C3: 3 Corações | D3: Amazon | E3: 60.47 | F3: 79
A4: https://link.amazon/B06yUQaaT | B4: Power Whey Cookies n'Cream 15g | C4: 3 Corações | D4: Amazon | E4: 65.48 | F4: 79
A5: https://link.amazon/B02rDCCA6 | B5: Power Whey Doce de Leite 15g | C5: 3 Corações | D5: Amazon | E5: 70.19 | F5: 78
A6: https://link.amazon/B09hamBn6 | B6: Power Whey Morango 15g | C6: 3 Corações | D6: Amazon | E6: 101.88 | F6: 78
A7: https://link.amazon/B03cKDMr4 | B7: 3VS Chocolate & Avelã | C7: 3VS | D7: Amazon | E7: 59.58 | F7: 39
A8: https://link.amazon/B0gMmNmxK | B8: 3VS Chocolate Branco | C8: 3VS | D8: Amazon | E8: 43 | F8: 39
A9: https://link.amazon/B0hyJfCf6 | B9: 3VS Chocolate Caramelo | C9: 3VS | D9: Amazon | E9: 59.58 | F9: 39
A10: https://link.amazon/B00o5X37H | B10: 3VS Cookies e Cream | C10: 3VS | D10: Amazon | E10: 43 | F10: 39
A11: https://link.amazon/B06VCsB9s | B11: 3VS Strawberry CheeseCake | C11: 3VS | D11: Amazon | E11: 69 | F11: 39
A12: https://link.amazon/B0dVDn0BW | B12: 3VS Strawberry ShortCake | C12: 3VS | D12: Amazon | E12: 38.7 | F12: 39
A13: https://link.amazon/B0bzSYQW9 | B13: Biscoito Bauducco Kit 100 saches | C13: Balduco | D13: Amazon | E13: 75 | F13: 71
... A79: https://link.amazon/B0ctyjnyV | B79: Bombom crocante | C79: BOLD | D79: Amazon | E79: 87.3 | F79: 86
A80: https://link.amazon/B06xyVash | B80: Brownie & Crispies | C80: BOLD | D80: Amazon | F80: 86
A81: https://link.amazon/B09DQM3SP | B81: Café & Doce de Leite | C81: BOLD | D81: Amazon | F81: 86
A82: https://link.amazon/B09ynnQiq | B82: Caixa Mista | C82: BOLD | D82: Amazon | E82: 123 | F82: 86
A83: https://link.amazon/B089mxvF4 | B83: Caixa Mista 10g | C83: BOLD | D83: Amazon | E83: 84.6 | F83: 86
A84: https://link.amazon/B0iUrrIwl | B84: Caixa Mista ZERO | C84: BOLD | D84: Amazon | E84: 123 | F84: 86
A85: https://link.amazon/B0gq5jJoz | B85: Cookies Black | C85: BOLD | D85: Amazon | E85: 134 | F85: 86
A86: https://link.amazon/B0j6bGBdh | B86: Cookies e Cream | C86: BOLD | D86: Amazon | E86: 91.8 | F86: 86
A87: https://link.amazon/B05bRCdAL | B87: Crunch Brigadeiro | C87: BOLD | D87: Amazon | E87: 117.73 | F87: 86
A88: https://link.amazon/B0fbKv32n | B88: Crunch Caixa Mista | C88: BOLD | D88: Amazon | E88: 121.5 | F88: 86
A89: https://link.amazon/B0hBg8a1r | B89: Crunch Cookies & Cream | C89: BOLD | D89: Amazon | E89: 132 | F89: 86
A90: https://link.amazon/B034xb6aQ | B90: Crunch Morango & Chantilly | C90: BOLD | D90: Amazon | E90: 130.41 | F90: 86
A91: https://link.amazon/B09JjRJXa | B91: Doce de Leite | C91: BOLD | D91: Amazon | E91: 88 | F91: 86
A92: https://link.amazon/B0ev8azv9 | B92: Leite & Avelã | C92: BOLD | D92: Amazon | E92: 168 | F92: 86
A93: https://link.amazon/B09a3Y1io | B93: Paçoca & Chocolate | C93: BOLD | D93: Amazon | F93: 86
A94: https://link.amazon/B09EvoAUE | B94: Speculoos 10g | C94: BOLD | D94: Amazon | E94: 103 | F94: 86
A95: https://link.amazon/B0gcav2Md | B95: Trufa de Chocolate | C95: BOLD | D95: Amazon | E95: 126 | F95: 86
A96: https://link.amazon/B0hi1owpt | B96: Trufa de Chocolate 10g | C96: BOLD | D96: Amazon | E96: 107.1 | F96: 86
A97: https://link.amazon/B06kakUDC | B97: Tube Avela | C97: BOLD | D97: Amazon | E97: 81 | F97: 86
A98: https://link.amazon/B0ebu3BVc | B98: Tube Pistache | C98: BOLD | D98: Amazon | E98: 92 | F98: 86
A99: https://link.amazon/B064cN9lI | B99: Amstel 350ml 12 un | C99: Cerveja | D99: Amazon | E99: 39 | F99: 36
A100: https://link.amazon/B09fuqOpc | B100: Amstel 473ml 12 un | C100: Cerveja | D100: Amazon | E100: 50 | F100: 40
A101: https://link.amazon/B05dp0syW | B101: Amstel Ultra 269ml 12un | C101: Cerveja | D101: Amazon | E101: 42 | F101: 38
A102: https://link.amazon/B02CFpyNZ | B102: Budweiser 350ml 12un | C102: Cerveja | D102: Amazon | E102: 45 | F102: 41
A103: https://link.amazon/B0fs7N7mU | B103: Corona, Lata 473ml 12un | C103: Cerveja | D103: Amazon | E103: 89 | F103: 81
A104: https://link.amazon/B0bO5LLMC | B104: Eisenbahn 350ml 12 latas | C104: Cerveja | D104: Amazon | E104: 41 | F104: 37
A105: https://link.amazon/B0haJTady | B105: Eisenbahn Preta 350ml 12 latas | C105: Cerveja | D105: Amazon | E105: 45.26 | F105: 45
... A369: https://link.amazon/B0hhbsYu6 | B369: Atlhetica Morango | C369: Pre-treino | D369: Amazon | E369: 21.8 | F369: 21
A370: https://link.amazon/B07oQuWl2 | B370: Gel C30 Salted Caramel | C370: Pre-treino | D370: Amazon | F370: 41
A371: https://link.amazon/B03T4OyMx | B371: Gel C30 Banana | C371: Pre-treino | D371: Amazon | E371: 55.1 | F371: 41
A372: https://link.amazon/B07XyRK0e | B372: Gel C30 Chocolate | C372: Pre-treino | D372: Amazon | E372: 34 | F372: 41
A373: https://link.amazon/B03PooLHg | B373: Gel C30 Duble expresso | C373: Pre-treino | D373: Amazon | E373: 43.32 | F373: 41
A374: https://link.amazon/B03haThbx | B374: Gel C30 Neutro | C374: Pre-treino | D374: Amazon | E374: 54.14 | F374: 41
A375: https://link.amazon/B03xkI5QD | B375: Gel C30 pink Limonade | C375: Pre-treino | D375: Amazon | E375: 52.34 | F375: 41
A376: https://link.amazon/B0dD3so4x | B376: Hydra blast | C376: Pre-treino | D376: Amazon | E376: 58 | F376: 54
A377: https://link.amazon/B0jbxegQD | B377: Hórus Gel | C377: Pre-treino | D377: Amazon | E377: 41.21 | F377: 39
A378: https://link.amazon/B0eoir2aP | B378: Prohibido Algodao doce | C378: Pre-treino | D378: Amazon | E378: 53.91 | F378: 54
A379: https://link.amazon/B0jhXhCrj | B379: Prohibido Citrus | C379: Pre-treino | D379: Amazon | E379: 53.91 | F379: 54
A380: https://link.amazon/B03RsUFoT | B380: Prohibido Maça Verde | C380: Pre-treino | D380: Amazon | E380: 53.91 | F380: 54
A381: https://link.amazon/B0i5UPd03 | B381: Prohibido Morango | C381: Pre-treino | D381: Amazon | E381: 49 | F381: 54
A382: https://link.amazon/B0bWZy0a9 | B382: Pré-Treino Ka`awi | C382: Pre-treino | D382: Amazon | E382: 59.75 | F382: 56
... A452: https://link.amazon/B04zYXTKq | B452: Morango 15g (24un) | C452: Yo Pro | D452: Amazon | E452: 147.47 | F452: 145

Sheet Como usar
B1: Como usar — Vending Machine
B2: Buscar | C2: Digite parte do nome na caixa dourada. Pode usar mais de uma palavra, em qualquer ordem.
B3: Menor preço visto | C3: O menor preço FINAL (já com os cupons) que vimos desse produto.
B4: Vale a pena comprar até | C4: Se a oferta estiver nesse preço ou abaixo, vale a pena comprar.
B5: Atualização | C5: Atualizada em 28/09/2026. Sai uma nova toda semana.
B6: Contato | C6: iSee Hub · iseehub.com.br
